{"text_format":"1","workbook":"xlsx","n_sheets":12,"sheets":["FABF","Disclaimer","Assumptions","Calculation","Estimate Program","53-23","Ranks","Step 11 Salaries","Step 10 Salaries","Step 9 Salaries","Step 8 Salaries","Step 7 Salaries"],"not_rendered":{"charts":0,"images":0,"macros":1,"external_links":1,"defined_names":10,"comments":1,"pivot_tables":0},"unopened":[],"bounds":{"document_bytes":16777216,"sheet_cells":100000,"rows_first":2000,"rows_last":500,"rows_between":2000,"halvings":0,"cell_chars":16384,"cell_head_chars":4096},"cells_cut":0,"cells_raw":0,"read":"whole","date_system":"1900"}

{"sheet":"FABF","index":0,"n_rows":613,"n_cols":35,"rows_kept":613,"cut":false,"hidden":false,"merged":[[150,3,150,7],[150,11,150,15],[96,4,96,9],[96,10,96,15],[96,16,96,21],[137,20,137,21],[138,20,138,21],[139,20,139,21],[140,20,140,21],[96,28,96,33],[78,4,78,5],[79,4,79,5],[80,4,80,5],[81,4,81,5],[82,4,82,5],[83,4,83,5],[84,4,84,5],[85,4,85,5],[86,4,86,5],[87,4,87,5],[89,4,89,5],[90,4,90,5],[91,4,91,5],[92,4,92,5],[96,22,96,27],[25,2,26,10],[12,1,12,10],[13,1,13,10],[14,1,14,10],[88,4,88,5],[24,2,24,3],[22,1,22,10],[28,1,28,10],[38,2,39,10],[53,8,53,9],[53,2,53,7],[44,2,44,10],[46,7,46,8],[74,1,74,10],[63,1,65,10],[75,8,75,9],[2,1,2,10],[4,1,5,10],[7,1,8,10],[10,1,11,10],[19,1,20,10],[15,1,15,10],[16,1,16,10],[17,1,17,10],[18,1,18,10],[75,2,75,7],[56,1,58,10],[60,1,61,10],[69,8,69,10],[70,8,70,10],[71,8,71,10]]}
[null,{"$f":"[1]!wwsSetup(\"iterations\",6)","v":{"$error":"#NAME?"}},{"$f":"[1]!wwsSetup(\"IncludeScript\", \"fabf_calculate.js\")","v":{"$error":"#NAME?"}},null,null,null,null,{"$f":"[1]!wwsSetup(\"exportNames\", TRUE)","v":{"$error":"#NAME?"}}]
[{"$f":"[1]!wwsHide()","v":{"$error":"#NAME?"}},"Disclaimer Tab"]
[null,"Firemen's Annuity and Benefit Fund of Chicago Retirement Benefit Estimator"]
[]
[null,"The amount of the ESTIMATED retirement annuity is an approximation.  Final computation will be made at the time your application for annuity is processed.  Under no circumstances is this estimate to be considered as a guarantee of future benefits."]
[]
[]
[null,"Unlike the final benefit calculation performed at the time of retirement based on records of the Fund, this calculation is based solely on the input provided by the user.  Therefore, the accuracy of the estimate is entirely dependent upon the information entered by the user."]
[]
[]
[null,"When the information provided accurately reflects the rank and service history of the participant, the estimate will be comparable to an estimate produced by a Fund benefit analyst, with the following exceptions:"]
[]
[null,"- Participants with multiple periods of employment with the Chicago Fire Department"]
[null,"- Participants terminating with less than 20 years of service"]
[null,"- Participants that purchased additional service creidts"]
[null,"- Participants with full months of time loss"]
[null,"- Participants holding exempt rank positions"]
[null,"- Participants whose disability started before January 16, 2004"]
[null,"- Participants beginning on or after January 1, 2011"]
[null,"Calculations for participants in these situations require accurate period-by-period contribution history as well as other additional personal information.  These cases are beyond the scope of this benefit estimation worksheet at this time."]
[]
[]
[null,"To receive an estimate of benefits based on the participant's information on file with the Fund, please contact us."]
[null,"Phone:","(312) 726-5823"]
[null,"Email:","info@fabf.org"]
[null,null,"Please provide your name, birthdate, the last 4 digits of your social security number and estimated retirement date in the email and a letter with your estimated benefits will be mailed to the address on file with the Fund."]
[]
[]
[null,{"$f":"[1]!wwsCodeButton(\"Assumptions\",\"show_assumptions()\")","v":{"$error":"#NAME?"}}]
[{"$f":"[1]!wwsHide()","v":{"$error":"#NAME?"}},"Assumptions Tab"]
[{"$f":"[1]!wwsHide()","v":{"$error":"#NAME?"}}]
[{"$f":"[1]!wwsHide()","v":{"$error":"#NAME?"}},null,"Enter the following information:"]
[{"$f":"[1]!wwsHide()","v":{"$error":"#NAME?"}},null,null,null,"Year","Month","Day",null,null,null,null,null,"Date","Step"]
[{"$f":"[1]!wwsHide()","v":{"$error":"#NAME?"}},"i","Date of Birth",null,{"$f":"IF(H34>0,YEAR(H34),\" \")","v":{"$error":"#NAME?"}},{"$f":"IF(H34>0,MONTH(H34),\" \")","v":{"$error":"#NAME?"}},{"$f":"IF(H34>0,DAY(H34),\" \")","v":{"$error":"#NAME?"}},{"$f":"[1]!wwsInput(\"\")","v":{"$error":"#NAME?"}},null,null,null,null,{"$f":"DATE(YEAR(D36)+10,MONTH(D36),DAY(D36))","v":{"$error":"#NAME?"}},7]
[{"$f":"[1]!wwsHide()","v":{"$error":"#NAME?"}},"i","Date of Hire",{"$f":"DATE(YEAR(H35),(F35),(G35))","v":{"$error":"#NAME?"}},{"$f":"IF(H35>0,YEAR(H35),\" \")","v":{"$error":"#NAME?"}},{"$f":"IF(DAY(H35)>16,MONTH(H35)+1,MONTH(H35))","v":{"$error":"#NAME?"}},{"$f":"IF(DAY(H35)>16,1,IF(DAY(H35)>1,16,IF(DAY(H35)=1,1,IF(DAY(H35)=16,16))))","v":{"$error":"#NAME?"}},{"$f":"[1]!wwsInput(\"\")","v":{"$error":"#NAME?"}},null,null,null,null,{"$f":"DATE(YEAR(M34)+5,MONTH(M34),DAY(M34))","v":{"$error":"#NAME?"}},{"$f":"N34+1","v":8}]
[{"$f":"[1]!wwsHide()","v":{"$error":"#NAME?"}},null,"Continuous Service Date (CFD)",{"$f":"DATE(YEAR(H36),(F36),(G36))","v":{"$error":"#NAME?"}},{"$f":"IF(H36>0,YEAR(H36),\" \")","v":{"$error":"#NAME?"}},{"$f":"IF(DAY(H36)>16,MONTH(H36)+1,MONTH(H36))","v":{"$error":"#NAME?"}},{"$f":"IF(DAY(H36)>16,1,IF(DAY(H36)>1,16,IF(DAY(H36)=1,1,IF(DAY(H36)=16,16))))","v":{"$error":"#NAME?"}},{"$f":"IF(H35>0,H35,\" \")","v":{"$error":"#NAME?"}},null,null,null,null,{"$f":"DATE(YEAR(M35)+5,MONTH(M35),DAY(M35))","v":{"$error":"#NAME?"}},{"$f":"N35+1","v":9}]
[{"$f":"[1]!wwsHide()","v":{"$error":"#NAME?"}},null,"Estimated 8 a.m. Retirement Date",null,{"$f":"IF(H37>0,YEAR(H37),\" \")","v":{"$error":"#NAME?"}},{"$f":"IF(H37>0,MONTH(H37),\" \")","v":{"$error":"#NAME?"}},{"$f":"IF(H37>0,DAY(H37),\" \")","v":{"$error":"#NAME?"}},{"$f":"[1]!wwsInput(\"\")","v":{"$error":"#NAME?"}},null,null,null,null,{"$f":"DATE(YEAR(M36)+5,MONTH(M36),DAY(M36))","v":{"$error":"#NAME?"}},{"$f":"N36+1","v":10}]
[{"$f":"[1]!wwsHide()","v":{"$error":"#NAME?"}},null,null,null,null,null,null,null,null,null,null,null,{"$f":"IF(YEAR(D36)<1977,DATE(YEAR(M37)+5,MONTH(M37),DAY(M37)),DATEVALUE(\"1/1/2099\"))","v":{"$error":"#NAME?"}},{"$f":"N37+1","v":11}]
[{"$f":"[1]!wwsHide()","v":{"$error":"#NAME?"}},null,"Service time lost due to unpaid leaves of absence, suspensions, or any other periods in which contributions were not fully paid are deducted form the total service credit.  If a participant had a full month of time loss in the last 10 years, please contact the Fund for an estimate."]
[{"$f":"[1]!wwsHide()","v":{"$error":"#NAME?"}}]
[{"$f":"[1]!wwsHide()","v":{"$error":"#NAME?"}}]
[{"$f":"[1]!wwsHide()","v":{"$error":"#NAME?"}},null,null,null,null,null,null,"Years","Months","Days"]
[{"$f":"[1]!wwsHide()","v":{"$error":"#NAME?"}},"i","Time Loss",null,null,null,null,{"$f":"[1]!wwsInput(0)","v":{"$error":"#NAME?"}},{"$f":"[1]!wwsInput(0)","v":{"$error":"#NAME?"}},{"$f":"[1]!wwsInput(0)","v":{"$error":"#NAME?"}}]
[{"$f":"[1]!wwsHide()","v":{"$error":"#NAME?"}}]
[{"$f":"[1]!wwsHide()","v":{"$error":"#NAME?"}},null,"Civil service jobs/titles held in the 4 years prior to estimated retirement date"]
[{"$f":"[1]!wwsHide()","v":{"$error":"#NAME?"}}]
[{"$f":"[1]!wwsHide()","v":{"$error":"#NAME?"}},"i","Rank","Code","Year","Month","Day","Hire/Promotion Date",null,null,null,null,"Date","Rank"]
[{"$f":"[1]!wwsHide()","v":{"$error":"#NAME?"}},null,{"$f":"[1]!wwsDropDown()","v":{"$error":"#NAME?"}},{"$f":"IF(C48<>\"\",VLOOKUP(C48,$B$201:$C$222,2,FALSE),\"N/A\")","v":{"$error":"#NAME?"}},{"$f":"IF(H48>0,YEAR(H48),\" \")","v":{"$error":"#NAME?"}},{"$f":"IF(H48>0,MONTH(H48),\" \")","v":{"$error":"#NAME?"}},{"$f":"IF(H48>0,DAY(H48),\" \")","v":{"$error":"#NAME?"}},{"$f":"[1]!wwsInput(\"\")","v":{"$error":"#NAME?"}},null,null,null,null,{"$f":"IF(H48<>\"\",DATE(E48,F48,G48),DATEVALUE(\"1/1/2099\"))","v":{"$error":"#NAME?"}},{"$f":"D48","v":{"$error":"#NAME?"}}]
[{"$f":"[1]!wwsHide()","v":{"$error":"#NAME?"}},null,{"$f":"[1]!wwsDropDown()","v":{"$error":"#NAME?"}},{"$f":"IF(C49<>\"\",VLOOKUP(C49,$B$201:$C$222,2,FALSE),\"N/A\")","v":{"$error":"#NAME?"}},{"$f":"IF(H49>0,YEAR(H49),\" \")","v":{"$error":"#NAME?"}},{"$f":"IF(H49>0,MONTH(H49),\" \")","v":{"$error":"#NAME?"}},{"$f":"IF(H49>0,DAY(H49),\" \")","v":{"$error":"#NAME?"}},{"$f":"[1]!wwsInput(\"\")","v":{"$error":"#NAME?"}},null,null,null,null,{"$f":"IF(H49<>\"\",DATE(E49,F49,G49),DATEVALUE(\"1/1/2099\"))","v":{"$error":"#NAME?"}},{"$f":"D49","v":{"$error":"#NAME?"}}]
[{"$f":"[1]!wwsHide()","v":{"$error":"#NAME?"}},null,{"$f":"[1]!wwsDropDown()","v":{"$error":"#NAME?"}},{"$f":"IF(C50<>\"\",VLOOKUP(C50,$B$201:$C$222,2,FALSE),\"N/A\")","v":{"$error":"#NAME?"}},{"$f":"IF(H50>0,YEAR(H50),\" \")","v":{"$error":"#NAME?"}},{"$f":"IF(H50>0,MONTH(H50),\" \")","v":{"$error":"#NAME?"}},{"$f":"IF(H50>0,DAY(H50),\" \")","v":{"$error":"#NAME?"}},{"$f":"[1]!wwsInput(\"\")","v":{"$error":"#NAME?"}},null,null,null,null,{"$error":"#NAME?"},{"$f":"D50","v":{"$error":"#NAME?"}}]
[{"$f":"[1]!wwsHide()","v":{"$error":"#NAME?"}},null,{"$f":"[1]!wwsDropDown()","v":{"$error":"#NAME?"}},{"$f":"IF(C51<>\"\",VLOOKUP(C51,$B$201:$C$222,2,FALSE),\"N/A\")","v":{"$error":"#NAME?"}},{"$f":"IF(H51>0,YEAR(H51),\" \")","v":{"$error":"#NAME?"}},{"$f":"IF(H51>0,MONTH(H51),\" \")","v":{"$error":"#NAME?"}},{"$f":"IF(H51>0,DAY(H51),\" \")","v":{"$error":"#NAME?"}},{"$f":"[1]!wwsInput(\"\")","v":{"$error":"#NAME?"}},null,null,null,null,{"$error":"#NAME?"},{"$f":"D51","v":{"$error":"#NAME?"}}]
[{"$f":"[1]!wwsHide()","v":{"$error":"#NAME?"}},null,{"$f":"[1]!wwsDropDown()","v":{"$error":"#NAME?"}},{"$f":"IF(C52<>\"\",VLOOKUP(C52,$B$201:$C$222,2,FALSE),\"N/A\")","v":{"$error":"#NAME?"}},{"$f":"IF(H52>0,YEAR(H52),\" \")","v":{"$error":"#NAME?"}},{"$f":"IF(H52>0,MONTH(H52),\" \")","v":{"$error":"#NAME?"}},{"$f":"IF(H52>0,DAY(H52),\" \")","v":{"$error":"#NAME?"}},{"$f":"[1]!wwsInput(\"\")","v":{"$error":"#NAME?"}},null,null,null,null,{"$error":"#NAME?"},{"$f":"D52","v":{"$error":"#NAME?"}}]
[{"$f":"[1]!wwsHide()","v":{"$error":"#NAME?"}}]
[{"$f":"[1]!wwsHide()","v":{"$error":"#NAME?"}},null,{"$f":"[1]!wwsCodeButton(\"Disclaimer\", \"wwsShowAndHide(4,29,30,54)\")","v":{"$error":"#NAME?"}},null,null,null,null,null,{"$f":"[1]!wwsCodeButton(\"Calculate\",\"fabf_calculate()\")","v":{"$error":"#NAME?"}},null,{"$f":"[1]!wwsCodeButton(\"Reset Assumptions\",\"reset_assumptions()\")","v":{"$error":"#NAME?"}}]
[{"$f":"[1]!wwsHide()","v":{"$error":"#NAME?"}},"Calculation Tab"]
[{"$f":"[1]!wwsHide()","v":{"$error":"#NAME?"}}]
[{"$f":"[1]!wwsHide()","v":{"$error":"#NAME?"}},"The amount of the ESTIMATED retirement annuity is an approximation.  Final computation will be made at the time your application for annuity is processed.  Under no circumstances is this estimate to be considered as a guarantee of future benefits."]
[{"$f":"[1]!wwsHide()","v":{"$error":"#NAME?"}}]
[{"$f":"[1]!wwsHide()","v":{"$error":"#NAME?"}}]
[{"$f":"[1]!wwsHide()","v":{"$error":"#NAME?"}}]
[{"$f":"[1]!wwsHide()","v":{"$error":"#NAME?"}},"The benefit calculated below was based on the information entered by the participant and the salaries from the contract ratified in 2014.  When a period is after the termination date of the current contract, the rates from the last available contract are used."]
[{"$f":"[1]!wwsHide()","v":{"$error":"#NAME?"}}]
[{"$f":"[1]!wwsHide()","v":{"$error":"#NAME?"}}]
[{"$f":"[1]!wwsHide()","v":{"$error":"#NAME?"}},"The salaries used for this estimate are taken from the contract between the City of Chicago and the Chicago Firefighter's Union ratified in July 2014 for ESTIMATE PURPOSES ONLY.  Please note that actual calculation and payment of retirement annuities will be based on the 2011 contract until the City of CHicago issues retroactive salary payments to eligible members and the corresponding salary information and contributions are received by the Fund."]
[{"$f":"[1]!wwsHide()","v":{"$error":"#NAME?"}}]
[{"$f":"[1]!wwsHide()","v":{"$error":"#NAME?"}}]
[{"$f":"[1]!wwsHide()","v":{"$error":"#NAME?"}}]
[{"$f":"[1]!wwsHide()","v":{"$error":"#NAME?"}},null,"8 a.m. Resignation Date",null,null,null,null,{"$f":"IF(H37>0,H37,\" \")","v":{"$error":"#NAME?"}}]
[{"$f":"[1]!wwsHide()","v":{"$error":"#NAME?"}},null,"Monthly Benefit",null,null,null,null,{"$f":"IF(T133<20,\"Less than 20 Years of Service, Please Contact the Fund for an Estimate\",Z138)","v":{"$error":"#NAME?"}}]
[{"$f":"[1]!wwsHide()","v":{"$error":"#NAME?"}},null,"Benefit Percentage",null,null,null,null,{"$f":"IF(H69=0,\" \",IF(H69=\"Less than 20 Years of Service, Please Contact the Fund for an Estimate\",\" \",IF(H69=Z133,V133,IF(H69=Z134,V134,IF(H69=Z136,V136)))))","v":{"$error":"#NAME?"}},{"$f":"IF(H70=\" \",\" \",IF(H69=Z133,\"of final average salary\",IF(H69=Z134,\"of final average salary\",IF(H69=Z136,\"of highest salary in the last ten years\"))))","v":{"$error":"#NAME?"}}]
[{"$f":"[1]!wwsHide()","v":{"$error":"#NAME?"}},null,"Increase Percentage",null,null,null,null,{"$f":"IF(H70=\" \",\" \",Z140)","v":{"$error":"#NAME?"}},{"$f":"IF(H71=\" \",\" \",\"of your monthly base annuity payment added to your annuity\")","v":{"$error":"#NAME?"}}]
[{"$f":"[1]!wwsHide()","v":{"$error":"#NAME?"}},null,"Increases Beginning",null,null,null,null,{"$f":"IF(H71=\" \",\" \",Z144 )","v":{"$error":"#NAME?"}},{"$f":"IF(H71=0.015,\"and every January 1st of each year thereafter until a total of 30% has been added during your lifetime\",IF(H71=0.03,\"and every January 1st of each year thereafter for your lifetime\",\" \"))","v":{"$error":"#NAME?"}}]
[{"$f":"[1]!wwsHide()","v":{"$error":"#NAME?"}},null,"Increases Ending",null,null,null,null,{"$f":"IF(H72=\" \",\" \",Z145)","v":{"$error":"#NAME?"}}]
[{"$f":"[1]!wwsHide()","v":{"$error":"#NAME?"}}]
[{"$f":"[1]!wwsHide()","v":{"$error":"#NAME?"}},"To receive an estimate of benefits based on the firefighter's information on file with the Fund, please contact us."]
[{"$f":"[1]!wwsHide()","v":{"$error":"#NAME?"}},null,{"$f":"[1]!wwsCodeButton(\"Disclaimer\", \"wwsShowAndHide(4,29,30,76)\")","v":{"$error":"#NAME?"}},null,null,null,null,null,{"$f":"[1]!wwsCodeButton(\"Assumptions\", \"show_assumptions()\")","v":{"$error":"#NAME?"}},null,{"$f":"[1]!wwsCodeButton(\"Print\", \"printForm('na','')\")","v":{"$error":"#NAME?"}}]
[{"$f":"[1]!wwsHide()","v":{"$error":"#NAME?"}}]
[{"$f":"[1]!wwsHide()","v":{"$error":"#NAME?"}},"Estimate Program"]
[{"$f":"[1]!wwsHide()","v":{"$error":"#NAME?"}},null,null,null,"8 a.m.",null,null,null,{"$f":"YEAR(H37)","v":{"$error":"#NAME?"}},{"$f":"MONTH(H37)","v":{"$error":"#NAME?"}},{"$f":"DAY(H37)","v":{"$error":"#NAME?"}}]
[{"$f":"[1]!wwsHide()","v":{"$error":"#NAME?"}},null,null,null,"Entrance Date",null,null,null,{"$f":"YEAR(H35)","v":{"$error":"#NAME?"}},{"$f":"MONTH(H35)","v":{"$error":"#NAME?"}},{"$f":"DAY(H35)","v":{"$error":"#NAME?"}}]
[{"$f":"[1]!wwsHide()","v":{"$error":"#NAME?"}},null,null,null,"day",null,null,null,null,{"$f":"IF(K81=30,-1,0)","v":{"$error":"#NAME?"}},{"$f":"IF(K80>K79,30,0)","v":{"$error":"#NAME?"}}]
[{"$f":"[1]!wwsHide()","v":{"$error":"#NAME?"}},null,null,null,"month",null,null,null,{"$f":"IF(J82=12,-1,0)","v":{"$error":"#NAME?"}},{"$f":"IF(J80>(J79+J81),12,0)","v":{"$error":"#NAME?"}}]
[{"$f":"[1]!wwsHide()","v":{"$error":"#NAME?"}},null,null,null,null,null,null,null,{"$f":"I79+I82-I80","v":{"$error":"#NAME?"}},{"$f":"J79+J82+J81-J80","v":{"$error":"#NAME?"}},{"$f":"K79+K81-K80","v":{"$error":"#NAME?"}}]
[{"$f":"[1]!wwsHide()","v":{"$error":"#NAME?"}},null,null,null,"Time Loss",null,null,null,{"$f":"H43","v":{"$error":"#NAME?"}},{"$f":"I43","v":{"$error":"#NAME?"}},{"$f":"J43","v":{"$error":"#NAME?"}}]
[{"$f":"[1]!wwsHide()","v":{"$error":"#NAME?"}},null,null,null,"day",null,null,null,null,{"$f":"IF(K85=30,-1,0)","v":{"$error":"#NAME?"}},{"$f":"IF(K84>K83,30,0)","v":{"$error":"#NAME?"}}]
[{"$f":"[1]!wwsHide()","v":{"$error":"#NAME?"}},null,null,null,"month",null,null,null,{"$f":"IF(J86=12,-1,0)","v":{"$error":"#NAME?"}},{"$f":"IF(J84>(J83+J85),12,0)","v":{"$error":"#NAME?"}}]
[{"$f":"[1]!wwsHide()","v":{"$error":"#NAME?"}},null,null,null,"Service Credit",null,null,null,{"$f":"I83+I86-I84","v":{"$error":"#NAME?"}},{"$f":"J83+J86+J85-J84","v":{"$error":"#NAME?"}},{"$f":"K83+K85-K84","v":{"$error":"#NAME?"}}]
[{"$f":"[1]!wwsHide()","v":{"$error":"#NAME?"}}]
[{"$f":"[1]!wwsHide()","v":{"$error":"#NAME?"}}]
[{"$f":"[1]!wwsHide()","v":{"$error":"#NAME?"}},null,null,null,"Birth Date",null,null,null,{"$f":"H34","v":{"$error":"#NAME?"}}]
[{"$f":"[1]!wwsHide()","v":{"$error":"#NAME?"}},null,null,null,"Entrance Date",null,null,null,{"$f":"H35","v":{"$error":"#NAME?"}}]
[{"$f":"[1]!wwsHide()","v":{"$error":"#NAME?"}},null,null,null,"CSD",null,null,null,{"$f":"H36","v":{"$error":"#NAME?"}}]
[{"$f":"[1]!wwsHide()","v":{"$error":"#NAME?"}},null,null,null,"8 a.m.",null,null,null,{"$f":"H37","v":{"$error":"#NAME?"}}]
[{"$f":"[1]!wwsHide()","v":{"$error":"#NAME?"}},null,null,null,null,null,null,null,{"$f":"EOMONTH(I93,0)+1","v":{"$error":"#NAME?"}}]
[{"$f":"[1]!wwsHide()","v":{"$error":"#NAME?"}}]
[{"$f":"[1]!wwsHide()","v":{"$error":"#NAME?"}}]
[{"$f":"[1]!wwsHide()","v":{"$error":"#NAME?"}},null,null,null,{"$f":"YEAR(I93)","v":{"$error":"#NAME?"}},null,null,null,null,null,{"$f":"E97-1","v":{"$error":"#NAME?"}},null,null,null,null,null,{"$f":"K97-1","v":{"$error":"#NAME?"}},null,null,null,null,null,{"$f":"Q97-1","v":{"$error":"#NAME?"}},null,null,null,null,null,{"$f":"W97-1","v":{"$error":"#NAME?"}}]
[{"$f":"[1]!wwsHide()","v":{"$error":"#NAME?"}},null,null,null,"Date","Use (Y/N)","Salary Column","Grade","Rank","Pay","Date","Use (Y/N)","Salary Column","Grade","Rank","Pay","Date","Use (Y/N)","Salary Column","Grade","Rank","Pay","Date","Use (Y/N)","Salary Column","Grade","Rank","Pay","Date","Use (Y/N)","Salary Column","Grade","Rank","Pay"]
[{"$f":"[1]!wwsHide()","v":{"$error":"#NAME?"}},1,15,"01-1",{"$f":"DATE((E$97),($B99),($C99))","v":{"$error":"#NAME?"}},{"$f":"IF(E99>$I$94,\" \",1)","v":{"$error":"#NAME?"}},{"$f":"IF(E99>$C$228,$C$226,IF(E99>$D$228,$D$226,IF(E99>$E$228,$E$226,IF(E99>$F$228,$F$226,IF(E99>$G$228,$G$226,IF(E99>$H$228,$H$226,IF(E99>$I$228,$I$226,IF(E99>$J$228,$J$226,IF(E99>$K$228,$K$226,IF(E99>$L$228,$L$226,IF(E99>$M$228,$M$226,IF(E99>$N$228,$N$226,IF(E99>$O$228,$O$226,IF(E99>$P$228,$P$226,IF(E99>$Q$228,$Q$226,IF(E99>$R$228,$R$226,IF(E99>$S$228,$S$226,IF(E99>$T$228,$T$226,IF(E99>$U$228,$U$226,IF(E99>$V$228,$V$226,\"Error\"))))))))))))))))))))","v":{"$error":"#NAME?"}},{"$f":"IF(F99=\" \",\" \",IF(E99>$M$38,$N$38,IF(E99>$M$37,$N$37,IF(E99>$M$36,$N$36,IF(E99>$M$35,$N$35,IF(E99>$M$34,$N$34,\"Error\"))))))","v":{"$error":"#NAME?"}},{"$f":"IF(F99=\" \",\" \",IF(E99>$M$52,$N$52,IF(E99>$M$51,$N$51,IF(E99>$M$50,$N$50,IF(E99>$M$49,$N$49,IF(E99>$M$48,$N$48,0))))))","v":{"$error":"#NAME?"}},{"$f":"ROUND((IF(H99=11,VLOOKUP(I99,$B$231:$V$252,G99,FALSE),IF(H99=10,VLOOKUP(I99,$B$309:$V$330,G99,FALSE),IF(H99=9,VLOOKUP(I99,$B$387:$V$408,G99,FALSE),IF(H99=8,VLOOKUP(I99,$B$465:$V$486,G99,FALSE),IF(H99=7,VLOOKUP(I99,$B$543:$V$564,G99,FALSE),0)))))),2)","v":{"$error":"#NAME?"}},{"$f":"DATE((K$97),($B99),($C99))","v":{"$error":"#NAME?"}},{"$f":"IF(K99>$I$94,\" \",1)","v":{"$error":"#NAME?"}},{"$f":"IF(K99>$C$228,$C$226,IF(K99>$D$228,$D$226,IF(K99>$E$228,$E$226,IF(K99>$F$228,$F$226,IF(K99>$G$228,$G$226,IF(K99>$H$228,$H$226,IF(K99>$I$228,$I$226,IF(K99>$J$228,$J$226,IF(K99>$K$228,$K$226,IF(K99>$L$228,$L$226,IF(K99>$M$228,$M$226,IF(K99>$N$228,$N$226,IF(K99>$O$228,$O$226,IF(K99>$P$228,$P$226,IF(K99>$Q$228,$Q$226,IF(K99>$R$228,$R$226,IF(K99>$S$228,$S$226,IF(K99>$T$228,$T$226,IF(K99>$U$228,$U$226,IF(K99>$V$228,$V$226,\"Error\"))))))))))))))))))))","v":{"$error":"#NAME?"}},{"$f":"IF(L99=\" \",\" \",IF(K99>$M$38,$N$38,IF(K99>$M$37,$N$37,IF(K99>$M$36,$N$36,IF(K99>$M$35,$N$35,IF(K99>$M$34,$N$34,\"Error\"))))))","v":{"$error":"#NAME?"}},{"$f":"IF(L99=\" \",\" \",IF(K99>$M$52,$N$52,IF(K99>$M$51,$N$51,IF(K99>$M$50,$N$50,IF(K99>$M$49,$N$49,IF(K99>$M$48,$N$48,0))))))","v":{"$error":"#NAME?"}},{"$f":"ROUND((IF(N99=11,VLOOKUP(O99,$B$231:$V$252,M99,FALSE),IF(N99=10,VLOOKUP(O99,$B$309:$V$330,M99,FALSE),IF(N99=9,VLOOKUP(O99,$B$387:$V$408,M99,FALSE),IF(N99=8,VLOOKUP(O99,$B$465:$V$486,M99,FALSE),IF(N99=7,VLOOKUP(O99,$B$543:$V$564,M99,FALSE),0)))))),2)","v":{"$error":"#NAME?"}},{"$f":"DATE((Q$97),($B99),($C99))","v":{"$error":"#NAME?"}},{"$f":"IF(Q99>$I$94,\" \",1)","v":{"$error":"#NAME?"}},{"$f":"IF(Q99>$C$228,$C$226,IF(Q99>$D$228,$D$226,IF(Q99>$E$228,$E$226,IF(Q99>$F$228,$F$226,IF(Q99>$G$228,$G$226,IF(Q99>$H$228,$H$226,IF(Q99>$I$228,$I$226,IF(Q99>$J$228,$J$226,IF(Q99>$K$228,$K$226,IF(Q99>$L$228,$L$226,IF(Q99>$M$228,$M$226,IF(Q99>$N$228,$N$226,IF(Q99>$O$228,$O$226,IF(Q99>$P$228,$P$226,IF(Q99>$Q$228,$Q$226,IF(Q99>$R$228,$R$226,IF(Q99>$S$228,$S$226,IF(Q99>$T$228,$T$226,IF(Q99>$U$228,$U$226,IF(Q99>$V$228,$V$226,\"Error\"))))))))))))))))))))","v":{"$error":"#NAME?"}},{"$f":"IF(R99=\" \",\" \",IF(Q99>$M$38,$N$38,IF(Q99>$M$37,$N$37,IF(Q99>$M$36,$N$36,IF(Q99>$M$35,$N$35,IF(Q99>$M$34,$N$34,\"Error\"))))))","v":{"$error":"#NAME?"}},{"$f":"IF(R99=\" \",\" \",IF(Q99>$M$52,$N$52,IF(Q99>$M$51,$N$51,IF(Q99>$M$50,$N$50,IF(Q99>$M$49,$N$49,IF(Q99>$M$48,$N$48,0))))))","v":{"$error":"#NAME?"}},{"$f":"ROUND((IF(T99=11,VLOOKUP(U99,$B$231:$V$252,S99,FALSE),IF(T99=10,VLOOKUP(U99,$B$309:$V$330,S99,FALSE),IF(T99=9,VLOOKUP(U99,$B$387:$V$408,S99,FALSE),IF(T99=8,VLOOKUP(U99,$B$465:$V$486,S99,FALSE),IF(T99=7,VLOOKUP(U99,$B$543:$V$564,S99,FALSE),0)))))),2)","v":{"$error":"#NAME?"}},{"$f":"DATE((W$97),($B99),($C99))","v":{"$error":"#NAME?"}},{"$f":"IF(W99>$I$94,\" \",1)","v":{"$error":"#NAME?"}},{"$f":"IF(W99>$C$228,$C$226,IF(W99>$D$228,$D$226,IF(W99>$E$228,$E$226,IF(W99>$F$228,$F$226,IF(W99>$G$228,$G$226,IF(W99>$H$228,$H$226,IF(W99>$I$228,$I$226,IF(W99>$J$228,$J$226,IF(W99>$K$228,$K$226,IF(W99>$L$228,$L$226,IF(W99>$M$228,$M$226,IF(W99>$N$228,$N$226,IF(W99>$O$228,$O$226,IF(W99>$P$228,$P$226,IF(W99>$Q$228,$Q$226,IF(W99>$R$228,$R$226,IF(W99>$S$228,$S$226,IF(W99>$T$228,$T$226,IF(W99>$U$228,$U$226,IF(W99>$V$228,$V$226,\"Error\"))))))))))))))))))))","v":{"$error":"#NAME?"}},{"$f":"IF(X99=\" \",\" \",IF(W99>$M$38,$N$38,IF(W99>$M$37,$N$37,IF(W99>$M$36,$N$36,IF(W99>$M$35,$N$35,IF(W99>$M$34,$N$34,\"Error\"))))))","v":{"$error":"#NAME?"}},{"$f":"IF(X99=\" \",\" \",IF(W99>$M$52,$N$52,IF(W99>$M$51,$N$51,IF(W99>$M$50,$N$50,IF(W99>$M$49,$N$49,IF(W99>$M$48,$N$48,0))))))","v":{"$error":"#NAME?"}},{"$f":"ROUND((IF(Z99=11,VLOOKUP(AA99,$B$231:$V$252,Y99,FALSE),IF(Z99=10,VLOOKUP(AA99,$B$309:$V$330,Y99,FALSE),IF(Z99=9,VLOOKUP(AA99,$B$387:$V$408,Y99,FALSE),IF(Z99=8,VLOOKUP(AA99,$B$465:$V$486,Y99,FALSE),IF(Z99=7,VLOOKUP(AA99,$B$543:$V$564,Y99,FALSE),0)))))),2)","v":{"$error":"#NAME?"}},{"$f":"DATE((AC$97),($B99),($C99))","v":{"$error":"#NAME?"}},{"$f":"IF((SUM($F$99:$F$122,$L$99:$L$122,$R$99:$R$122,$X$99:$X$122,$AD100:$AD$123))>95,\" \",1)","v":{"$error":"#NAME?"}},{"$f":"IF(AC99>$C$228,$C$226,IF(AC99>$D$228,$D$226,IF(AC99>$E$228,$E$226,IF(AC99>$F$228,$F$226,IF(AC99>$G$228,$G$226,IF(AC99>$H$228,$H$226,IF(AC99>$I$228,$I$226,IF(AC99>$J$228,$J$226,IF(AC99>$K$228,$K$226,IF(AC99>$L$228,$L$226,IF(AC99>$M$228,$M$226,IF(AC99>$N$228,$N$226,IF(AC99>$O$228,$O$226,IF(AC99>$P$228,$P$226,IF(AC99>$Q$228,$Q$226,IF(AC99>$R$228,$R$226,IF(AC99>$S$228,$S$226,IF(AC99>$T$228,$T$226,IF(AC99>$U$228,$U$226,IF(AC99>$V$228,$V$226,\"Error\"))))))))))))))))))))","v":{"$error":"#NAME?"}},{"$f":"IF(AD99=\" \",\" \",IF(AC99>$M$38,$N$38,IF(AC99>$M$37,$N$37,IF(AC99>$M$36,$N$36,IF(AC99>$M$35,$N$35,IF(AC99>$M$34,$N$34,\"Error\"))))))","v":{"$error":"#NAME?"}},{"$f":"IF(AD99=\" \",\" \",IF(AC99>$M$52,$N$52,IF(AC99>$M$51,$N$51,IF(AC99>$M$50,$N$50,IF(AC99>$M$49,$N$49,IF(AC99>$M$48,$N$48,0))))))","v":{"$error":"#NAME?"}},{"$f":"ROUND((IF(AF99=11,VLOOKUP(AG99,$B$231:$V$252,AE99,FALSE),IF(AF99=10,VLOOKUP(AG99,$B$309:$V$330,AE99,FALSE),IF(AF99=9,VLOOKUP(AG99,$B$387:$V$408,AE99,FALSE),IF(AF99=8,VLOOKUP(AG99,$B$465:$V$486,AE99,FALSE),IF(AF99=7,VLOOKUP(AG99,$B$543:$V$564,AE99,FALSE),0)))))),2)","v":{"$error":"#NAME?"}}]
[{"$f":"[1]!wwsHide()","v":{"$error":"#NAME?"}},1,null,"01-2",{"$f":"EOMONTH(E99,0)","v":{"$error":"#NAME?"}},{"$error":"#NAME?"},{"$error":"#NAME?"},{"$error":"#NAME?"},{"$f":"IF(F100=\" \",\" \",IF(E100>$M$52,$N$52,IF(E100>$M$51,$N$51,IF(E100>$M$50,$N$50,IF(E100>$M$49,$N$49,IF(E100>$M$48,$N$48,0))))))","v":{"$error":"#NAME?"}},{"$error":"#NAME?"},{"$f":"EOMONTH(K99,0)","v":{"$error":"#NAME?"}},{"$error":"#NAME?"},{"$error":"#NAME?"},{"$error":"#NAME?"},{"$error":"#NAME?"},{"$error":"#NAME?"},{"$f":"EOMONTH(Q99,0)","v":{"$error":"#NAME?"}},{"$error":"#NAME?"},{"$error":"#NAME?"},{"$error":"#NAME?"},{"$error":"#NAME?"},{"$error":"#NAME?"},{"$f":"EOMONTH(W99,0)","v":{"$error":"#NAME?"}},{"$error":"#NAME?"},{"$error":"#NAME?"},{"$error":"#NAME?"},{"$error":"#NAME?"},{"$error":"#NAME?"},{"$f":"EOMONTH(AC99,0)","v":{"$error":"#NAME?"}},{"$f":"IF((SUM($F$99:$F$122,$L$99:$L$122,$R$99:$R$122,$X$99:$X$122,$AD101:$AD$123))>95,\" \",1)","v":{"$error":"#NAME?"}},{"$error":"#NAME?"},{"$error":"#NAME?"},{"$error":"#NAME?"},{"$error":"#NAME?"}]
[{"$f":"[1]!wwsHide()","v":{"$error":"#NAME?"}},2,15,"02-1",{"$f":"DATE((E$97),($B101),($C101))","v":{"$error":"#NAME?"}},{"$error":"#NAME?"},{"$error":"#NAME?"},{"$error":"#NAME?"},{"$error":"#NAME?"},{"$error":"#NAME?"},{"$f":"DATE((K$97),($B101),($C101))","v":{"$error":"#NAME?"}},{"$error":"#NAME?"},{"$error":"#NAME?"},{"$error":"#NAME?"},{"$error":"#NAME?"},{"$error":"#NAME?"},{"$f":"DATE((Q$97),($B101),($C101))","v":{"$error":"#NAME?"}},{"$error":"#NAME?"},{"$error":"#NAME?"},{"$error":"#NAME?"},{"$error":"#NAME?"},{"$error":"#NAME?"},{"$f":"DATE((W$97),($B101),($C101))","v":{"$error":"#NAME?"}},{"$error":"#NAME?"},{"$error":"#NAME?"},{"$error":"#NAME?"},{"$error":"#NAME?"},{"$error":"#NAME?"},{"$f":"DATE((AC$97),($B101),($C101))","v":{"$error":"#NAME?"}},{"$f":"IF((SUM($F$99:$F$122,$L$99:$L$122,$R$99:$R$122,$X$99:$X$122,$AD102:$AD$123))>95,\" \",1)","v":{"$error":"#NAME?"}},{"$error":"#NAME?"},{"$error":"#NAME?"},{"$error":"#NAME?"},{"$error":"#NAME?"}]
[{"$f":"[1]!wwsHide()","v":{"$error":"#NAME?"}},2,null,"02-2",{"$f":"EOMONTH(E101,0)","v":{"$error":"#NAME?"}},{"$error":"#NAME?"},{"$error":"#NAME?"},{"$error":"#NAME?"},{"$error":"#NAME?"},{"$error":"#NAME?"},{"$f":"EOMONTH(K101,0)","v":{"$error":"#NAME?"}},{"$error":"#NAME?"},{"$error":"#NAME?"},{"$error":"#NAME?"},{"$error":"#NAME?"},{"$error":"#NAME?"},{"$f":"EOMONTH(Q101,0)","v":{"$error":"#NAME?"}},{"$error":"#NAME?"},{"$error":"#NAME?"},{"$error":"#NAME?"},{"$error":"#NAME?"},{"$error":"#NAME?"},{"$f":"EOMONTH(W101,0)","v":{"$error":"#NAME?"}},{"$error":"#NAME?"},{"$error":"#NAME?"},{"$error":"#NAME?"},{"$error":"#NAME?"},{"$error":"#NAME?"},{"$f":"EOMONTH(AC101,0)","v":{"$error":"#NAME?"}},{"$f":"IF((SUM($F$99:$F$122,$L$99:$L$122,$R$99:$R$122,$X$99:$X$122,$AD103:$AD$123))>95,\" \",1)","v":{"$error":"#NAME?"}},{"$error":"#NAME?"},{"$error":"#NAME?"},{"$error":"#NAME?"},{"$error":"#NAME?"}]
[{"$f":"[1]!wwsHide()","v":{"$error":"#NAME?"}},3,15,"03-1",{"$f":"DATE((E$97),($B103),($C103))","v":{"$error":"#NAME?"}},{"$error":"#NAME?"},{"$error":"#NAME?"},{"$error":"#NAME?"},{"$error":"#NAME?"},{"$error":"#NAME?"},{"$f":"DATE((K$97),($B103),($C103))","v":{"$error":"#NAME?"}},{"$error":"#NAME?"},{"$error":"#NAME?"},{"$error":"#NAME?"},{"$error":"#NAME?"},{"$error":"#NAME?"},{"$f":"DATE((Q$97),($B103),($C103))","v":{"$error":"#NAME?"}},{"$error":"#NAME?"},{"$error":"#NAME?"},{"$error":"#NAME?"},{"$error":"#NAME?"},{"$error":"#NAME?"},{"$f":"DATE((W$97),($B103),($C103))","v":{"$error":"#NAME?"}},{"$error":"#NAME?"},{"$error":"#NAME?"},{"$error":"#NAME?"},{"$error":"#NAME?"},{"$error":"#NAME?"},{"$f":"DATE((AC$97),($B103),($C103))","v":{"$error":"#NAME?"}},{"$f":"IF((SUM($F$99:$F$122,$L$99:$L$122,$R$99:$R$122,$X$99:$X$122,$AD104:$AD$123))>95,\" \",1)","v":{"$error":"#NAME?"}},{"$error":"#NAME?"},{"$error":"#NAME?"},{"$error":"#NAME?"},{"$error":"#NAME?"}]
[{"$f":"[1]!wwsHide()","v":{"$error":"#NAME?"}},3,null,"03-2",{"$f":"EOMONTH(E103,0)","v":{"$error":"#NAME?"}},{"$error":"#NAME?"},{"$error":"#NAME?"},{"$error":"#NAME?"},{"$error":"#NAME?"},{"$error":"#NAME?"},{"$f":"EOMONTH(K103,0)","v":{"$error":"#NAME?"}},{"$error":"#NAME?"},{"$error":"#NAME?"},{"$error":"#NAME?"},{"$error":"#NAME?"},{"$error":"#NAME?"},{"$f":"EOMONTH(Q103,0)","v":{"$error":"#NAME?"}},{"$error":"#NAME?"},{"$error":"#NAME?"},{"$error":"#NAME?"},{"$error":"#NAME?"},{"$error":"#NAME?"},{"$f":"EOMONTH(W103,0)","v":{"$error":"#NAME?"}},{"$error":"#NAME?"},{"$error":"#NAME?"},{"$error":"#NAME?"},{"$error":"#NAME?"},{"$error":"#NAME?"},{"$f":"EOMONTH(AC103,0)","v":{"$error":"#NAME?"}},{"$f":"IF((SUM($F$99:$F$122,$L$99:$L$122,$R$99:$R$122,$X$99:$X$122,$AD105:$AD$123))>95,\" \",1)","v":{"$error":"#NAME?"}},{"$error":"#NAME?"},{"$error":"#NAME?"},{"$error":"#NAME?"},{"$error":"#NAME?"}]
[{"$f":"[1]!wwsHide()","v":{"$error":"#NAME?"}},4,15,"04-1",{"$f":"DATE((E$97),($B105),($C105))","v":{"$error":"#NAME?"}},{"$error":"#NAME?"},{"$error":"#NAME?"},{"$error":"#NAME?"},{"$error":"#NAME?"},{"$error":"#NAME?"},{"$f":"DATE((K$97),($B105),($C105))","v":{"$error":"#NAME?"}},{"$error":"#NAME?"},{"$error":"#NAME?"},{"$error":"#NAME?"},{"$error":"#NAME?"},{"$error":"#NAME?"},{"$f":"DATE((Q$97),($B105),($C105))","v":{"$error":"#NAME?"}},{"$error":"#NAME?"},{"$error":"#NAME?"},{"$error":"#NAME?"},{"$error":"#NAME?"},{"$error":"#NAME?"},{"$f":"DATE((W$97),($B105),($C105))","v":{"$error":"#NAME?"}},{"$error":"#NAME?"},{"$error":"#NAME?"},{"$error":"#NAME?"},{"$error":"#NAME?"},{"$error":"#NAME?"},{"$f":"DATE((AC$97),($B105),($C105))","v":{"$error":"#NAME?"}},{"$f":"IF((SUM($F$99:$F$122,$L$99:$L$122,$R$99:$R$122,$X$99:$X$122,$AD106:$AD$123))>95,\" \",1)","v":{"$error":"#NAME?"}},{"$error":"#NAME?"},{"$error":"#NAME?"},{"$error":"#NAME?"},{"$error":"#NAME?"}]
[{"$f":"[1]!wwsHide()","v":{"$error":"#NAME?"}},4,null,"04-2",{"$f":"EOMONTH(E105,0)","v":{"$error":"#NAME?"}},{"$error":"#NAME?"},{"$error":"#NAME?"},{"$error":"#NAME?"},{"$error":"#NAME?"},{"$error":"#NAME?"},{"$f":"EOMONTH(K105,0)","v":{"$error":"#NAME?"}},{"$error":"#NAME?"},{"$error":"#NAME?"},{"$error":"#NAME?"},{"$error":"#NAME?"},{"$error":"#NAME?"},{"$f":"EOMONTH(Q105,0)","v":{"$error":"#NAME?"}},{"$error":"#NAME?"},{"$error":"#NAME?"},{"$error":"#NAME?"},{"$error":"#NAME?"},{"$error":"#NAME?"},{"$f":"EOMONTH(W105,0)","v":{"$error":"#NAME?"}},{"$error":"#NAME?"},{"$error":"#NAME?"},{"$error":"#NAME?"},{"$error":"#NAME?"},{"$error":"#NAME?"},{"$f":"EOMONTH(AC105,0)","v":{"$error":"#NAME?"}},{"$f":"IF((SUM($F$99:$F$122,$L$99:$L$122,$R$99:$R$122,$X$99:$X$122,$AD107:$AD$123))>95,\" \",1)","v":{"$error":"#NAME?"}},{"$error":"#NAME?"},{"$error":"#NAME?"},{"$error":"#NAME?"},{"$error":"#NAME?"}]
[{"$f":"[1]!wwsHide()","v":{"$error":"#NAME?"}},5,15,"05-1",{"$f":"DATE((E$97),($B107),($C107))","v":{"$error":"#NAME?"}},{"$error":"#NAME?"},{"$error":"#NAME?"},{"$error":"#NAME?"},{"$error":"#NAME?"},{"$error":"#NAME?"},{"$f":"DATE((K$97),($B107),($C107))","v":{"$error":"#NAME?"}},{"$error":"#NAME?"},{"$error":"#NAME?"},{"$error":"#NAME?"},{"$error":"#NAME?"},{"$error":"#NAME?"},{"$f":"DATE((Q$97),($B107),($C107))","v":{"$error":"#NAME?"}},{"$error":"#NAME?"},{"$error":"#NAME?"},{"$error":"#NAME?"},{"$error":"#NAME?"},{"$error":"#NAME?"},{"$f":"DATE((W$97),($B107),($C107))","v":{"$error":"#NAME?"}},{"$error":"#NAME?"},{"$error":"#NAME?"},{"$error":"#NAME?"},{"$error":"#NAME?"},{"$error":"#NAME?"},{"$f":"DATE((AC$97),($B107),($C107))","v":{"$error":"#NAME?"}},{"$f":"IF((SUM($F$99:$F$122,$L$99:$L$122,$R$99:$R$122,$X$99:$X$122,$AD108:$AD$123))>95,\" \",1)","v":{"$error":"#NAME?"}},{"$error":"#NAME?"},{"$error":"#NAME?"},{"$error":"#NAME?"},{"$error":"#NAME?"}]
[{"$f":"[1]!wwsHide()","v":{"$error":"#NAME?"}},5,null,"05-2",{"$f":"EOMONTH(E107,0)","v":{"$error":"#NAME?"}},{"$error":"#NAME?"},{"$error":"#NAME?"},{"$error":"#NAME?"},{"$error":"#NAME?"},{"$error":"#NAME?"},{"$f":"EOMONTH(K107,0)","v":{"$error":"#NAME?"}},{"$error":"#NAME?"},{"$error":"#NAME?"},{"$error":"#NAME?"},{"$error":"#NAME?"},{"$error":"#NAME?"},{"$f":"EOMONTH(Q107,0)","v":{"$error":"#NAME?"}},{"$error":"#NAME?"},{"$error":"#NAME?"},{"$error":"#NAME?"},{"$error":"#NAME?"},{"$error":"#NAME?"},{"$f":"EOMONTH(W107,0)","v":{"$error":"#NAME?"}},{"$error":"#NAME?"},{"$error":"#NAME?"},{"$error":"#NAME?"},{"$error":"#NAME?"},{"$error":"#NAME?"},{"$f":"EOMONTH(AC107,0)","v":{"$error":"#NAME?"}},{"$f":"IF((SUM($F$99:$F$122,$L$99:$L$122,$R$99:$R$122,$X$99:$X$122,$AD109:$AD$123))>95,\" \",1)","v":{"$error":"#NAME?"}},{"$error":"#NAME?"},{"$error":"#NAME?"},{"$error":"#NAME?"},{"$error":"#NAME?"}]
[{"$f":"[1]!wwsHide()","v":{"$error":"#NAME?"}},6,15,"06-1",{"$f":"DATE((E$97),($B109),($C109))","v":{"$error":"#NAME?"}},{"$error":"#NAME?"},{"$error":"#NAME?"},{"$error":"#NAME?"},{"$error":"#NAME?"},{"$error":"#NAME?"},{"$f":"DATE((K$97),($B109),($C109))","v":{"$error":"#NAME?"}},{"$error":"#NAME?"},{"$error":"#NAME?"},{"$error":"#NAME?"},{"$error":"#NAME?"},{"$error":"#NAME?"},{"$f":"DATE((Q$97),($B109),($C109))","v":{"$error":"#NAME?"}},{"$error":"#NAME?"},{"$error":"#NAME?"},{"$error":"#NAME?"},{"$error":"#NAME?"},{"$error":"#NAME?"},{"$f":"DATE((W$97),($B109),($C109))","v":{"$error":"#NAME?"}},{"$error":"#NAME?"},{"$error":"#NAME?"},{"$error":"#NAME?"},{"$error":"#NAME?"},{"$error":"#NAME?"},{"$f":"DATE((AC$97),($B109),($C109))","v":{"$error":"#NAME?"}},{"$f":"IF((SUM($F$99:$F$122,$L$99:$L$122,$R$99:$R$122,$X$99:$X$122,$AD110:$AD$123))>95,\" \",1)","v":{"$error":"#NAME?"}},{"$error":"#NAME?"},{"$error":"#NAME?"},{"$error":"#NAME?"},{"$error":"#NAME?"}]
[{"$f":"[1]!wwsHide()","v":{"$error":"#NAME?"}},6,null,"06-2",{"$f":"EOMONTH(E109,0)","v":{"$error":"#NAME?"}},{"$error":"#NAME?"},{"$error":"#NAME?"},{"$error":"#NAME?"},{"$error":"#NAME?"},{"$error":"#NAME?"},{"$f":"EOMONTH(K109,0)","v":{"$error":"#NAME?"}},{"$error":"#NAME?"},{"$error":"#NAME?"},{"$error":"#NAME?"},{"$error":"#NAME?"},{"$error":"#NAME?"},{"$f":"EOMONTH(Q109,0)","v":{"$error":"#NAME?"}},{"$error":"#NAME?"},{"$error":"#NAME?"},{"$error":"#NAME?"},{"$error":"#NAME?"},{"$error":"#NAME?"},{"$f":"EOMONTH(W109,0)","v":{"$error":"#NAME?"}},{"$error":"#NAME?"},{"$error":"#NAME?"},{"$error":"#NAME?"},{"$error":"#NAME?"},{"$error":"#NAME?"},{"$f":"EOMONTH(AC109,0)","v":{"$error":"#NAME?"}},{"$f":"IF((SUM($F$99:$F$122,$L$99:$L$122,$R$99:$R$122,$X$99:$X$122,$AD111:$AD$123))>95,\" \",1)","v":{"$error":"#NAME?"}},{"$error":"#NAME?"},{"$error":"#NAME?"},{"$error":"#NAME?"},{"$error":"#NAME?"}]
[{"$f":"[1]!wwsHide()","v":{"$error":"#NAME?"}},7,15,"07-1",{"$f":"DATE((E$97),($B111),($C111))","v":{"$error":"#NAME?"}},{"$error":"#NAME?"},{"$error":"#NAME?"},{"$error":"#NAME?"},{"$error":"#NAME?"},{"$error":"#NAME?"},{"$f":"DATE((K$97),($B111),($C111))","v":{"$error":"#NAME?"}},{"$error":"#NAME?"},{"$error":"#NAME?"},{"$error":"#NAME?"},{"$error":"#NAME?"},{"$error":"#NAME?"},{"$f":"DATE((Q$97),($B111),($C111))","v":{"$error":"#NAME?"}},{"$error":"#NAME?"},{"$error":"#NAME?"},{"$error":"#NAME?"},{"$error":"#NAME?"},{"$error":"#NAME?"},{"$f":"DATE((W$97),($B111),($C111))","v":{"$error":"#NAME?"}},{"$error":"#NAME?"},{"$error":"#NAME?"},{"$error":"#NAME?"},{"$error":"#NAME?"},{"$error":"#NAME?"},{"$f":"DATE((AC$97),($B111),($C111))","v":{"$error":"#NAME?"}},{"$f":"IF((SUM($F$99:$F$122,$L$99:$L$122,$R$99:$R$122,$X$99:$X$122,$AD112:$AD$123))>95,\" \",1)","v":{"$error":"#NAME?"}},{"$error":"#NAME?"},{"$error":"#NAME?"},{"$error":"#NAME?"},{"$error":"#NAME?"}]
[{"$f":"[1]!wwsHide()","v":{"$error":"#NAME?"}},7,null,"07-2",{"$f":"EOMONTH(E111,0)","v":{"$error":"#NAME?"}},{"$error":"#NAME?"},{"$error":"#NAME?"},{"$error":"#NAME?"},{"$error":"#NAME?"},{"$error":"#NAME?"},{"$f":"EOMONTH(K111,0)","v":{"$error":"#NAME?"}},{"$error":"#NAME?"},{"$error":"#NAME?"},{"$error":"#NAME?"},{"$error":"#NAME?"},{"$error":"#NAME?"},{"$f":"EOMONTH(Q111,0)","v":{"$error":"#NAME?"}},{"$error":"#NAME?"},{"$error":"#NAME?"},{"$error":"#NAME?"},{"$error":"#NAME?"},{"$error":"#NAME?"},{"$f":"EOMONTH(W111,0)","v":{"$error":"#NAME?"}},{"$error":"#NAME?"},{"$error":"#NAME?"},{"$error":"#NAME?"},{"$error":"#NAME?"},{"$error":"#NAME?"},{"$f":"EOMONTH(AC111,0)","v":{"$error":"#NAME?"}},{"$f":"IF((SUM($F$99:$F$122,$L$99:$L$122,$R$99:$R$122,$X$99:$X$122,$AD113:$AD$123))>95,\" \",1)","v":{"$error":"#NAME?"}},{"$error":"#NAME?"},{"$error":"#NAME?"},{"$error":"#NAME?"},{"$error":"#NAME?"}]
[{"$f":"[1]!wwsHide()","v":{"$error":"#NAME?"}},8,15,"08-1",{"$f":"DATE((E$97),($B113),($C113))","v":{"$error":"#NAME?"}},{"$error":"#NAME?"},{"$error":"#NAME?"},{"$error":"#NAME?"},{"$error":"#NAME?"},{"$error":"#NAME?"},{"$f":"DATE((K$97),($B113),($C113))","v":{"$error":"#NAME?"}},{"$error":"#NAME?"},{"$error":"#NAME?"},{"$error":"#NAME?"},{"$error":"#NAME?"},{"$error":"#NAME?"},{"$f":"DATE((Q$97),($B113),($C113))","v":{"$error":"#NAME?"}},{"$error":"#NAME?"},{"$error":"#NAME?"},{"$error":"#NAME?"},{"$error":"#NAME?"},{"$error":"#NAME?"},{"$f":"DATE((W$97),($B113),($C113))","v":{"$error":"#NAME?"}},{"$error":"#NAME?"},{"$error":"#NAME?"},{"$error":"#NAME?"},{"$error":"#NAME?"},{"$error":"#NAME?"},{"$f":"DATE((AC$97),($B113),($C113))","v":{"$error":"#NAME?"}},{"$f":"IF((SUM($F$99:$F$122,$L$99:$L$122,$R$99:$R$122,$X$99:$X$122,$AD114:$AD$123))>95,\" \",1)","v":{"$error":"#NAME?"}},{"$error":"#NAME?"},{"$error":"#NAME?"},{"$error":"#NAME?"},{"$error":"#NAME?"}]
[{"$f":"[1]!wwsHide()","v":{"$error":"#NAME?"}},8,null,"08-2",{"$f":"EOMONTH(E113,0)","v":{"$error":"#NAME?"}},{"$error":"#NAME?"},{"$error":"#NAME?"},{"$error":"#NAME?"},{"$error":"#NAME?"},{"$error":"#NAME?"},{"$f":"EOMONTH(K113,0)","v":{"$error":"#NAME?"}},{"$error":"#NAME?"},{"$error":"#NAME?"},{"$error":"#NAME?"},{"$error":"#NAME?"},{"$error":"#NAME?"},{"$f":"EOMONTH(Q113,0)","v":{"$error":"#NAME?"}},{"$error":"#NAME?"},{"$error":"#NAME?"},{"$error":"#NAME?"},{"$error":"#NAME?"},{"$error":"#NAME?"},{"$f":"EOMONTH(W113,0)","v":{"$error":"#NAME?"}},{"$error":"#NAME?"},{"$error":"#NAME?"},{"$error":"#NAME?"},{"$error":"#NAME?"},{"$error":"#NAME?"},{"$f":"EOMONTH(AC113,0)","v":{"$error":"#NAME?"}},{"$f":"IF((SUM($F$99:$F$122,$L$99:$L$122,$R$99:$R$122,$X$99:$X$122,$AD115:$AD$123))>95,\" \",1)","v":{"$error":"#NAME?"}},{"$error":"#NAME?"},{"$error":"#NAME?"},{"$error":"#NAME?"},{"$error":"#NAME?"}]
[{"$f":"[1]!wwsHide()","v":{"$error":"#NAME?"}},9,15,"09-1",{"$f":"DATE((E$97),($B115),($C115))","v":{"$error":"#NAME?"}},{"$error":"#NAME?"},{"$error":"#NAME?"},{"$error":"#NAME?"},{"$error":"#NAME?"},{"$error":"#NAME?"},{"$f":"DATE((K$97),($B115),($C115))","v":{"$error":"#NAME?"}},{"$error":"#NAME?"},{"$error":"#NAME?"},{"$error":"#NAME?"},{"$error":"#NAME?"},{"$error":"#NAME?"},{"$f":"DATE((Q$97),($B115),($C115))","v":{"$error":"#NAME?"}},{"$error":"#NAME?"},{"$error":"#NAME?"},{"$error":"#NAME?"},{"$error":"#NAME?"},{"$error":"#NAME?"},{"$f":"DATE((W$97),($B115),($C115))","v":{"$error":"#NAME?"}},{"$error":"#NAME?"},{"$error":"#NAME?"},{"$error":"#NAME?"},{"$error":"#NAME?"},{"$error":"#NAME?"},{"$f":"DATE((AC$97),($B115),($C115))","v":{"$error":"#NAME?"}},{"$f":"IF((SUM($F$99:$F$122,$L$99:$L$122,$R$99:$R$122,$X$99:$X$122,$AD116:$AD$123))>95,\" \",1)","v":{"$error":"#NAME?"}},{"$error":"#NAME?"},{"$error":"#NAME?"},{"$error":"#NAME?"},{"$error":"#NAME?"}]
[{"$f":"[1]!wwsHide()","v":{"$error":"#NAME?"}},9,null,"09-2",{"$f":"EOMONTH(E115,0)","v":{"$error":"#NAME?"}},{"$error":"#NAME?"},{"$error":"#NAME?"},{"$error":"#NAME?"},{"$error":"#NAME?"},{"$error":"#NAME?"},{"$f":"EOMONTH(K115,0)","v":{"$error":"#NAME?"}},{"$error":"#NAME?"},{"$error":"#NAME?"},{"$error":"#NAME?"},{"$error":"#NAME?"},{"$error":"#NAME?"},{"$f":"EOMONTH(Q115,0)","v":{"$error":"#NAME?"}},{"$error":"#NAME?"},{"$error":"#NAME?"},{"$error":"#NAME?"},{"$error":"#NAME?"},{"$error":"#NAME?"},{"$f":"EOMONTH(W115,0)","v":{"$error":"#NAME?"}},{"$error":"#NAME?"},{"$error":"#NAME?"},{"$error":"#NAME?"},{"$error":"#NAME?"},{"$error":"#NAME?"},{"$f":"EOMONTH(AC115,0)","v":{"$error":"#NAME?"}},{"$f":"IF((SUM($F$99:$F$122,$L$99:$L$122,$R$99:$R$122,$X$99:$X$122,$AD117:$AD$123))>95,\" \",1)","v":{"$error":"#NAME?"}},{"$error":"#NAME?"},{"$error":"#NAME?"},{"$error":"#NAME?"},{"$error":"#NAME?"}]
[{"$f":"[1]!wwsHide()","v":{"$error":"#NAME?"}},10,15,"10-1",{"$f":"DATE((E$97),($B117),($C117))","v":{"$error":"#NAME?"}},{"$error":"#NAME?"},{"$error":"#NAME?"},{"$error":"#NAME?"},{"$error":"#NAME?"},{"$error":"#NAME?"},{"$f":"DATE((K$97),($B117),($C117))","v":{"$error":"#NAME?"}},{"$error":"#NAME?"},{"$error":"#NAME?"},{"$error":"#NAME?"},{"$error":"#NAME?"},{"$error":"#NAME?"},{"$f":"DATE((Q$97),($B117),($C117))","v":{"$error":"#NAME?"}},{"$error":"#NAME?"},{"$error":"#NAME?"},{"$error":"#NAME?"},{"$error":"#NAME?"},{"$error":"#NAME?"},{"$f":"DATE((W$97),($B117),($C117))","v":{"$error":"#NAME?"}},{"$error":"#NAME?"},{"$error":"#NAME?"},{"$error":"#NAME?"},{"$error":"#NAME?"},{"$error":"#NAME?"},{"$f":"DATE((AC$97),($B117),($C117))","v":{"$error":"#NAME?"}},{"$f":"IF((SUM($F$99:$F$122,$L$99:$L$122,$R$99:$R$122,$X$99:$X$122,$AD118:$AD$123))>95,\" \",1)","v":{"$error":"#NAME?"}},{"$error":"#NAME?"},{"$error":"#NAME?"},{"$error":"#NAME?"},{"$error":"#NAME?"}]
[{"$f":"[1]!wwsHide()","v":{"$error":"#NAME?"}},10,null,"10-2",{"$f":"EOMONTH(E117,0)","v":{"$error":"#NAME?"}},{"$error":"#NAME?"},{"$error":"#NAME?"},{"$error":"#NAME?"},{"$error":"#NAME?"},{"$error":"#NAME?"},{"$f":"EOMONTH(K117,0)","v":{"$error":"#NAME?"}},{"$error":"#NAME?"},{"$error":"#NAME?"},{"$error":"#NAME?"},{"$error":"#NAME?"},{"$error":"#NAME?"},{"$f":"EOMONTH(Q117,0)","v":{"$error":"#NAME?"}},{"$error":"#NAME?"},{"$error":"#NAME?"},{"$error":"#NAME?"},{"$error":"#NAME?"},{"$error":"#NAME?"},{"$f":"EOMONTH(W117,0)","v":{"$error":"#NAME?"}},{"$error":"#NAME?"},{"$error":"#NAME?"},{"$error":"#NAME?"},{"$error":"#NAME?"},{"$error":"#NAME?"},{"$f":"EOMONTH(AC117,0)","v":{"$error":"#NAME?"}},{"$f":"IF((SUM($F$99:$F$122,$L$99:$L$122,$R$99:$R$122,$X$99:$X$122,$AD119:$AD$123))>95,\" \",1)","v":{"$error":"#NAME?"}},{"$error":"#NAME?"},{"$error":"#NAME?"},{"$error":"#NAME?"},{"$error":"#NAME?"}]
[{"$f":"[1]!wwsHide()","v":{"$error":"#NAME?"}},11,15,"11-1",{"$f":"DATE((E$97),($B119),($C119))","v":{"$error":"#NAME?"}},{"$error":"#NAME?"},{"$error":"#NAME?"},{"$error":"#NAME?"},{"$error":"#NAME?"},{"$error":"#NAME?"},{"$f":"DATE((K$97),($B119),($C119))","v":{"$error":"#NAME?"}},{"$error":"#NAME?"},{"$error":"#NAME?"},{"$error":"#NAME?"},{"$error":"#NAME?"},{"$error":"#NAME?"},{"$f":"DATE((Q$97),($B119),($C119))","v":{"$error":"#NAME?"}},{"$error":"#NAME?"},{"$error":"#NAME?"},{"$error":"#NAME?"},{"$error":"#NAME?"},{"$error":"#NAME?"},{"$f":"DATE((W$97),($B119),($C119))","v":{"$error":"#NAME?"}},{"$error":"#NAME?"},{"$error":"#NAME?"},{"$error":"#NAME?"},{"$error":"#NAME?"},{"$error":"#NAME?"},{"$f":"DATE((AC$97),($B119),($C119))","v":{"$error":"#NAME?"}},{"$f":"IF((SUM($F$99:$F$122,$L$99:$L$122,$R$99:$R$122,$X$99:$X$122,$AD120:$AD$123))>95,\" \",1)","v":{"$error":"#NAME?"}},{"$error":"#NAME?"},{"$error":"#NAME?"},{"$error":"#NAME?"},{"$error":"#NAME?"}]
[{"$f":"[1]!wwsHide()","v":{"$error":"#NAME?"}},11,null,"11-2",{"$f":"EOMONTH(E119,0)","v":{"$error":"#NAME?"}},{"$error":"#NAME?"},{"$error":"#NAME?"},{"$error":"#NAME?"},{"$error":"#NAME?"},{"$error":"#NAME?"},{"$f":"EOMONTH(K119,0)","v":{"$error":"#NAME?"}},{"$error":"#NAME?"},{"$error":"#NAME?"},{"$error":"#NAME?"},{"$error":"#NAME?"},{"$error":"#NAME?"},{"$f":"EOMONTH(Q119,0)","v":{"$error":"#NAME?"}},{"$error":"#NAME?"},{"$error":"#NAME?"},{"$error":"#NAME?"},{"$error":"#NAME?"},{"$error":"#NAME?"},{"$f":"EOMONTH(W119,0)","v":{"$error":"#NAME?"}},{"$error":"#NAME?"},{"$error":"#NAME?"},{"$error":"#NAME?"},{"$error":"#NAME?"},{"$error":"#NAME?"},{"$f":"EOMONTH(AC119,0)","v":{"$error":"#NAME?"}},{"$f":"IF((SUM($F$99:$F$122,$L$99:$L$122,$R$99:$R$122,$X$99:$X$122,$AD121:$AD$123))>95,\" \",1)","v":{"$error":"#NAME?"}},{"$error":"#NAME?"},{"$error":"#NAME?"},{"$error":"#NAME?"},{"$error":"#NAME?"}]
[{"$f":"[1]!wwsHide()","v":{"$error":"#NAME?"}},12,15,"12-1",{"$f":"DATE((E$97),($B121),($C121))","v":{"$error":"#NAME?"}},{"$error":"#NAME?"},{"$error":"#NAME?"},{"$error":"#NAME?"},{"$error":"#NAME?"},{"$error":"#NAME?"},{"$f":"DATE((K$97),($B121),($C121))","v":{"$error":"#NAME?"}},{"$error":"#NAME?"},{"$error":"#NAME?"},{"$error":"#NAME?"},{"$error":"#NAME?"},{"$error":"#NAME?"},{"$f":"DATE((Q$97),($B121),($C121))","v":{"$error":"#NAME?"}},{"$error":"#NAME?"},{"$error":"#NAME?"},{"$error":"#NAME?"},{"$error":"#NAME?"},{"$error":"#NAME?"},{"$f":"DATE((W$97),($B121),($C121))","v":{"$error":"#NAME?"}},{"$error":"#NAME?"},{"$error":"#NAME?"},{"$error":"#NAME?"},{"$error":"#NAME?"},{"$error":"#NAME?"},{"$f":"DATE((AC$97),($B121),($C121))","v":{"$error":"#NAME?"}},{"$f":"IF((SUM($F$99:$F$122,$L$99:$L$122,$R$99:$R$122,$X$99:$X$122,$AD122:$AD$123))>95,\" \",1)","v":{"$error":"#NAME?"}},{"$error":"#NAME?"},{"$error":"#NAME?"},{"$error":"#NAME?"},{"$error":"#NAME?"}]
[{"$f":"[1]!wwsHide()","v":{"$error":"#NAME?"}},12,null,"12-2",{"$f":"EOMONTH(E121,0)","v":{"$error":"#NAME?"}},{"$error":"#NAME?"},{"$error":"#NAME?"},{"$error":"#NAME?"},{"$error":"#NAME?"},{"$error":"#NAME?"},{"$f":"EOMONTH(K121,0)","v":{"$error":"#NAME?"}},{"$error":"#NAME?"},{"$error":"#NAME?"},{"$error":"#NAME?"},{"$error":"#NAME?"},{"$error":"#NAME?"},{"$f":"EOMONTH(Q121,0)","v":{"$error":"#NAME?"}},{"$error":"#NAME?"},{"$error":"#NAME?"},{"$error":"#NAME?"},{"$error":"#NAME?"},{"$error":"#NAME?"},{"$f":"EOMONTH(W121,0)","v":{"$error":"#NAME?"}},{"$error":"#NAME?"},{"$error":"#NAME?"},{"$error":"#NAME?"},{"$error":"#NAME?"},{"$error":"#NAME?"},{"$f":"EOMONTH(AC121,0)","v":{"$error":"#NAME?"}},{"$f":"IF((SUM($F$99:$F$122,$L$99:$L$122,$R$99:$R$122,$X$99:$X$122,$AD123:$AD$123))>95,\" \",1)","v":{"$error":"#NAME?"}},{"$error":"#NAME?"},{"$error":"#NAME?"},{"$error":"#NAME?"},{"$error":"#NAME?"}]
[{"$f":"[1]!wwsHide()","v":{"$error":"#NAME?"}}]
[{"$f":"[1]!wwsHide()","v":{"$error":"#NAME?"}},null,null,"TOTAL",null,null,null,null,null,{"$f":"ROUND((SUM(J99:J123)/2),2)","v":{"$error":"#NAME?"}},null,null,null,null,null,{"$f":"ROUND((SUM(P99:P123)/2),2)","v":{"$error":"#NAME?"}},null,null,null,null,null,{"$f":"ROUND((SUM(V99:V123)/2),2)","v":{"$error":"#NAME?"}},null,null,null,null,null,{"$f":"ROUND((SUM(AB99:AB123)/2),2)","v":{"$error":"#NAME?"}},null,null,null,null,null,{"$f":"ROUND((SUM(AH99:AH123)/2),2)","v":{"$error":"#NAME?"}}]
[{"$f":"[1]!wwsHide()","v":{"$error":"#NAME?"}}]
[{"$f":"[1]!wwsHide()","v":{"$error":"#NAME?"}}]
[{"$f":"[1]!wwsHide()","v":{"$error":"#NAME?"}},null,null,null,null,null,null,null,"Total",{"$f":"SUM(J124:AH124)","v":{"$error":"#NAME?"}}]
[{"$f":"[1]!wwsHide()","v":{"$error":"#NAME?"}},null,null,null,null,null,null,null,null,48]
[{"$f":"[1]!wwsHide()","v":{"$error":"#NAME?"}},null,null,null,null,null,null,null,"Average",{"$f":"ROUND((J127/J128),2)","v":{"$error":"#NAME?"}}]
[{"$f":"[1]!wwsHide()","v":{"$error":"#NAME?"}},null,null,null,null,null,null,null,"Max",{"$f":"MAX(J99:J122,P99:P122,V99:V122,AB99:AB122,AH99:AH122)","v":{"$error":"#NAME?"}}]
[{"$f":"[1]!wwsHide()","v":{"$error":"#NAME?"}}]
[{"$f":"[1]!wwsHide()","v":{"$error":"#NAME?"}},null,null,null,null,null,null,null,null,null,null,null,null,null,null,null,null,null,null,"Service",null,"Percentage"]
[{"$f":"[1]!wwsHide()","v":{"$error":"#NAME?"}},null,null,null,null,null,null,null,null,null,null,null,null,null,null,null,null,null,null,{"$f":"I87","v":{"$error":"#NAME?"}},"50-20",{"$f":"IF(T133<20,\"N/A\",IF(T133>29,75,IF(AND(T133>19,T134+T135>0),((T133+1)*2.5),IF(AND(T133>19,T134+T135=0),T133*2.5,\"N/A\")))/100)","v":{"$error":"#NAME?"}},null,null,null,{"$f":"IF(ISERROR(J129)=TRUE,\" \",(ROUND(($J$129*V133),0)-20))","v":" "}]
[{"$f":"[1]!wwsHide()","v":{"$error":"#NAME?"}},null,null,null,null,null,null,null,null,null,null,null,null,null,null,null,null,null,null,{"$f":"J87","v":{"$error":"#NAME?"}},"53-23",{"$f":"P193","v":{"$error":"#NAME?"}},null,null,null,{"$f":"IF(ISERROR(J129)=TRUE,\" \",(ROUND(($J$129*V134),0)-20))","v":" "}]
[{"$f":"[1]!wwsHide()","v":{"$error":"#NAME?"}},null,null,null,null,null,null,null,null,null,null,null,null,null,null,null,null,null,null,{"$f":"K87","v":{"$error":"#NAME?"}},"53-23",{"$f":"H193","v":{"$error":"#NAME?"}},null,null,null,{"$f":"IF(ISERROR(J129)=TRUE,\" \",(ROUND(($J$129*V135),0)-20))","v":" "}]
[{"$f":"[1]!wwsHide()","v":{"$error":"#NAME?"}},null,null,null,null,null,null,null,null,null,null,null,null,null,null,null,null,null,null,null,"Max",0.75,null,null,null,{"$f":"IF(ISERROR(J129)=TRUE,\" \",ROUND((J130*V136),0))","v":" "},{"$f":"MAX(Z133:Z135)","v":0}]
[{"$f":"[1]!wwsHide()","v":{"$error":"#NAME?"}}]
[{"$f":"[1]!wwsHide()","v":{"$error":"#NAME?"}},null,null,null,null,null,null,null,null,null,null,null,null,null,null,null,null,null,null,null,"Employee Benefit:",null,null,null,null,{"$f":"MIN(Z136:AA136)","v":0}]
[{"$f":"[1]!wwsHide()","v":{"$error":"#NAME?"}},null,null,null,null,null,null,null,null,null,null,null,null,null,null,null,null,null,null,null,"Widow's Benefit:",null,null,null,null,{"$f":"ROUND((Z138/2),2)","v":0}]
[{"$f":"[1]!wwsHide()","v":{"$error":"#NAME?"}},null,null,null,null,null,null,null,null,null,null,null,null,null,null,null,null,null,null,null,"Annuity Percent:",null,null,null,null,{"$f":"IF(YEAR(I90)<1966,0.03,0.015)","v":{"$error":"#NAME?"}}]
[{"$f":"[1]!wwsHide()","v":{"$error":"#NAME?"}},null,null,null,null,null,null,null,null,null,null,null,null,null,null,null,null,null,null,null,"Annuity Increase:",null,null,null,null,{"$f":"ROUND((Z138*Z140),2)","v":{"$error":"#NAME?"}}]
[{"$f":"[1]!wwsHide()","v":{"$error":"#NAME?"}},null,null,null,null,null,null,null,null,null,null,null,null,null,null,null,null,null,null,null,null,0.03,null,null,null,{"$f":"DATE(YEAR($I$90)+55,MONTH($I$90),DAY($I$90))","v":{"$error":"#NAME?"}},{"$f":"DATE(YEAR($I$93)+1,MONTH($I$93),DAY($I$93))","v":{"$error":"#NAME?"}},{"$f":"MAX(Z142:AA142)","v":{"$error":"#NAME?"}},null,null,null,{"$f":"EOMONTH(AB142,0)","v":{"$error":"#NAME?"}},{"$f":"DATE(YEAR(AF142),MONTH(AF142),DAY(AF142)+1)","v":{"$error":"#NAME?"}}]
[{"$f":"[1]!wwsHide()","v":{"$error":"#NAME?"}},null,null,null,null,null,null,null,null,null,null,null,null,null,null,null,null,null,null,null,null,1.4999999999999999E-2,null,null,null,{"$f":"DATE(YEAR($I$90)+60,MONTH($I$90),DAY($I$90))","v":{"$error":"#NAME?"}},{"$f":"DATE(YEAR($I$93)+1,MONTH($I$93),DAY($I$93))","v":{"$error":"#NAME?"}},{"$f":"MAX(Z143:AA143)","v":{"$error":"#NAME?"}},null,null,null,{"$f":"EOMONTH(AB143,0)","v":{"$error":"#NAME?"}},{"$f":"DATE(YEAR(AF143),MONTH(AF143),DAY(AF143)+1)","v":{"$error":"#NAME?"}},{"$f":"IF(MONTH(AG143)=1,DATE(YEAR(AG143)+19,MONTH(1),DAY(1)),DATE(YEAR(AG143)+19,MONTH(1),DAY(1)))","v":{"$error":"#NAME?"}}]
[{"$f":"[1]!wwsHide()","v":{"$error":"#NAME?"}},null,null,null,null,null,null,null,null,null,null,null,null,null,null,null,null,null,null,null,null,"Start Date:",null,null,null,{"$f":"IF(Z140=0.03,AG142,AG143)","v":{"$error":"#NAME?"}}]
[{"$f":"[1]!wwsHide()","v":{"$error":"#NAME?"}},null,null,null,null,null,null,null,null,null,null,null,null,null,null,null,null,null,null,null,null,"End Date:",null,null,null,{"$f":"IF(Z140=0.03,\"For Life\",AH143)","v":{"$error":"#NAME?"}}]
[{"$f":"[1]!wwsHide()","v":{"$error":"#NAME?"}}]
[{"$f":"[1]!wwsHide()","v":{"$error":"#NAME?"}}]
[{"$f":"[1]!wwsHide()","v":{"$error":"#NAME?"}},"53-23"]
[{"$f":"[1]!wwsHide()","v":{"$error":"#NAME?"}}]
[{"$f":"[1]!wwsHide()","v":{"$error":"#NAME?"}}]
[{"$f":"[1]!wwsHide()","v":{"$error":"#NAME?"}},null,null,"Calculation 1",null,null,null,null,null,null,null,"Calculation 2"]
[{"$f":"[1]!wwsHide()","v":{"$error":"#NAME?"}},null,null,"Years","Months","Date",null,null,null,null,null,"Years","Months","Date"]
[{"$f":"[1]!wwsHide()","v":{"$error":"#NAME?"}}]
[{"$f":"[1]!wwsHide()","v":{"$error":"#NAME?"}},null,"Entrance Date",{"$f":"L154","v":{"$error":"#NAME?"}},{"$f":"M154","v":{"$error":"#NAME?"}},{"$f":"N154","v":{"$error":"#NAME?"}},null,null,null,null,"Entrance Date",{"$f":"E35","v":{"$error":"#NAME?"}},{"$f":"F35","v":{"$error":"#NAME?"}},{"$f":"G35","v":{"$error":"#NAME?"}}]
[{"$f":"[1]!wwsHide()","v":{"$error":"#NAME?"}},"+","Time Loss",{"$f":"L155+L170","v":{"$error":"#NAME?"}},{"$f":"M155+M170","v":{"$error":"#NAME?"}},{"$f":"N155+N170","v":{"$error":"#NAME?"}},null,null,null,"+","Pre 23 Years Time Loss",{"$f":"H43","v":{"$error":"#NAME?"}},{"$f":"I43","v":{"$error":"#NAME?"}},{"$f":"J43","v":{"$error":"#NAME?"}}]
[{"$f":"[1]!wwsHide()","v":{"$error":"#NAME?"}},"+","23 Years of Service",{"$f":"L156","v":23},{"$f":"M156","v":0},{"$f":"N156","v":0},null,null,null,"+","23 Years of Service",23,0,0]
[{"$f":"[1]!wwsHide()","v":{"$error":"#NAME?"}},null,null,{"$f":"D154+D155+D156","v":{"$error":"#NAME?"}},{"$f":"E154+E155+E156","v":{"$error":"#NAME?"}},{"$f":"F154+F155+F156","v":{"$error":"#NAME?"}},null,null,null,null,null,{"$f":"L154+L155+L156","v":{"$error":"#NAME?"}},{"$f":"M154+M155+M156","v":{"$error":"#NAME?"}},{"$f":"N154+N155+N156","v":{"$error":"#NAME?"}}]
[{"$f":"[1]!wwsHide()","v":{"$error":"#NAME?"}},null,null,{"$f":"IF((E157+E158)>72,6,IF((E157+E158)>60,5,IF((E157+E158)>48,4,IF((E157+E158)>36,3,IF((E157+E158)>24,2,IF((E157+E158)>12,1,0))))))","v":{"$error":"#NAME?"}},{"$f":"IF(F157>89,3,IF(F157>59,2,IF(F157>30,1,0)))","v":{"$error":"#NAME?"}},null,null,null,null,null,null,{"$f":"IF((M157+M158)>72,6,IF((M157+M158)>60,5,IF((M157+M158)>48,4,IF((M157+M158)>36,3,IF((M157+M158)>24,2,IF((M157+M158)>12,1,0))))))","v":{"$error":"#NAME?"}},{"$f":"IF(N157>89,3,IF(N157>59,2,IF(N157>30,1,0)))","v":{"$error":"#NAME?"}}]
[{"$f":"[1]!wwsHide()","v":{"$error":"#NAME?"}},null,"Ajusted 23 Years of Service",{"$f":"D157+D158","v":{"$error":"#NAME?"}},{"$f":"E157+E158-(D158*12)","v":{"$error":"#NAME?"}},{"$f":"F157-(E158*30)","v":{"$error":"#NAME?"}},{"$f":"DATE(D159,E159,F159)","v":{"$error":"#NAME?"}},null,null,null,"Ajusted 23 Years of Service",{"$f":"L157+L158","v":{"$error":"#NAME?"}},{"$f":"M157+M158-(L158*12)","v":{"$error":"#NAME?"}},{"$f":"N157-(M158*30)","v":{"$error":"#NAME?"}},{"$f":"DATE(L159,M159,N159)","v":{"$error":"#NAME?"}}]
[{"$f":"[1]!wwsHide()","v":{"$error":"#NAME?"}}]
[{"$f":"[1]!wwsHide()","v":{"$error":"#NAME?"}}]
[{"$f":"[1]!wwsHide()","v":{"$error":"#NAME?"}},null,"Date of Birth",{"$f":"L162","v":{"$error":"#NAME?"}},{"$error":"#NAME?"},{"$error":"#NAME?"},null,null,null,null,"Date of Birth",{"$f":"E34","v":{"$error":"#NAME?"}},{"$f":"F34","v":{"$error":"#NAME?"}},{"$f":"G34","v":{"$error":"#NAME?"}}]
[{"$f":"[1]!wwsHide()","v":{"$error":"#NAME?"}},"+","53 Years & 1 Day",53,0,1,null,null,null,"+","53 Years & 1 Day",53,0,1]
[{"$f":"[1]!wwsHide()","v":{"$error":"#NAME?"}},null,null,{"$f":"D161+D162+D163","v":{"$error":"#NAME?"}},{"$f":"E161+E162+E163","v":{"$error":"#NAME?"}},{"$f":"F161+F162+F163","v":{"$error":"#NAME?"}},null,null,null,null,null,{"$f":"L162+L163","v":{"$error":"#NAME?"}},{"$f":"M162+M163","v":{"$error":"#NAME?"}},{"$f":"N162+N163","v":{"$error":"#NAME?"}}]
[{"$f":"[1]!wwsHide()","v":{"$error":"#NAME?"}},null,null,{"$f":"IF((E164+E165)>72,6,IF((E164+E165)>60,5,IF((E164+E165)>48,4,IF((E164+E165)>36,3,IF((E164+E165)>24,2,IF((E164+E165)>12,1,0))))))","v":{"$error":"#NAME?"}},{"$f":"IF(F164>89,3,IF(F164>59,2,IF(F164>30,1,0)))","v":{"$error":"#NAME?"}},null,null,null,null,null,null,{"$f":"IF((M164+M165)>72,6,IF((M164+M165)>60,5,IF((M164+M165)>48,4,IF((M164+M165)>36,3,IF((M164+M165)>24,2,IF((M164+M165)>12,1,0))))))","v":{"$error":"#NAME?"}},{"$f":"IF(N164>89,3,IF(N164>59,2,IF(N164>30,1,0)))","v":{"$error":"#NAME?"}}]
[{"$f":"[1]!wwsHide()","v":{"$error":"#NAME?"}},null,"Adjusted 53rd Birthday",{"$f":"D164+D165","v":{"$error":"#NAME?"}},{"$f":"E164+E165-(D165*12)","v":{"$error":"#NAME?"}},{"$f":"F164-(E165*30)","v":{"$error":"#NAME?"}},{"$f":"DATE(D166,E166,F166)","v":{"$error":"#NAME?"}},null,null,null,"Adjusted 53rd Birthday",{"$f":"L164+L165","v":{"$error":"#NAME?"}},{"$f":"M164+M165-(L165*12)","v":{"$error":"#NAME?"}},{"$f":"N164-(M165*30)","v":{"$error":"#NAME?"}},{"$f":"DATE(L166,M166,N166)","v":{"$error":"#NAME?"}}]
[{"$f":"[1]!wwsHide()","v":{"$error":"#NAME?"}}]
[{"$f":"[1]!wwsHide()","v":{"$error":"#NAME?"}}]
[{"$f":"[1]!wwsHide()","v":{"$error":"#NAME?"}},null,"Withdrawal Date",{"$f":"L169","v":{"$error":"#NAME?"}},{"$f":"M169","v":{"$error":"#NAME?"}},{"$f":"N169","v":{"$error":"#NAME?"}},null,null,null,null,"Withdrawal Date",{"$f":"E37","v":{"$error":"#NAME?"}},{"$f":"F37","v":{"$error":"#NAME?"}},{"$f":"G37","v":{"$error":"#NAME?"}}]
[{"$f":"[1]!wwsHide()","v":{"$error":"#NAME?"}},null,null,0,0,0,null,null,null,"-","Post 23 Years Time Loss",0,0,0]
[{"$f":"[1]!wwsHide()","v":{"$error":"#NAME?"}},null,null,{"$f":"D169-D170","v":{"$error":"#NAME?"}},{"$f":"IF(F172=0,(E169-E170),IF(F172=30,(E169-E170-1),IF(F172=60,(E169-E170-2),IF(F172=90,(E169-E170-3),\"error\"))))","v":{"$error":"#NAME?"}},{"$f":"F169-F170","v":{"$error":"#NAME?"}},null,null,null,null,null,{"$f":"L169-L170","v":{"$error":"#NAME?"}},{"$f":"IF(N172=0,(M169-M170),IF(N172=30,(M169-M170-1),IF(N172=60,(M169-M170-2),IF(N172=90,(M169-M170-3),\"error\"))))","v":{"$error":"#NAME?"}},{"$f":"N169-N170","v":{"$error":"#NAME?"}}]
[{"$f":"[1]!wwsHide()","v":{"$error":"#NAME?"}},null,null,{"$f":"IF(E172=0,0,IF(E172=12,1,IF(E172=24,2,IF(E172=36,3,IF(E172=48,4,IF(E172=60,5,\"error\"))))))","v":{"$error":"#NAME?"}},{"$f":"IF(E171>(-1),0,IF(E171<0,12,IF(E171<(-12),24,IF(E171<(-24),36,IF(E171<(-36),48,IF(E171<(-48),60,\"error\"))))))","v":{"$error":"#NAME?"}},{"$f":"IF(F171>(-1),0,IF(F171>(-31),30,IF(F171>(-61),60,IF(F171>(-91),90,\"error\"))))","v":{"$error":"#NAME?"}},null,null,null,null,null,{"$f":"IF(M172=0,0,IF(M172=12,1,IF(M172=24,2,IF(M172=36,3,IF(M172=48,4,IF(M172=60,5,\"error\"))))))","v":{"$error":"#NAME?"}},{"$f":"IF(M171>(-1),0,IF(M171<0,12,IF(M171<(-12),24,IF(M171<(-24),36,IF(M171<(-36),48,IF(M171<(-48),60,\"error\"))))))","v":{"$error":"#NAME?"}},{"$f":"IF(N171>(-1),0,IF(N171>(-31),30,IF(N171>(-61),60,IF(N171>(-91),90,\"error\"))))","v":{"$error":"#NAME?"}}]
[{"$f":"[1]!wwsHide()","v":{"$error":"#NAME?"}},null,"Adjusted Withdrawal Date",{"$f":"D171-D172","v":{"$error":"#NAME?"}},{"$f":"E171+E172","v":{"$error":"#NAME?"}},{"$f":"F171+F172","v":{"$error":"#NAME?"}},null,null,null,null,"Adjusted Withdrawal Date",{"$f":"L171-L172","v":{"$error":"#NAME?"}},{"$f":"M171+M172","v":{"$error":"#NAME?"}},{"$f":"N171+N172","v":{"$error":"#NAME?"}}]
[{"$f":"[1]!wwsHide()","v":{"$error":"#NAME?"}}]
[{"$f":"[1]!wwsHide()","v":{"$error":"#NAME?"}}]
[{"$f":"[1]!wwsHide()","v":{"$error":"#NAME?"}},null,"Adjusted 53rd Birthday",{"$f":"D166","v":{"$error":"#NAME?"}},{"$f":"E166","v":{"$error":"#NAME?"}},{"$f":"F166","v":{"$error":"#NAME?"}},null,null,null,null,"Adjusted 53rd Birthday",{"$f":"L166","v":{"$error":"#NAME?"}},{"$f":"M166","v":{"$error":"#NAME?"}},{"$f":"N166","v":{"$error":"#NAME?"}}]
[{"$f":"[1]!wwsHide()","v":{"$error":"#NAME?"}},"-","Adjusted 23 Years of Service",{"$f":"D159","v":{"$error":"#NAME?"}},{"$f":"E159","v":{"$error":"#NAME?"}},{"$f":"F159","v":{"$error":"#NAME?"}},null,null,null,"-","Adjusted 23 Years of Service",{"$f":"L159","v":{"$error":"#NAME?"}},{"$f":"M159","v":{"$error":"#NAME?"}},{"$f":"N159","v":{"$error":"#NAME?"}}]
[{"$f":"[1]!wwsHide()","v":{"$error":"#NAME?"}},null,null,{"$f":"D176-D177","v":{"$error":"#NAME?"}},{"$f":"IF(F179=0,(E176-E177),IF(F179=30,(E176-E177-1),IF(F179=60,(E176-E177-2),IF(F179=90,(E176-E177-3),\"error\"))))","v":{"$error":"#NAME?"}},{"$f":"F176-F177","v":{"$error":"#NAME?"}},null,null,null,null,null,{"$f":"L176-L177","v":{"$error":"#NAME?"}},{"$f":"IF(N179=0,(M176-M177),IF(N179=30,(M176-M177-1),IF(N179=60,(M176-M177-2),IF(N179=90,(M176-M177-3),\"error\"))))","v":{"$error":"#NAME?"}},{"$f":"N176-N177","v":{"$error":"#NAME?"}}]
[{"$f":"[1]!wwsHide()","v":{"$error":"#NAME?"}},null,null,{"$f":"IF(E179=0,0,IF(E179=12,1,IF(E179=24,2,IF(E179=36,3,IF(E179=48,4,IF(E179=60,5,\"error\"))))))","v":{"$error":"#NAME?"}},{"$f":"IF(E178>(-1),0,IF(E178<0,12,IF(E178<(-12),24,IF(E178<(-24),36,IF(E178<(-36),48,IF(E178<(-48),60,\"error\"))))))","v":{"$error":"#NAME?"}},{"$f":"IF(F178>(-1),0,IF(F178>(-31),30,IF(F178>(-61),60,IF(F178>(-91),90,\"error\"))))","v":{"$error":"#NAME?"}},null,null,null,null,null,{"$f":"IF(M179=0,0,IF(M179=12,1,IF(M179=24,2,IF(M179=36,3,IF(M179=48,4,IF(M179=60,5,\"error\"))))))","v":{"$error":"#NAME?"}},{"$f":"IF(M178>(-1),0,IF(M178<0,12,IF(M178<(-12),24,IF(M178<(-24),36,IF(M178<(-36),48,IF(M178<(-48),60,\"error\"))))))","v":{"$error":"#NAME?"}},{"$f":"IF(N178>(-1),0,IF(N178>(-31),30,IF(N178>(-61),60,IF(N178>(-91),90,\"error\"))))","v":{"$error":"#NAME?"}}]
[{"$f":"[1]!wwsHide()","v":{"$error":"#NAME?"}},null,"23 Years - 53rd Birthday",{"$f":"D178-D179","v":{"$error":"#NAME?"}},{"$f":"E178+E179","v":{"$error":"#NAME?"}},{"$f":"F178+F179","v":{"$error":"#NAME?"}},null,{"$f":"(IF(D180<0,0,IF(E180>0,(D180+1),IF(F180>0,(D180+1),D180))))/100","v":{"$error":"#NAME?"}},null,null,"23 Years - 53rd Birthday",{"$f":"L178-L179","v":{"$error":"#NAME?"}},{"$f":"M178+M179","v":{"$error":"#NAME?"}},{"$f":"N178+N179","v":{"$error":"#NAME?"}},null,{"$f":"(IF(L180<0,0,IF(M180>0,(L180+1),IF(N180>0,(L180+1),L180))))/100","v":{"$error":"#NAME?"}}]
[{"$f":"[1]!wwsHide()","v":{"$error":"#NAME?"}}]
[{"$f":"[1]!wwsHide()","v":{"$error":"#NAME?"}}]
[{"$f":"[1]!wwsHide()","v":{"$error":"#NAME?"}},null,"Adjusted Withdrawal Date",{"$f":"D173","v":{"$error":"#NAME?"}},{"$f":"E173","v":{"$error":"#NAME?"}},{"$f":"F173","v":{"$error":"#NAME?"}},null,null,null,null,"Adjusted Withdrawal Date",{"$f":"L173","v":{"$error":"#NAME?"}},{"$f":"M173","v":{"$error":"#NAME?"}},{"$f":"N173","v":{"$error":"#NAME?"}}]
[{"$f":"[1]!wwsHide()","v":{"$error":"#NAME?"}},"-","23 Y.O.S. & 53rd Birthday",{"$f":"IF($G159>$G166,D159,D166)","v":{"$error":"#NAME?"}},{"$f":"IF($G159>$G166,E159,E166)","v":{"$error":"#NAME?"}},{"$f":"IF($G159>$G166,F159,F166)","v":{"$error":"#NAME?"}},null,null,null,"-","23 Y.O.S. & 53rd Birthday",{"$f":"IF($O159>$O166,L159,L166)","v":{"$error":"#NAME?"}},{"$f":"IF($O159>$O166,M159,M166)","v":{"$error":"#NAME?"}},{"$f":"IF($O159>$O166,N159,N166)","v":{"$error":"#NAME?"}}]
[{"$f":"[1]!wwsHide()","v":{"$error":"#NAME?"}},null,null,{"$f":"D183-D184","v":{"$error":"#NAME?"}},{"$f":"IF(F186=0,(E183-E184),IF(F186=30,(E183-E184-1),IF(F186=60,(E183-E184-2),IF(F186=90,(E183-E184-3),\"error\"))))","v":{"$error":"#NAME?"}},{"$f":"F183-F184","v":{"$error":"#NAME?"}},null,null,null,null,null,{"$f":"L183-L184","v":{"$error":"#NAME?"}},{"$f":"IF(N186=0,(M183-M184),IF(N186=30,(M183-M184-1),IF(N186=60,(M183-M184-2),IF(N186=90,(M183-M184-3),\"error\"))))","v":{"$error":"#NAME?"}},{"$f":"N183-N184","v":{"$error":"#NAME?"}}]
[{"$f":"[1]!wwsHide()","v":{"$error":"#NAME?"}},null,null,{"$f":"IF(E186=0,0,IF(E186=12,1,IF(E186=24,2,IF(E186=36,3,IF(E186=48,4,IF(E186=60,5,\"error\"))))))","v":{"$error":"#NAME?"}},{"$f":"IF(E185>(-1),0,IF(E185<0,12,IF(E185<(-12),24,IF(E185<(-24),36,IF(E185<(-36),48,IF(E185<(-48),60,\"error\"))))))","v":{"$error":"#NAME?"}},{"$f":"IF(F185>(-1),0,IF(F185>(-31),30,IF(F185>(-61),60,IF(F185>(-91),90,\"error\"))))","v":{"$error":"#NAME?"}},null,null,null,null,null,{"$f":"IF(M186=0,0,IF(M186=12,1,IF(M186=24,2,IF(M186=36,3,IF(M186=48,4,IF(M186=60,5,\"error\"))))))","v":{"$error":"#NAME?"}},{"$f":"IF(M185>(-1),0,IF(M185<0,12,IF(M185<(-12),24,IF(M185<(-24),36,IF(M185<(-36),48,IF(M185<(-48),60,\"error\"))))))","v":{"$error":"#NAME?"}},{"$f":"IF(N185>(-1),0,IF(N185>(-31),30,IF(N185>(-61),60,IF(N185>(-91),90,\"error\"))))","v":{"$error":"#NAME?"}}]
[{"$f":"[1]!wwsHide()","v":{"$error":"#NAME?"}},null,"53rd Birthday - Withdrawal",{"$f":"D185-D186","v":{"$error":"#NAME?"}},{"$f":"E185+E186","v":{"$error":"#NAME?"}},{"$f":"F185+F186","v":{"$error":"#NAME?"}},null,{"$f":"((IF(D187<0,0,IF(E187>0,(D187+1),IF(F187>0,(D187+1),D187))))/100)*2","v":{"$error":"#NAME?"}},null,null,"53rd Birthday - Withdrawal",{"$f":"L185-L186","v":{"$error":"#NAME?"}},{"$f":"M185+M186","v":{"$error":"#NAME?"}},{"$f":"N185+N186","v":{"$error":"#NAME?"}},null,{"$f":"((IF(L187<0,0,IF(M187>0,(L187+1),IF(N187>0,(L187+1),L187))))/100)*2","v":{"$error":"#NAME?"}}]
[{"$f":"[1]!wwsHide()","v":{"$error":"#NAME?"}}]
[{"$f":"[1]!wwsHide()","v":{"$error":"#NAME?"}}]
[{"$f":"[1]!wwsHide()","v":{"$error":"#NAME?"}},null,null,null,null,null,null,{"$f":"IF((H187)=0,0,0.5)","v":{"$error":"#NAME?"}},null,null,"Automatic Percentage",null,null,null,null,{"$f":"IF((P187)=0,0,0.5)","v":{"$error":"#NAME?"}}]
[{"$f":"[1]!wwsHide()","v":{"$error":"#NAME?"}}]
[{"$f":"[1]!wwsHide()","v":{"$error":"#NAME?"}}]
[{"$f":"[1]!wwsHide()","v":{"$error":"#NAME?"}},null,"Total Percentage",null,null,null,null,{"$f":"IF(H190=0,0,(H180+H187+H190))","v":{"$error":"#NAME?"}},null,null,null,null,null,null,null,{"$f":"IF(P190=0,0,(P180+P187+P190))","v":{"$error":"#NAME?"}}]
[{"$f":"[1]!wwsHide()","v":{"$error":"#NAME?"}}]
[{"$f":"[1]!wwsHide()","v":{"$error":"#NAME?"}}]
[{"$f":"[1]!wwsHide()","v":{"$error":"#NAME?"}},"Ranks"]
[{"$f":"[1]!wwsHide()","v":{"$error":"#NAME?"}},"Rank","Code","Class"]
[{"$f":"[1]!wwsHide()","v":{"$error":"#NAME?"}}]
[{"$f":"[1]!wwsHide()","v":{"$error":"#NAME?"}}]
[{"$f":"[1]!wwsHide()","v":{"$error":"#NAME?"}}]
[{"$f":"[1]!wwsHide()","v":{"$error":"#NAME?"}},"Paramedic","PM","PM"]
[{"$f":"[1]!wwsHide()","v":{"$error":"#NAME?"}},"Firefighter","FF","FF"]
[{"$f":"[1]!wwsHide()","v":{"$error":"#NAME?"}},"Firefighter-EMT","FF-EMT","FF"]
[{"$f":"[1]!wwsHide()","v":{"$error":"#NAME?"}},"Firefighter-Paramedic","FF-PM","FF"]
[{"$f":"[1]!wwsHide()","v":{"$error":"#NAME?"}},"Paramedic In Charge","PIC","PM"]
[{"$f":"[1]!wwsHide()","v":{"$error":"#NAME?"}},"Engineer","ENG","FF"]
[{"$f":"[1]!wwsHide()","v":{"$error":"#NAME?"}},"Firefighter (Per Arbitrators Award)","FF-ARB","FF"]
[{"$f":"[1]!wwsHide()","v":{"$error":"#NAME?"}},"Engineer-EMT","ENG-EMT","FF"]
[{"$f":"[1]!wwsHide()","v":{"$error":"#NAME?"}},"Firefighter-EMT (Per Arbitrators Award)","FF-EMT-ARB","FF"]
[{"$f":"[1]!wwsHide()","v":{"$error":"#NAME?"}},"Engineer-Paramedic","ENG-PM","FF"]
[{"$f":"[1]!wwsHide()","v":{"$error":"#NAME?"}},"Firefighter-Paramedic (Per Arbitrators Award)","FF-PM-ARB","FF"]
[{"$f":"[1]!wwsHide()","v":{"$error":"#NAME?"}},"Lieutenant","LT","FF"]
[{"$f":"[1]!wwsHide()","v":{"$error":"#NAME?"}},"Lieutenant-EMT","LT-EMT","FF"]
[{"$f":"[1]!wwsHide()","v":{"$error":"#NAME?"}},"Lieutenant-Paramedic","LT-PM","FF"]
[{"$f":"[1]!wwsHide()","v":{"$error":"#NAME?"}},"Ambulance Commander","AC","PM"]
[{"$f":"[1]!wwsHide()","v":{"$error":"#NAME?"}},"Captain","CAPT","FF"]
[{"$f":"[1]!wwsHide()","v":{"$error":"#NAME?"}},"Captain-EMT","CAPT-EMT","FF"]
[{"$f":"[1]!wwsHide()","v":{"$error":"#NAME?"}},"Captain-Paramedic","CAPT-PM","FF"]
[{"$f":"[1]!wwsHide()","v":{"$error":"#NAME?"}},"Paramedic Field Chief","PFC","PM"]
[{"$f":"[1]!wwsHide()","v":{"$error":"#NAME?"}},"Battalion Chief","BC","FF"]
[{"$f":"[1]!wwsHide()","v":{"$error":"#NAME?"}},"Battalion Chief-EMT","BC-EMT","FF"]
[{"$f":"[1]!wwsHide()","v":{"$error":"#NAME?"}},"Battalion Chief-Paramedic","BC-PM","FF"]
[{"$f":"[1]!wwsHide()","v":{"$error":"#NAME?"}}]
[{"$f":"[1]!wwsHide()","v":{"$error":"#NAME?"}}]
[{"$f":"[1]!wwsHide()","v":{"$error":"#NAME?"}},"Step 11 Salaries"]
[{"$f":"[1]!wwsHide()","v":{"$error":"#NAME?"}},"STEP 11",2,3,4,5,6,7,8,9,10,11,12,13,14,15,16,17,18,19,20,21]
[{"$f":"[1]!wwsHide()","v":{"$error":"#NAME?"}},"Day Before Effective Date","2016-12-31","2016-09-30","2016-06-30","2015-12-31","2015-09-30","2014-12-31","2013-12-31","2013-09-30","2012-12-31","2012-06-30","2011-12-31","2011-09-30","2010-12-31","2010-09-30","2009-12-31","2008-12-31","2007-12-31","2007-06-30","2007-03-31","2006-12-31"]
[{"$f":"[1]!wwsHide()","v":{"$error":"#NAME?"}},"Effective Date","2017-01-01","2016-10-01","2016-07-01","2016-01-01","2015-10-01","2015-01-01","2014-01-01","2013-10-01","2013-01-01","2012-07-01","2012-01-01","2011-10-01","2011-01-01","2010-10-01","2010-01-01","2009-01-01","2008-01-01","2007-07-01","2007-04-01","2007-01-01"]
[{"$f":"[1]!wwsHide()","v":{"$error":"#NAME?"}}]
[{"$f":"[1]!wwsHide()","v":{"$error":"#NAME?"}},"PENSIONABLE",null,"new DAP",null,null,"new DAP",null,null,"new DAP",null,null,null,"new DAP",null,"new DAP",null,null,null,null,"new DAP","all new"]
[{"$f":"[1]!wwsHide()","v":{"$error":"#NAME?"}},"PM",8698.5,8615.5,8605.5,8442.5,8362,8357,8277,8120.5,8103.8333000000002,7950.3333000000002,7799.8333000000002,7725.3333000000002,7694.6665999999996,7548.6665999999996,7540.3333000000002,7467.8333000000002,7325.8333000000002,7119.3333000000002,7051.3333000000002,6938.6665999999996]
[{"$f":"[1]!wwsHide()","v":{"$error":"#NAME?"}},"FF",8698.5,8615.5,8605.5,8442.5,8362,8357,8277,8120.5,8103.8333000000002,7950.3333000000002,7799.8333000000002,7725.3333000000002,7708.6665999999996,7562.6665999999996,7554.3333000000002,7481.8333000000002,7339.8333000000002,7133.3333000000002,7065.3333000000002,7065.3333000000002]
[{"$f":"[1]!wwsHide()","v":{"$error":"#NAME?"}},"FF-EMT",9209,9121,9111,8938,8852.5,8847.5,8679.5,8515,8498.3333000000002,8336.8333000000002,8177.3333000000002,8098.8333000000002,8082.1665999999996,7855.6665999999996,7847.3333000000002,7771.8333000000002,7624.3333000000002,7409.3333000000002,7338.3333000000002,7338.3333000000002]
[{"$f":"[1]!wwsHide()","v":{"$error":"#NAME?"}},"FF-PM",9421,9330.5,9320.5,9143.5,9056,9051,8879,8710.5,8693.8333000000002,8528.8333000000002,8364.8333000000002,8284.8333000000002,8268.1666000000005,8074.6665999999996,8066.3333000000002,7988.8333000000002,7836.8333000000002,7615.8333000000002,7542.8333000000002,7542.8333000000002]
[{"$f":"[1]!wwsHide()","v":{"$error":"#NAME?"}},"PIC",9262.5,9174,9164,8990,8904,8899,8813.5,8646.5,8629.8333000000002,8465.8333000000002,8305.3333000000002,8225.8333000000002,8195.1666000000005,8039.1665999999996,8030.8333000000002,7953.8333000000002,7802.3333000000002,7581.8333000000002,7508.8333000000002,7396.1665999999996]
[{"$f":"[1]!wwsHide()","v":{"$error":"#NAME?"}},"ENG",9262.5,9174,9164,8990,8904,8899,8813.5,8646.5,8629.8333000000002,8465.8333000000002,8305.3333000000002,8225.8333000000002,8209.1666000000005,8053.1665999999996,8044.8333000000002,7967.8333000000002,7816.3333000000002,7595.8333000000002,7522.8333000000002,7522.8333000000002]
[{"$f":"[1]!wwsHide()","v":{"$error":"#NAME?"}},"FF-ARB",9262.5,9174,9164,8990,8904,8899,8813.5,8646.5,8629.8333000000002,8465.8333000000002,8305.3333000000002,8225.8333000000002,8209.1666000000005,8053.1665999999996,8044.8333000000002,7967.8333000000002,7816.3333000000002,7595.8333000000002,7522.8333000000002,7522.8333000000002]
[{"$f":"[1]!wwsHide()","v":{"$error":"#NAME?"}},"ENG-EMT",9806,9712,9702,9517.5,9426,9421,9242,9066.5,9049.8333000000002,8877.8333000000002,8707.3333000000002,8623.8333000000002,8607.1666000000005,8365.1666000000005,8356.8333000000002,8276.3333000000002,8118.8333000000002,7889.3333000000002,7813.8333000000002,7813.8333000000002]
[{"$f":"[1]!wwsHide()","v":{"$error":"#NAME?"}},"FF-EMT-ARB",9806,9712,9702,9517.5,9426,9421,9242,9066.5,9049.8333000000002,8877.8333000000002,8707.3333000000002,8623.8333000000002,8607.1666000000005,8365.1666000000005,8356.8333000000002,8276.3333000000002,8118.8333000000002,7889.3333000000002,7813.8333000000002,7813.8333000000002]
[{"$f":"[1]!wwsHide()","v":{"$error":"#NAME?"}},"ENG-PM",10033.5,9937,9927,9738,9644.5,9639.5,9456,9276,9259.3333000000002,9082.8333000000002,8907.8333000000002,8822.3333000000002,8805.6666000000005,8599.1666000000005,8590.8333000000002,8508.3333000000002,8346.3333000000002,8110.3333000000002,8032.3333000000002,8032.3333000000002]
[{"$f":"[1]!wwsHide()","v":{"$error":"#NAME?"}},"FF-PM-ARB",10033.5,9937,9927,9738,9644.5,9639.5,9456,9276,9259.3333000000002,9082.8333000000002,8907.8333000000002,8822.3333000000002,8805.6666000000005,8599.1666000000005,8590.8333000000002,8508.3333000000002,8346.3333000000002,8110.3333000000002,8032.3333000000002,8032.3333000000002]
[{"$f":"[1]!wwsHide()","v":{"$error":"#NAME?"}},"LT",10158,10060.5,10050.5,9859,9764.5,9759.5,9665.5,9481.5,9464.8333000000002,9284.3333000000002,9107.3333000000002,9019.8333000000002,9003.1666000000005,8831.6666000000005,8823.3333000000002,8738.3333000000002,8571.8333000000002,8329.3333000000002,8249.3333000000002,8249.3333000000002]
[{"$f":"[1]!wwsHide()","v":{"$error":"#NAME?"}},"LT-EMT",10755,10651.5,10641.5,10438.5,10338,10333,10136,9943,9926.3333000000002,9736.8333000000002,9549.8333000000002,9457.8333000000002,9441.1666000000005,9175.1666000000005,9166.8333000000002,9078.3333000000002,8905.3333000000002,8652.8333000000002,8569.3333000000002,8569.3333000000002]
[{"$f":"[1]!wwsHide()","v":{"$error":"#NAME?"}},"LT-PM",11004.5,10898.5,10888.5,10680.5,10577.5,10572.5,10371,10173,10156.3333,9962.3333000000002,9770.3333000000002,9676.3333000000002,9659.6666000000005,9432.1666000000005,9423.8333000000002,9332.8333000000002,9154.8333000000002,8895.3333000000002,8809.8333000000002,8809.8333000000002]
[{"$f":"[1]!wwsHide()","v":{"$error":"#NAME?"}},"AC",11318.5,11209.5,11199.5,10985.5,10879.5,10874.5,10769.5,10564,10547.3333,10345.8333,10148.3333,10050.3333,10019.6666,9827.6666000000005,9819.3333000000002,9724.3333000000002,9538.3333000000002,9267.3333000000002,9177.8333000000002,9065.1666000000005]
[{"$f":"[1]!wwsHide()","v":{"$error":"#NAME?"}},"CAPT",11318.5,11209.5,11199.5,10985.5,10879.5,10874.5,10769.5,10564,10547.3333,10345.8333,10148.3333,10050.3333,10033.6666,9841.6666000000005,9833.3333000000002,9738.3333000000002,9552.3333000000002,9281.3333000000002,9191.8333000000002,9191.8333000000002]
[{"$f":"[1]!wwsHide()","v":{"$error":"#NAME?"}},"CAPT-EMT",11985.5,11870,11860,11633,11520.5,11515.5,11295.5,11079.5,11062.8333,10806.3333,10642.3333,10539.8333,10523.1666,10225.6666,10217.3333,10118.3333,9924.8333000000002,9642.8333000000002,9549.8333000000002,9549.8333000000002]
[{"$f":"[1]!wwsHide()","v":{"$error":"#NAME?"}},"CAPT-PM",12264.5,12146,12136,11903.5,11788.5,11783.5,11558,11337,11320.3333,11103.8333,10888.8333,10783.8333,10767.1666,10513.1666,10504.8333,10403.3333,10204.3333,9914.3333000000002,9818.3333000000002,9818.3333000000002]
[{"$f":"[1]!wwsHide()","v":{"$error":"#NAME?"}},"PFC",12284.5,12166,12156,11923.5,11808.5,11803.5,11689.5,11466,11449.3333,11230.3333,11015.3333,10908.8333,10878.1666,10669.6666,10661.3333,10557.8333,10355.3333,10060.3333,9962.8333000000002,9850.1666000000005]
[{"$f":"[1]!wwsHide()","v":{"$error":"#NAME?"}},"BC",12284.5,12166,12156,11923.5,11808.5,11803.5,11689.5,11466,11449.3333,11230.3333,11015.3333,10908.8333,10892.1666,10683.6666,10675.3333,10571.8333,10369.3333,10074.3333,9976.8333000000002,9976.8333000000002]
[{"$f":"[1]!wwsHide()","v":{"$error":"#NAME?"}},"BC-EMT",13010.5,12884.5,12874.5,12627.5,12505.5,12500.5,12261,12026,12009.3333,11779.3333,11551.8333,11440.3333,11423.6666,11100.1666,11091.8333,10984.3333,10773.8333,10467.3333,10366.3333,10366.3333]
[{"$f":"[1]!wwsHide()","v":{"$error":"#NAME?"}},"BC-PM",13313.5,13184.5,13174.5,12922,12797,12792,12547,12306.5,12289.8333,12054.3333,11820.8333,11706.3333,11689.6666,11413.1666,11404.8333,11294.3333,11077.8333,10762.3333,10658.3333,10658.3333]
[{"$f":"[1]!wwsHide()","v":{"$error":"#NAME?"}}]
[{"$f":"[1]!wwsHide()","v":{"$error":"#NAME?"}},"CIVIL SERVICE"]
[{"$f":"[1]!wwsHide()","v":{"$error":"#NAME?"}},"PM",8398.5,8315.5,8315.5,8152.5,8072,8072,7992,7835.5,7835.5,7682,7531.5,7457,7457,7311,7311,7238.5,7096.5,6890,6822,6822]
[{"$f":"[1]!wwsHide()","v":{"$error":"#NAME?"}},"FF",8398.5,8315.5,8315.5,8152.5,8072,8072,7992,7835.5,7835.5,7682,7531.5,7457,7457,7311,7311,7238.5,7096.5,6890,6822,6822]
[{"$f":"[1]!wwsHide()","v":{"$error":"#NAME?"}},"FF-EMT",8909,8821,8821,8648,8562.5,8562.5,8394.5,8230,8230,8068.5,7909,7830.5,7830.5,7604,7604,7528.5,7381,7166,7095,7095]
[{"$f":"[1]!wwsHide()","v":{"$error":"#NAME?"}},"FF-PM",9121,9030.5,9030.5,8853.5,8766,8766,8594,8425.5,8425.5,8260.5,8096.5,8016.5,8016.5,7823,7823,7745.5,7593.5,7372.5,7299.5,7299.5]
[{"$f":"[1]!wwsHide()","v":{"$error":"#NAME?"}},"PIC",8962.5,8874,8874,8700,8614,8614,8528.5,8361.5,8361.5,8197.5,8037,7957.5,7957.5,7801.5,7801.5,7724.5,7573,7352.5,7279.5,7279.5]
[{"$f":"[1]!wwsHide()","v":{"$error":"#NAME?"}},"ENG",8962.5,8874,8874,8700,8614,8614,8528.5,8361.5,8361.5,8197.5,8037,7957.5,7957.5,7801.5,7801.5,7724.5,7573,7352.5,7279.5,7279.5]
[{"$f":"[1]!wwsHide()","v":{"$error":"#NAME?"}},"FF-ARB",8962.5,8874,8874,8700,8614,8614,8528.5,8361.5,8361.5,8197.5,8037,7957.5,7957.5,7801.5,7801.5,7724.5,7573,7352.5,7279.5,7279.5]
[{"$f":"[1]!wwsHide()","v":{"$error":"#NAME?"}},"ENG-EMT",9506,9412,9412,9227.5,9136,9136,8957,8781.5,8781.5,8609.5,8439,8355.5,8355.5,8113.5,8113.5,8033,7875.5,7646,7570.5,7570.5]
[{"$f":"[1]!wwsHide()","v":{"$error":"#NAME?"}},"FF-EMT-ARB",9506,9412,9412,9227.5,9136,9136,8957,8781.5,8781.5,8609.5,8439,8355.5,8355.5,8113.5,8113.5,8033,7875.5,7646,7570.5,7570.5]
[{"$f":"[1]!wwsHide()","v":{"$error":"#NAME?"}},"ENG-PM",9733.5,9637,9637,9448,9354.5,9354.5,9171,8991,8991,8814.5,8639.5,8554,8554,8347.5,8347.5,8265,8103,7867,7789,7789]
[{"$f":"[1]!wwsHide()","v":{"$error":"#NAME?"}},"FF-PM-ARB",9733.5,9637,9637,9448,9354.5,9354.5,9171,8991,8991,8814.5,8639.5,8554,8554,8347.5,8347.5,8265,8103,7867,7789,7789]
[{"$f":"[1]!wwsHide()","v":{"$error":"#NAME?"}},"LT",9858,9760.5,9760.5,9569,9474.5,9474.5,9380.5,9196.5,9196.5,9016,8839,8751.5,8751.5,8580,8580,8495,8328.5,8086,8006,8006]
[{"$f":"[1]!wwsHide()","v":{"$error":"#NAME?"}},"LT-EMT",10455,10351.5,10351.5,10148.5,10048,10048,9851,9658,9658,9468.5,9281.5,9189.5,9189.5,8923.5,8923.5,8835,8662,8409.5,8326,8326]
[{"$f":"[1]!wwsHide()","v":{"$error":"#NAME?"}},"LT-PM",10704.5,10598.5,10598.5,10390.5,10287.5,10287.5,10086,9888,9888,9694,9502,9408,9408,9180.5,9180.5,9089.5,8911.5,8652,8566.5,8566.5]
[{"$f":"[1]!wwsHide()","v":{"$error":"#NAME?"}},"AC",11018.5,10909.5,10909.5,10695.5,10589.5,10589.5,10484.5,10279,10279,10077.5,9880,9782,9782,9590,9590,9495,9309,9038,8948.5,8948.5]
[{"$f":"[1]!wwsHide()","v":{"$error":"#NAME?"}},"CAPT",11018.5,10909.5,10909.5,10695.5,10589.5,10589.5,10484.5,10279,10279,10077.5,9880,9782,9782,9590,9590,9495,9309,9038,8948.5,8948.5]
[{"$f":"[1]!wwsHide()","v":{"$error":"#NAME?"}},"CAPT-EMT",11685.5,11570,11570,11343,11230.5,11230.5,11010.5,10794.5,10794.5,10538,10374,10271.5,10271.5,9974,9974,9875,9681.5,9399.5,9306.5,9306.5]
[{"$f":"[1]!wwsHide()","v":{"$error":"#NAME?"}},"CAPT-PM",11964.5,11846,11846,11613.5,11498.5,11498.5,11273,11052,11052,10835.5,10620.5,10515.5,10515.5,10261.5,10261.5,10160,9961,9671,9575,9575]
[{"$f":"[1]!wwsHide()","v":{"$error":"#NAME?"}},"PFC",11984.5,11866,11866,11633.5,11518.5,11518.5,11404.5,11181,11181,10962,10747,10640.5,10640.5,10432,10432,10328.5,10126,9831,9733.5,9733.5]
[{"$f":"[1]!wwsHide()","v":{"$error":"#NAME?"}},"BC",11984.5,11866,11866,11633.5,11518.5,11518.5,11404.5,11181,11181,10962,10747,10640.5,10640.5,10432,10432,10328.5,10126,9831,9733.5,9733.5]
[{"$f":"[1]!wwsHide()","v":{"$error":"#NAME?"}},"BC-EMT",12710.5,12584.5,12584.5,12337.5,12215.5,12215.5,11976,11741,11741,11511,11283.5,11172,11172,10848.5,10848.5,10741,10530.5,10224,10123,10123]
[{"$f":"[1]!wwsHide()","v":{"$error":"#NAME?"}},"BC-PM",13013.5,12884.5,12884.5,12632,12507,12507,12262,12021.5,12021.5,11786,11552.5,11438,11438,11161.5,11161.5,11051,10834.5,10519,10415,10415]
[{"$f":"[1]!wwsHide()","v":{"$error":"#NAME?"}}]
[{"$f":"[1]!wwsHide()","v":{"$error":"#NAME?"}},"DAP"]
[{"$f":"[1]!wwsHide()","v":{"$error":"#NAME?"}},"PM",300,300,290,290,290,285,285,285,268.33330000000001,268.33330000000001,268.33330000000001,268.33330000000001,237.66659999999999,237.66659999999999,229.33330000000001,229.33330000000001,229.33330000000001,229.33330000000001,229.33330000000001,116.6666]
[{"$f":"[1]!wwsHide()","v":{"$error":"#NAME?"}},"FF",300,300,290,290,290,285,285,285,268.33330000000001,268.33330000000001,268.33330000000001,268.33330000000001,251.66659999999999,251.66659999999999,243.33330000000001,243.33330000000001,243.33330000000001,243.33330000000001,243.33330000000001,243.33330000000001]
[{"$f":"[1]!wwsHide()","v":{"$error":"#NAME?"}},"FF-EMT",300,300,290,290,290,285,285,285,268.33330000000001,268.33330000000001,268.33330000000001,268.33330000000001,251.66659999999999,251.66659999999999,243.33330000000001,243.33330000000001,243.33330000000001,243.33330000000001,243.33330000000001,243.33330000000001]
[{"$f":"[1]!wwsHide()","v":{"$error":"#NAME?"}},"FF-PM",300,300,290,290,290,285,285,285,268.33330000000001,268.33330000000001,268.33330000000001,268.33330000000001,251.66659999999999,251.66659999999999,243.33330000000001,243.33330000000001,243.33330000000001,243.33330000000001,243.33330000000001,243.33330000000001]
[{"$f":"[1]!wwsHide()","v":{"$error":"#NAME?"}},"PIC",300,300,290,290,290,285,285,285,268.33330000000001,268.33330000000001,268.33330000000001,268.33330000000001,237.66659999999999,237.66659999999999,229.33330000000001,229.33330000000001,229.33330000000001,229.33330000000001,229.33330000000001,116.6666]
[{"$f":"[1]!wwsHide()","v":{"$error":"#NAME?"}},"ENG",300,300,290,290,290,285,285,285,268.33330000000001,268.33330000000001,268.33330000000001,268.33330000000001,251.66659999999999,251.66659999999999,243.33330000000001,243.33330000000001,243.33330000000001,243.33330000000001,243.33330000000001,243.33330000000001]
[{"$f":"[1]!wwsHide()","v":{"$error":"#NAME?"}},"FF-ARB",300,300,290,290,290,285,285,285,268.33330000000001,268.33330000000001,268.33330000000001,268.33330000000001,251.66659999999999,251.66659999999999,243.33330000000001,243.33330000000001,243.33330000000001,243.33330000000001,243.33330000000001,243.33330000000001]
[{"$f":"[1]!wwsHide()","v":{"$error":"#NAME?"}},"ENG-EMT",300,300,290,290,290,285,285,285,268.33330000000001,268.33330000000001,268.33330000000001,268.33330000000001,251.66659999999999,251.66659999999999,243.33330000000001,243.33330000000001,243.33330000000001,243.33330000000001,243.33330000000001,243.33330000000001]
[{"$f":"[1]!wwsHide()","v":{"$error":"#NAME?"}},"FF-EMT-ARB",300,300,290,290,290,285,285,285,268.33330000000001,268.33330000000001,268.33330000000001,268.33330000000001,251.66659999999999,251.66659999999999,243.33330000000001,243.33330000000001,243.33330000000001,243.33330000000001,243.33330000000001,243.33330000000001]
[{"$f":"[1]!wwsHide()","v":{"$error":"#NAME?"}},"ENG-PM",300,300,290,290,290,285,285,285,268.33330000000001,268.33330000000001,268.33330000000001,268.33330000000001,251.66659999999999,251.66659999999999,243.33330000000001,243.33330000000001,243.33330000000001,243.33330000000001,243.33330000000001,243.33330000000001]
[{"$f":"[1]!wwsHide()","v":{"$error":"#NAME?"}},"FF-PM-ARB",300,300,290,290,290,285,285,285,268.33330000000001,268.33330000000001,268.33330000000001,268.33330000000001,251.66659999999999,251.66659999999999,243.33330000000001,243.33330000000001,243.33330000000001,243.33330000000001,243.33330000000001,243.33330000000001]
[{"$f":"[1]!wwsHide()","v":{"$error":"#NAME?"}},"LT",300,300,290,290,290,285,285,285,268.33330000000001,268.33330000000001,268.33330000000001,268.33330000000001,251.66659999999999,251.66659999999999,243.33330000000001,243.33330000000001,243.33330000000001,243.33330000000001,243.33330000000001,243.33330000000001]
[{"$f":"[1]!wwsHide()","v":{"$error":"#NAME?"}},"LT-EMT",300,300,290,290,290,285,285,285,268.33330000000001,268.33330000000001,268.33330000000001,268.33330000000001,251.66659999999999,251.66659999999999,243.33330000000001,243.33330000000001,243.33330000000001,243.33330000000001,243.33330000000001,243.33330000000001]
[{"$f":"[1]!wwsHide()","v":{"$error":"#NAME?"}},"LT-PM",300,300,290,290,290,285,285,285,268.33330000000001,268.33330000000001,268.33330000000001,268.33330000000001,251.66659999999999,251.66659999999999,243.33330000000001,243.33330000000001,243.33330000000001,243.33330000000001,243.33330000000001,243.33330000000001]
[{"$f":"[1]!wwsHide()","v":{"$error":"#NAME?"}},"AC",300,300,290,290,290,285,285,285,268.33330000000001,268.33330000000001,268.33330000000001,268.33330000000001,237.66659999999999,237.66659999999999,229.33330000000001,229.33330000000001,229.33330000000001,229.33330000000001,229.33330000000001,116.6666]
[{"$f":"[1]!wwsHide()","v":{"$error":"#NAME?"}},"CAPT",300,300,290,290,290,285,285,285,268.33330000000001,268.33330000000001,268.33330000000001,268.33330000000001,251.66659999999999,251.66659999999999,243.33330000000001,243.33330000000001,243.33330000000001,243.33330000000001,243.33330000000001,243.33330000000001]
[{"$f":"[1]!wwsHide()","v":{"$error":"#NAME?"}},"CAPT-EMT",300,300,290,290,290,285,285,285,268.33330000000001,268.33330000000001,268.33330000000001,268.33330000000001,251.66659999999999,251.66659999999999,243.33330000000001,243.33330000000001,243.33330000000001,243.33330000000001,243.33330000000001,243.33330000000001]
[{"$f":"[1]!wwsHide()","v":{"$error":"#NAME?"}},"CAPT-PM",300,300,290,290,290,285,285,285,268.33330000000001,268.33330000000001,268.33330000000001,268.33330000000001,251.66659999999999,251.66659999999999,243.33330000000001,243.33330000000001,243.33330000000001,243.33330000000001,243.33330000000001,243.33330000000001]
[{"$f":"[1]!wwsHide()","v":{"$error":"#NAME?"}},"PFC",300,300,290,290,290,285,285,285,268.33330000000001,268.33330000000001,268.33330000000001,268.33330000000001,237.66659999999999,237.66659999999999,229.33330000000001,229.33330000000001,229.33330000000001,229.33330000000001,229.33330000000001,116.6666]
[{"$f":"[1]!wwsHide()","v":{"$error":"#NAME?"}},"BC",300,300,290,290,290,285,285,285,268.33330000000001,268.33330000000001,268.33330000000001,268.33330000000001,251.66659999999999,251.66659999999999,243.33330000000001,243.33330000000001,243.33330000000001,243.33330000000001,243.33330000000001,243.33330000000001]
[{"$f":"[1]!wwsHide()","v":{"$error":"#NAME?"}},"BC-EMT",300,300,290,290,290,285,285,285,268.33330000000001,268.33330000000001,268.33330000000001,268.33330000000001,251.66659999999999,251.66659999999999,243.33330000000001,243.33330000000001,243.33330000000001,243.33330000000001,243.33330000000001,243.33330000000001]
[{"$f":"[1]!wwsHide()","v":{"$error":"#NAME?"}},"BC-PM",300,300,290,290,290,285,285,285,268.33330000000001,268.33330000000001,268.33330000000001,268.33330000000001,251.66659999999999,251.66659999999999,243.33330000000001,243.33330000000001,243.33330000000001,243.33330000000001,243.33330000000001,243.33330000000001]
[{"$f":"[1]!wwsHide()","v":{"$error":"#NAME?"}}]
[{"$f":"[1]!wwsHide()","v":{"$error":"#NAME?"}}]
[{"$f":"[1]!wwsHide()","v":{"$error":"#NAME?"}},"Step 10 Salaries"]
[{"$f":"[1]!wwsHide()","v":{"$error":"#NAME?"}},"STEP 10",2,3,4,5,6,7,8,9,10,11,12,13,14,15,16,17,18,19,20,21]
[{"$f":"[1]!wwsHide()","v":{"$error":"#NAME?"}},"Day Before Effective Date","2016-12-31","2016-09-30","2016-06-30","2015-12-31","2015-09-30","2014-12-31","2013-12-31","2013-09-30","2012-12-31","2012-06-30","2011-12-31","2011-09-30","2010-12-31","2010-09-30","2009-12-31","2008-12-31","2007-12-31","2007-06-30","2007-03-31","2006-12-31"]
[{"$f":"[1]!wwsHide()","v":{"$error":"#NAME?"}},"Effective Date","2017-01-01","2016-10-01","2016-07-01","2016-01-01","2015-10-01","2015-01-01","2014-01-01","2013-10-01","2013-01-01","2012-07-01","2012-01-01","2011-10-01","2011-01-01","2010-10-01","2010-01-01","2009-01-01","2008-01-01","2007-07-01","2007-04-01","2007-01-01"]
[{"$f":"[1]!wwsHide()","v":{"$error":"#NAME?"}}]
[{"$f":"[1]!wwsHide()","v":{"$error":"#NAME?"}},"PENSIONABLE",null,"new DAP",null,null,"new DAP",null,null,"new DAP",null,null,null,"new DAP",null,"new DAP",null,null,null,null,"new DAP","all new"]
[{"$f":"[1]!wwsHide()","v":{"$error":"#NAME?"}},"PM",8415.5,8335,8325,8167.5,8089.5,8084.5,8007.5,7856,7839.3333000000002,7690.8333000000002,7545.3333000000002,7473.3333000000002,7442.6665999999996,7301.1665999999996,7292.8333000000002,7222.8333000000002,7085.8333000000002,6886.3333000000002,6820.3333000000002,6707.6665999999996]
[{"$f":"[1]!wwsHide()","v":{"$error":"#NAME?"}},"FF",8415.5,8335,8325,8167.5,8089.5,8084.5,8007.5,7856,7839.3333000000002,7690.8333000000002,7545.3333000000002,7473.3333000000002,7456.6665999999996,7315.1665999999996,7306.8333000000002,7236.8333000000002,7099.8333000000002,6900.3333000000002,6834.3333000000002,6834.3333000000002]
[{"$f":"[1]!wwsHide()","v":{"$error":"#NAME?"}},"FF-EMT",8906,8821,8811,8644,8561.5,8556.5,8394.5,8235.5,8218.8333000000002,8062.8333000000002,7908.3333000000002,7832.8333000000002,7816.1665999999996,7597.1665999999996,7588.8333000000002,7516.3333000000002,7373.8333000000002,7166.3333000000002,7097.8333000000002,7097.8333000000002]
[{"$f":"[1]!wwsHide()","v":{"$error":"#NAME?"}},"FF-PM",9112.5,9025,9015,8844,8759.5,8754.5,8588.5,8425.5,8408.8333000000002,8249.3333000000002,8090.8333000000002,8013.3333000000002,7996.6665999999996,7809.6665999999996,7801.3333000000002,7726.3333000000002,7579.8333000000002,7366.3333000000002,7295.8333000000002,7295.8333000000002]
[{"$f":"[1]!wwsHide()","v":{"$error":"#NAME?"}},"PIC",8961,8875,8865,8697,8614,8609,8526.5,8365,8348.3333000000002,8189.8333000000002,8034.3333000000002,7957.3333000000002,7926.6665999999996,7775.6665999999996,7767.3333000000002,7692.8333000000002,7546.3333000000002,7333.3333000000002,7262.8333000000002,7150.1665999999996]
[{"$f":"[1]!wwsHide()","v":{"$error":"#NAME?"}},"ENG",8961,8875,8865,8697,8614,8609,8526.5,8365,8348.3333000000002,8189.8333000000002,8034.3333000000002,7957.3333000000002,7940.6665999999996,7789.6665999999996,7781.3333000000002,7706.8333000000002,7560.3333000000002,7347.3333000000002,7276.8333000000002,7276.8333000000002]
[{"$f":"[1]!wwsHide()","v":{"$error":"#NAME?"}},"FF-ARB",8961,8875,8865,8697,8614,8609,8526.5,8365,8348.3333000000002,8189.8333000000002,8034.3333000000002,7957.3333000000002,7940.6665999999996,7789.6665999999996,7781.3333000000002,7706.8333000000002,7560.3333000000002,7347.3333000000002,7276.8333000000002,7276.8333000000002]
[{"$f":"[1]!wwsHide()","v":{"$error":"#NAME?"}},"ENG-EMT",9484.5,9393.5,9383.5,9205,9116.5,9111.5,8938.5,8769,8752.3333000000002,8585.8333000000002,8421.3333000000002,8340.8333000000002,8324.1666000000005,8090.6665999999996,8082.3333000000002,8004.8333000000002,7852.8333000000002,7631.3333000000002,7558.3333000000002,7558.3333000000002]
[{"$f":"[1]!wwsHide()","v":{"$error":"#NAME?"}},"FF-EMT-ARB",9484.5,9393.5,9383.5,9205,9116.5,9111.5,8938.5,8769,8752.3333000000002,8585.8333000000002,8421.3333000000002,8340.8333000000002,8324.1666000000005,8090.6665999999996,8082.3333000000002,8004.8333000000002,7852.8333000000002,7631.3333000000002,7558.3333000000002,7558.3333000000002]
[{"$f":"[1]!wwsHide()","v":{"$error":"#NAME?"}},"ENG-PM",9704.5,9611.5,9601.5,9419,9328.5,9323.5,9146.5,8972.5,8955.8333000000002,8785.3333000000002,8616.8333000000002,8534.3333000000002,8517.6666000000005,8317.6666000000005,8309.3333000000002,8229.3333000000002,8072.8333000000002,7844.8333000000002,7769.3333000000002,7769.3333000000002]
[{"$f":"[1]!wwsHide()","v":{"$error":"#NAME?"}},"FF-PM-ARB",9704.5,9611.5,9601.5,9419,9328.5,9323.5,9146.5,8972.5,8955.8333000000002,8785.3333000000002,8616.8333000000002,8534.3333000000002,8517.6666000000005,8317.6666000000005,8309.3333000000002,8229.3333000000002,8072.8333000000002,7844.8333000000002,7769.3333000000002,7769.3333000000002]
[{"$f":"[1]!wwsHide()","v":{"$error":"#NAME?"}},"LT",9870.5,9775.5,9765.5,9579.5,9487.5,9482.5,9391.5,9213,9196.3333000000002,9021.3333000000002,8849.8333000000002,8764.8333000000002,8748.1666000000005,8581.6666000000005,8573.3333000000002,8490.8333000000002,8329.3333000000002,8093.8333000000002,8016.3333000000002,8016.3333000000002]
[{"$f":"[1]!wwsHide()","v":{"$error":"#NAME?"}},"LT-EMT",10451.5,10351,10341,10144,10046.5,10041.5,9850,9662.5,9645.8333000000002,9461.8333000000002,9279.3333000000002,9190.3333000000002,9173.6666000000005,8915.6666000000005,8907.3333000000002,8821.3333000000002,8653.3333000000002,8408.3333000000002,8327.3333000000002,8327.3333000000002]
[{"$f":"[1]!wwsHide()","v":{"$error":"#NAME?"}},"LT-PM",10694,10591,10581,10379,10279,10274,10078,9886,9869.3333000000002,9680.8333000000002,9494.3333000000002,9402.8333000000002,9386.1666000000005,9165.1666000000005,9156.8333000000002,9068.3333000000002,8895.3333000000002,8643.3333000000002,8560.3333000000002,8560.3333000000002]
[{"$f":"[1]!wwsHide()","v":{"$error":"#NAME?"}},"AC",11047.5,10941,10931,10722.5,10619,10614,10511.5,10311,10294.3333,10097.8333,9905.3333000000002,9809.8333000000002,9779.1666000000005,9592.1666000000005,9583.8333000000002,9491.3333000000002,9309.8333000000002,9045.3333000000002,8957.8333000000002,8845.1666000000005]
[{"$f":"[1]!wwsHide()","v":{"$error":"#NAME?"}},"CAPT",11047.5,10941,10931,10722.5,10619,10614,10511.5,10311,10294.3333,10097.8333,9905.3333000000002,9809.8333000000002,9793.1666000000005,9606.1666000000005,9597.8333000000002,9505.3333000000002,9323.8333000000002,9059.3333000000002,8971.8333000000002,8971.8333000000002]
[{"$f":"[1]!wwsHide()","v":{"$error":"#NAME?"}},"CAPT-EMT",11699.5,11586.5,11576.5,11355,11245.5,11240.5,11025.5,10815,10798.3333,10591.8333,10387.3333,10287.3333,10270.6666,9980.6666000000005,9972.3333000000002,9875.8333000000002,9686.8333000000002,9411.8333000000002,9320.8333000000002,9320.8333000000002]
[{"$f":"[1]!wwsHide()","v":{"$error":"#NAME?"}},"CAPT-PM",11970,11854.5,11844.5,11618,11506,11501,11281,11065.5,11048.8333,10837.3333,10628.3333,10525.8333,10509.1666,10261.1666,10252.8333,10153.8333,9959.3333000000002,9676.3333000000002,9582.8333000000002,9582.8333000000002]
[{"$f":"[1]!wwsHide()","v":{"$error":"#NAME?"}},"PFC",12047.5,11931,11921,11693,11580,11575,11463,11244,11227.3333,11012.3333,10801.8333,10697.3333,10666.6666,10462.1666,10453.8333,10352.8333,10154.3333,9865.3333000000002,9769.8333000000002,9657.1666000000005]
[{"$f":"[1]!wwsHide()","v":{"$error":"#NAME?"}},"BC",12047.5,11931,11921,11693,11580,11575,11463,11244,11227.3333,11012.3333,10801.8333,10697.3333,10680.6666,10476.1666,10467.8333,10366.8333,10168.3333,9879.3333000000002,9783.8333000000002,9783.8333000000002]
[{"$f":"[1]!wwsHide()","v":{"$error":"#NAME?"}},"BC-EMT",12758.5,12635,12625,12383,12263.5,12258.5,12023.5,11793.5,11776.8333,11551.3333,11328.3333,11218.8333,11202.1666,10885.1666,10876.8333,10771.3333,10564.8333,10264.3333,10165.3333,10165.3333]
[{"$f":"[1]!wwsHide()","v":{"$error":"#NAME?"}},"BC-PM",13056.5,12930,12920,12672.5,12550,12545,12304.5,12069,12052.3333,11821.3333,11592.3333,11480.3333,11463.6666,11192.6666,11184.3333,11075.8333,10863.3333,10553.8333,10451.8333,10451.8333]
[{"$f":"[1]!wwsHide()","v":{"$error":"#NAME?"}}]
[{"$f":"[1]!wwsHide()","v":{"$error":"#NAME?"}},"CIVIL SERVICE"]
[{"$f":"[1]!wwsHide()","v":{"$error":"#NAME?"}},"PM",8115.5,8035,8035,7877.5,7799.5,7799.5,7722.5,7571,7571,7422.5,7277,7205,7205,7063.5,7063.5,6993.5,6856.5,6657,6591,6591]
[{"$f":"[1]!wwsHide()","v":{"$error":"#NAME?"}},"FF",8115.5,8035,8035,7877.5,7799.5,7799.5,7722.5,7571,7571,7422.5,7277,7205,7205,7063.5,7063.5,6993.5,6856.5,6657,6591,6591]
[{"$f":"[1]!wwsHide()","v":{"$error":"#NAME?"}},"FF-EMT",8606,8521,8521,8354,8271.5,8271.5,8109.5,7950.5,7950.5,7794.5,7640,7564.5,7564.5,7345.5,7345.5,7273,7130.5,6923,6854.5,6854.5]
[{"$f":"[1]!wwsHide()","v":{"$error":"#NAME?"}},"FF-PM",8812.5,8725,8725,8554,8469.5,8469.5,8303.5,8140.5,8140.5,7981,7822.5,7745,7745,7558,7558,7483,7336.5,7123,7052.5,7052.5]
[{"$f":"[1]!wwsHide()","v":{"$error":"#NAME?"}},"PIC",8661,8575,8575,8407,8324,8324,8241.5,8080,8080,7921.5,7766,7689,7689,7538,7538,7463.5,7317,7104,7033.5,7033.5]
[{"$f":"[1]!wwsHide()","v":{"$error":"#NAME?"}},"ENG",8661,8575,8575,8407,8324,8324,8241.5,8080,8080,7921.5,7766,7689,7689,7538,7538,7463.5,7317,7104,7033.5,7033.5]
[{"$f":"[1]!wwsHide()","v":{"$error":"#NAME?"}},"FF-ARB",8661,8575,8575,8407,8324,8324,8241.5,8080,8080,7921.5,7766,7689,7689,7538,7538,7463.5,7317,7104,7033.5,7033.5]
[{"$f":"[1]!wwsHide()","v":{"$error":"#NAME?"}},"ENG-EMT",9184.5,9093.5,9093.5,8915,8826.5,8826.5,8653.5,8484,8484,8317.5,8153,8072.5,8072.5,7839,7839,7761.5,7609.5,7388,7315,7315]
[{"$f":"[1]!wwsHide()","v":{"$error":"#NAME?"}},"FF-EMT-ARB",9184.5,9093.5,9093.5,8915,8826.5,8826.5,8653.5,8484,8484,8317.5,8153,8072.5,8072.5,7839,7839,7761.5,7609.5,7388,7315,7315]
[{"$f":"[1]!wwsHide()","v":{"$error":"#NAME?"}},"ENG-PM",9404.5,9311.5,9311.5,9129,9038.5,9038.5,8861.5,8687.5,8687.5,8517,8348.5,8266,8266,8066,8066,7986,7829.5,7601.5,7526,7526]
[{"$f":"[1]!wwsHide()","v":{"$error":"#NAME?"}},"FF-PM-ARB",9404.5,9311.5,9311.5,9129,9038.5,9038.5,8861.5,8687.5,8687.5,8517,8348.5,8266,8266,8066,8066,7986,7829.5,7601.5,7526,7526]
[{"$f":"[1]!wwsHide()","v":{"$error":"#NAME?"}},"LT",9570.5,9475.5,9475.5,9289.5,9197.5,9197.5,9106.5,8928,8928,8753,8581.5,8496.5,8496.5,8330,8330,8247.5,8086,7850.5,7773,7773]
[{"$f":"[1]!wwsHide()","v":{"$error":"#NAME?"}},"LT-EMT",10151.5,10051,10051,9854,9756.5,9756.5,9565,9377.5,9377.5,9193.5,9011,8922,8922,8664,8664,8578,8410,8165,8084,8084]
[{"$f":"[1]!wwsHide()","v":{"$error":"#NAME?"}},"LT-PM",10394,10291,10291,10089,9989,9989,9793,9601,9601,9412.5,9226,9134.5,9134.5,8913.5,8913.5,8825,8652,8400,8317,8317]
[{"$f":"[1]!wwsHide()","v":{"$error":"#NAME?"}},"AC",10747.5,10641,10641,10432.5,10329,10329,10226.5,10026,10026,9829.5,9637,9541.5,9541.5,9354.5,9354.5,9262,9080.5,8816,8728.5,8728.5]
[{"$f":"[1]!wwsHide()","v":{"$error":"#NAME?"}},"CAPT",10747.5,10641,10641,10432.5,10329,10329,10226.5,10026,10026,9829.5,9637,9541.5,9541.5,9354.5,9354.5,9262,9080.5,8816,8728.5,8728.5]
[{"$f":"[1]!wwsHide()","v":{"$error":"#NAME?"}},"CAPT-EMT",11399.5,11286.5,11286.5,11065,10955.5,10955.5,10740.5,10530,10530,10323.5,10119,10019,10019,9729,9729,9632.5,9443.5,9168.5,9077.5,9077.5]
[{"$f":"[1]!wwsHide()","v":{"$error":"#NAME?"}},"CAPT-PM",11670,11554.5,11554.5,11328,11216,11216,10996,10780.5,10780.5,10569,10360,10257.5,10257.5,10009.5,10009.5,9910.5,9716,9433,9339.5,9339.5]
[{"$f":"[1]!wwsHide()","v":{"$error":"#NAME?"}},"PFC",11747.5,11631,11631,11403,11290,11290,11178,10959,10959,10744,10533.5,10429,10429,10224.5,10224.5,10123.5,9925,9636,9540.5,9540.5]
[{"$f":"[1]!wwsHide()","v":{"$error":"#NAME?"}},"BC",11747.5,11631,11631,11403,11290,11290,11178,10959,10959,10744,10533.5,10429,10429,10224.5,10224.5,10123.5,9925,9636,9540.5,9540.5]
[{"$f":"[1]!wwsHide()","v":{"$error":"#NAME?"}},"BC-EMT",12458.5,12335,12335,12093,11973.5,11973.5,11738.5,11508.5,11508.5,11283,11060,10950.5,10950.5,10633.5,10633.5,10528,10321.5,10021,9922,9922]
[{"$f":"[1]!wwsHide()","v":{"$error":"#NAME?"}},"BC-PM",12756.5,12630,12630,12382.5,12260,12260,12019.5,11784,11784,11553,11324,11212,11212,10941,10941,10832.5,10620,10310.5,10208.5,10208.5]
[{"$f":"[1]!wwsHide()","v":{"$error":"#NAME?"}}]
[{"$f":"[1]!wwsHide()","v":{"$error":"#NAME?"}},"DAP"]
[{"$f":"[1]!wwsHide()","v":{"$error":"#NAME?"}},"PM",300,300,290,290,290,285,285,285,268.33330000000001,268.33330000000001,268.33330000000001,268.33330000000001,237.66659999999999,237.66659999999999,229.33330000000001,229.33330000000001,229.33330000000001,229.33330000000001,229.33330000000001,116.6666]
[{"$f":"[1]!wwsHide()","v":{"$error":"#NAME?"}},"FF",300,300,290,290,290,285,285,285,268.33330000000001,268.33330000000001,268.33330000000001,268.33330000000001,251.66659999999999,251.66659999999999,243.33330000000001,243.33330000000001,243.33330000000001,243.33330000000001,243.33330000000001,243.33330000000001]
[{"$f":"[1]!wwsHide()","v":{"$error":"#NAME?"}},"FF-EMT",300,300,290,290,290,285,285,285,268.33330000000001,268.33330000000001,268.33330000000001,268.33330000000001,251.66659999999999,251.66659999999999,243.33330000000001,243.33330000000001,243.33330000000001,243.33330000000001,243.33330000000001,243.33330000000001]
[{"$f":"[1]!wwsHide()","v":{"$error":"#NAME?"}},"FF-PM",300,300,290,290,290,285,285,285,268.33330000000001,268.33330000000001,268.33330000000001,268.33330000000001,251.66659999999999,251.66659999999999,243.33330000000001,243.33330000000001,243.33330000000001,243.33330000000001,243.33330000000001,243.33330000000001]
[{"$f":"[1]!wwsHide()","v":{"$error":"#NAME?"}},"PIC",300,300,290,290,290,285,285,285,268.33330000000001,268.33330000000001,268.33330000000001,268.33330000000001,237.66659999999999,237.66659999999999,229.33330000000001,229.33330000000001,229.33330000000001,229.33330000000001,229.33330000000001,116.6666]
[{"$f":"[1]!wwsHide()","v":{"$error":"#NAME?"}},"ENG",300,300,290,290,290,285,285,285,268.33330000000001,268.33330000000001,268.33330000000001,268.33330000000001,251.66659999999999,251.66659999999999,243.33330000000001,243.33330000000001,243.33330000000001,243.33330000000001,243.33330000000001,243.33330000000001]
[{"$f":"[1]!wwsHide()","v":{"$error":"#NAME?"}},"FF-ARB",300,300,290,290,290,285,285,285,268.33330000000001,268.33330000000001,268.33330000000001,268.33330000000001,251.66659999999999,251.66659999999999,243.33330000000001,243.33330000000001,243.33330000000001,243.33330000000001,243.33330000000001,243.33330000000001]
[{"$f":"[1]!wwsHide()","v":{"$error":"#NAME?"}},"ENG-EMT",300,300,290,290,290,285,285,285,268.33330000000001,268.33330000000001,268.33330000000001,268.33330000000001,251.66659999999999,251.66659999999999,243.33330000000001,243.33330000000001,243.33330000000001,243.33330000000001,243.33330000000001,243.33330000000001]
[{"$f":"[1]!wwsHide()","v":{"$error":"#NAME?"}},"FF-EMT-ARB",300,300,290,290,290,285,285,285,268.33330000000001,268.33330000000001,268.33330000000001,268.33330000000001,251.66659999999999,251.66659999999999,243.33330000000001,243.33330000000001,243.33330000000001,243.33330000000001,243.33330000000001,243.33330000000001]
[{"$f":"[1]!wwsHide()","v":{"$error":"#NAME?"}},"ENG-PM",300,300,290,290,290,285,285,285,268.33330000000001,268.33330000000001,268.33330000000001,268.33330000000001,251.66659999999999,251.66659999999999,243.33330000000001,243.33330000000001,243.33330000000001,243.33330000000001,243.33330000000001,243.33330000000001]
[{"$f":"[1]!wwsHide()","v":{"$error":"#NAME?"}},"FF-PM-ARB",300,300,290,290,290,285,285,285,268.33330000000001,268.33330000000001,268.33330000000001,268.33330000000001,251.66659999999999,251.66659999999999,243.33330000000001,243.33330000000001,243.33330000000001,243.33330000000001,243.33330000000001,243.33330000000001]
[{"$f":"[1]!wwsHide()","v":{"$error":"#NAME?"}},"LT",300,300,290,290,290,285,285,285,268.33330000000001,268.33330000000001,268.33330000000001,268.33330000000001,251.66659999999999,251.66659999999999,243.33330000000001,243.33330000000001,243.33330000000001,243.33330000000001,243.33330000000001,243.33330000000001]
[{"$f":"[1]!wwsHide()","v":{"$error":"#NAME?"}},"LT-EMT",300,300,290,290,290,285,285,285,268.33330000000001,268.33330000000001,268.33330000000001,268.33330000000001,251.66659999999999,251.66659999999999,243.33330000000001,243.33330000000001,243.33330000000001,243.33330000000001,243.33330000000001,243.33330000000001]
[{"$f":"[1]!wwsHide()","v":{"$error":"#NAME?"}},"LT-PM",300,300,290,290,290,285,285,285,268.33330000000001,268.33330000000001,268.33330000000001,268.33330000000001,251.66659999999999,251.66659999999999,243.33330000000001,243.33330000000001,243.33330000000001,243.33330000000001,243.33330000000001,243.33330000000001]
[{"$f":"[1]!wwsHide()","v":{"$error":"#NAME?"}},"AC",300,300,290,290,290,285,285,285,268.33330000000001,268.33330000000001,268.33330000000001,268.33330000000001,237.66659999999999,237.66659999999999,229.33330000000001,229.33330000000001,229.33330000000001,229.33330000000001,229.33330000000001,116.6666]
[{"$f":"[1]!wwsHide()","v":{"$error":"#NAME?"}},"CAPT",300,300,290,290,290,285,285,285,268.33330000000001,268.33330000000001,268.33330000000001,268.33330000000001,251.66659999999999,251.66659999999999,243.33330000000001,243.33330000000001,243.33330000000001,243.33330000000001,243.33330000000001,243.33330000000001]
[{"$f":"[1]!wwsHide()","v":{"$error":"#NAME?"}},"CAPT-EMT",300,300,290,290,290,285,285,285,268.33330000000001,268.33330000000001,268.33330000000001,268.33330000000001,251.66659999999999,251.66659999999999,243.33330000000001,243.33330000000001,243.33330000000001,243.33330000000001,243.33330000000001,243.33330000000001]
[{"$f":"[1]!wwsHide()","v":{"$error":"#NAME?"}},"CAPT-PM",300,300,290,290,290,285,285,285,268.33330000000001,268.33330000000001,268.33330000000001,268.33330000000001,251.66659999999999,251.66659999999999,243.33330000000001,243.33330000000001,243.33330000000001,243.33330000000001,243.33330000000001,243.33330000000001]
[{"$f":"[1]!wwsHide()","v":{"$error":"#NAME?"}},"PFC",300,300,290,290,290,285,285,285,268.33330000000001,268.33330000000001,268.33330000000001,268.33330000000001,237.66659999999999,237.66659999999999,229.33330000000001,229.33330000000001,229.33330000000001,229.33330000000001,229.33330000000001,116.6666]
[{"$f":"[1]!wwsHide()","v":{"$error":"#NAME?"}},"BC",300,300,290,290,290,285,285,285,268.33330000000001,268.33330000000001,268.33330000000001,268.33330000000001,251.66659999999999,251.66659999999999,243.33330000000001,243.33330000000001,243.33330000000001,243.33330000000001,243.33330000000001,243.33330000000001]
[{"$f":"[1]!wwsHide()","v":{"$error":"#NAME?"}},"BC-EMT",300,300,290,290,290,285,285,285,268.33330000000001,268.33330000000001,268.33330000000001,268.33330000000001,251.66659999999999,251.66659999999999,243.33330000000001,243.33330000000001,243.33330000000001,243.33330000000001,243.33330000000001,243.33330000000001]
[{"$f":"[1]!wwsHide()","v":{"$error":"#NAME?"}},"BC-PM",300,300,290,290,290,285,285,285,268.33330000000001,268.33330000000001,268.33330000000001,268.33330000000001,251.66659999999999,251.66659999999999,243.33330000000001,243.33330000000001,243.33330000000001,243.33330000000001,243.33330000000001,243.33330000000001]
[{"$f":"[1]!wwsHide()","v":{"$error":"#NAME?"}}]
[{"$f":"[1]!wwsHide()","v":{"$error":"#NAME?"}}]
[{"$f":"[1]!wwsHide()","v":{"$error":"#NAME?"}},"Step 9 Salaries"]
[{"$f":"[1]!wwsHide()","v":{"$error":"#NAME?"}},"STEP 9",2,3,4,5,6,7,8,9,10,11,12,13,14,15,16,17,18,19,20,21]
[{"$f":"[1]!wwsHide()","v":{"$error":"#NAME?"}},"Day Before Effective Date","2016-12-31","2016-09-30","2016-06-30","2015-12-31","2015-09-30","2014-12-31","2013-12-31","2013-09-30","2012-12-31","2012-06-30","2011-12-31","2011-09-30","2010-12-31","2010-09-30","2009-12-31","2008-12-31","2007-12-31","2007-06-30","2007-03-31","2006-12-31"]
[{"$f":"[1]!wwsHide()","v":{"$error":"#NAME?"}},"Effective Date","2017-01-01","2016-10-01","2016-07-01","2016-01-01","2015-10-01","2015-01-01","2014-01-01","2013-10-01","2013-01-01","2012-07-01","2012-01-01","2011-10-01","2011-01-01","2010-10-01","2010-01-01","2009-01-01","2008-01-01","2007-07-01","2007-04-01","2007-01-01"]
[{"$f":"[1]!wwsHide()","v":{"$error":"#NAME?"}}]
[{"$f":"[1]!wwsHide()","v":{"$error":"#NAME?"}},"PENSIONABLE",null,"new DAP",null,null,"new DAP",null,null,"new DAP",null,null,null,"new DAP",null,"new DAP",null,null,null,null,"new DAP","all new"]
[{"$f":"[1]!wwsHide()","v":{"$error":"#NAME?"}},"PM",8105.5,8028,8018,7866.5,7791.5,7786.5,7712,7566.5,7549.8333000000002,7406.8333000000002,7266.8333000000002,7197.3333000000002,7166.6665999999996,7030.6665999999996,7022.3333000000002,6954.8333000000002,6822.8333000000002,6630.8333000000002,6567.3333000000002,6454.6665999999996]
[{"$f":"[1]!wwsHide()","v":{"$error":"#NAME?"}},"FF",8105.5,8028,8018,7866.5,7791.5,7786.5,7712,7566.5,7549.8333000000002,7406.8333000000002,7266.8333000000002,7197.3333000000002,7180.6665999999996,7044.6665999999996,7036.3333000000002,6968.8333000000002,6836.8333000000002,6644.8333000000002,6581.3333000000002,6581.3333000000002]
[{"$f":"[1]!wwsHide()","v":{"$error":"#NAME?"}},"FF-EMT",8577,8495,8485,8324.5,8245,8240,8084,7931,7914.3333000000002,7764.3333000000002,7615.3333000000002,7542.8333000000002,7526.1665999999996,7315.6665999999996,7307.3333000000002,7237.3333000000002,7100.3333000000002,6900.8333000000002,6834.8333000000002,6834.8333000000002]
[{"$f":"[1]!wwsHide()","v":{"$error":"#NAME?"}},"FF-PM",8774,8690,8680,8515.5,8434,8429,8269.5,8113,8096.3333000000002,7942.8333000000002,7790.8333000000002,7716.3333000000002,7699.6665999999996,7519.6665999999996,7511.3333000000002,7439.3333000000002,7298.3333000000002,7092.8333000000002,7024.8333000000002,7024.8333000000002]
[{"$f":"[1]!wwsHide()","v":{"$error":"#NAME?"}},"PIC",8715,8631.5,8621.5,8458,8377,8372,8292,8135,8118.3333000000002,7964.3333000000002,7813.3333000000002,7738.8333000000002,7708.1665999999996,7561.6665999999996,7553.3333000000002,7480.8333000000002,7338.8333000000002,7131.8333000000002,7063.3333000000002,6950.6665999999996]
[{"$f":"[1]!wwsHide()","v":{"$error":"#NAME?"}},"ENG",8715,8631.5,8621.5,8458,8377,8372,8292,8135,8118.3333000000002,7964.3333000000002,7813.3333000000002,7738.8333000000002,7722.1665999999996,7575.6665999999996,7567.3333000000002,7494.8333000000002,7352.8333000000002,7145.8333000000002,7077.3333000000002,7077.3333000000002]
[{"$f":"[1]!wwsHide()","v":{"$error":"#NAME?"}},"FF-ARB",8715,8631.5,8621.5,8458,8377,8372,8292,8135,8118.3333000000002,7964.3333000000002,7813.3333000000002,7738.8333000000002,7722.1665999999996,7575.6665999999996,7567.3333000000002,7494.8333000000002,7352.8333000000002,7145.8333000000002,7077.3333000000002,7077.3333000000002]
[{"$f":"[1]!wwsHide()","v":{"$error":"#NAME?"}},"ENG-EMT",9225.5,9137,9127,8953.5,8867.5,8862.5,8694.5,8529.5,8512.8333000000002,8351.3333000000002,8191.3333000000002,8112.8333000000002,8096.1665999999996,7869.1665999999996,7860.8333000000002,7785.3333000000002,7637.3333000000002,7421.8333000000002,7350.8333000000002,7350.8333000000002]
[{"$f":"[1]!wwsHide()","v":{"$error":"#NAME?"}},"FF-EMT-ARB",9225.5,9137,9127,8953.5,8867.5,8862.5,8694.5,8529.5,8512.8333000000002,8351.3333000000002,8191.3333000000002,8112.8333000000002,8096.1665999999996,7869.1665999999996,7860.8333000000002,7785.3333000000002,7637.3333000000002,7421.8333000000002,7350.8333000000002,7350.8333000000002]
[{"$f":"[1]!wwsHide()","v":{"$error":"#NAME?"}},"ENG-PM",9438,9347.5,9337.5,9160,9072,9067,8895,8726,8709.3333000000002,8543.8333000000002,8379.3333000000002,8298.8333000000002,8282.1666000000005,8088.1665999999996,8079.8333000000002,8002.3333000000002,7850.3333000000002,7628.8333000000002,7555.8333000000002,7555.8333000000002]
[{"$f":"[1]!wwsHide()","v":{"$error":"#NAME?"}},"FF-PM-ARB",9438,9347.5,9337.5,9160,9072,9067,8895,8726,8709.3333000000002,8543.8333000000002,8379.3333000000002,8298.8333000000002,8282.1666000000005,8088.1665999999996,8079.8333000000002,8002.3333000000002,7850.3333000000002,7628.8333000000002,7555.8333000000002,7555.8333000000002]
[{"$f":"[1]!wwsHide()","v":{"$error":"#NAME?"}},"LT",9571,9479,9469,9289,9200,9195,9107,8934,8917.3333000000002,8747.8333000000002,8581.3333000000002,8498.8333000000002,8482.1666000000005,8320.6666000000005,8312.3333000000002,8232.3333000000002,8075.8333000000002,7847.8333000000002,7772.3333000000002,7772.3333000000002]
[{"$f":"[1]!wwsHide()","v":{"$error":"#NAME?"}},"LT-EMT",10133,10035.5,10025.5,9834.5,9740,9735,9549.5,9368,9351.3333000000002,9173.3333000000002,8996.8333000000002,8910.3333000000002,8893.6666000000005,8643.6666000000005,8635.3333000000002,8552.3333000000002,8389.3333000000002,8151.8333000000002,8073.3333000000002,8073.3333000000002]
[{"$f":"[1]!wwsHide()","v":{"$error":"#NAME?"}},"LT-PM",10367,10267.5,10257.5,10062,9965,9960,9770.5,9584.5,9567.8333000000002,9385.3333000000002,9204.3333000000002,9115.8333000000002,9099.1666000000005,8885.1666000000005,8876.8333000000002,8791.3333000000002,8623.8333000000002,8379.8333000000002,8299.3333000000002,8299.3333000000002]
[{"$f":"[1]!wwsHide()","v":{"$error":"#NAME?"}},"AC",10727.5,10624.5,10614.5,10412,10312,10307,10208,10013.5,9996.8333000000002,9805.8333000000002,9618.8333000000002,9526.3333000000002,9495.6666000000005,9314.1666000000005,9305.8333000000002,9215.8333000000002,9039.8333000000002,8783.3333000000002,8698.8333000000002,8586.1666000000005]
[{"$f":"[1]!wwsHide()","v":{"$error":"#NAME?"}},"CAPT",10727.5,10624.5,10614.5,10412,10312,10307,10208,10013.5,9996.8333000000002,9805.8333000000002,9618.8333000000002,9526.3333000000002,9509.6666000000005,9328.1666000000005,9319.8333000000002,9229.8333000000002,9053.8333000000002,8797.3333000000002,8712.8333000000002,8712.8333000000002]
[{"$f":"[1]!wwsHide()","v":{"$error":"#NAME?"}},"CAPT-EMT",11361,11251.5,11241.5,11027,10920.5,10915.5,10707,10502.5,10485.8333,10285.3333,10087.3333,9990.3333000000002,9973.6666000000005,9692.1666000000005,9683.8333000000002,9590.3333000000002,9406.8333000000002,9139.8333000000002,9051.8333000000002,9051.8333000000002]
[{"$f":"[1]!wwsHide()","v":{"$error":"#NAME?"}},"CAPT-PM",11624,11512,11502,11282,11173,11168,10954.5,10745.5,10728.8333,10523.8333,10320.3333,10220.8333,10204.1666,9963.6666000000005,9955.3333000000002,9859.3333000000002,9670.8333000000002,9396.3333000000002,9305.8333000000002,9305.8333000000002]
[{"$f":"[1]!wwsHide()","v":{"$error":"#NAME?"}},"PFC",11707.5,11594.5,11584.5,11363,11253.5,11248.5,11140,10927,10910.3333,10701.8333,10497.3333,10395.8333,10365.1666,10166.6666,10158.3333,10059.8333,9866.8333000000002,9586.3333000000002,9493.8333000000002,9381.1666000000005]
[{"$f":"[1]!wwsHide()","v":{"$error":"#NAME?"}},"BC",11707.5,11594.5,11584.5,11363,11253.5,11248.5,11140,10927,10910.3333,10701.8333,10497.3333,10395.8333,10379.1666,10180.6666,10172.3333,10073.8333,9880.8333000000002,9600.3333000000002,9507.8333000000002,9507.8333000000002]
[{"$f":"[1]!wwsHide()","v":{"$error":"#NAME?"}},"BC-EMT",12399.5,12279.5,12269.5,12034.5,11918,11913,11685,11461.5,11444.8333,11225.8333,11008.8333,10902.3333,10885.6666,10577.6666,10569.3333,10467.3333,10266.8333,9974.8333000000002,9878.3333000000002,9878.3333000000002]
[{"$f":"[1]!wwsHide()","v":{"$error":"#NAME?"}},"BC-PM",12687.5,12565,12555,12314.5,12195.5,12190.5,11957,11728,11711.3333,11486.8333,11264.3333,11155.3333,11138.6666,10875.6666,10867.3333,10762.3333,10555.8333,10255.3333,10156.3333,10156.3333]
[{"$f":"[1]!wwsHide()","v":{"$error":"#NAME?"}}]
[{"$f":"[1]!wwsHide()","v":{"$error":"#NAME?"}},"CIVIL SERVICE"]
[{"$f":"[1]!wwsHide()","v":{"$error":"#NAME?"}},"PM",7805.5,7728,7728,7576.5,7501.5,7501.5,7427,7281.5,7281.5,7138.5,6998.5,6929,6929,6793,6793,6725.5,6593.5,6401.5,6338,6338]
[{"$f":"[1]!wwsHide()","v":{"$error":"#NAME?"}},"FF",7805.5,7728,7728,7576.5,7501.5,7501.5,7427,7281.5,7281.5,7138.5,6998.5,6929,6929,6793,6793,6725.5,6593.5,6401.5,6338,6338]
[{"$f":"[1]!wwsHide()","v":{"$error":"#NAME?"}},"FF-EMT",8277,8195,8195,8034.5,7955,7955,7799,7646,7646,7496,7347,7274.5,7274.5,7064,7064,6994,6857,6657.5,6591.5,6591.5]
[{"$f":"[1]!wwsHide()","v":{"$error":"#NAME?"}},"FF-PM",8474,8390,8390,8225.5,8144,8144,7984.5,7828,7828,7674.5,7522.5,7448,7448,7268,7268,7196,7055,6849.5,6781.5,6781.5]
[{"$f":"[1]!wwsHide()","v":{"$error":"#NAME?"}},"PIC",8415,8331.5,8331.5,8168,8087,8087,8007,7850,7850,7696,7545,7470.5,7470.5,7324,7324,7251.5,7109.5,6902.5,6834,6834]
[{"$f":"[1]!wwsHide()","v":{"$error":"#NAME?"}},"ENG",8415,8331.5,8331.5,8168,8087,8087,8007,7850,7850,7696,7545,7470.5,7470.5,7324,7324,7251.5,7109.5,6902.5,6834,6834]
[{"$f":"[1]!wwsHide()","v":{"$error":"#NAME?"}},"FF-ARB",8415,8331.5,8331.5,8168,8087,8087,8007,7850,7850,7696,7545,7470.5,7470.5,7324,7324,7251.5,7109.5,6902.5,6834,6834]
[{"$f":"[1]!wwsHide()","v":{"$error":"#NAME?"}},"ENG-EMT",8925.5,8837,8837,8663.5,8577.5,8577.5,8409.5,8244.5,8244.5,8083,7923,7844.5,7844.5,7617.5,7617.5,7542,7394,7178.5,7107.5,7107.5]
[{"$f":"[1]!wwsHide()","v":{"$error":"#NAME?"}},"FF-EMT-ARB",8925.5,8837,8837,8663.5,8577.5,8577.5,8409.5,8244.5,8244.5,8083,7923,7844.5,7844.5,7617.5,7617.5,7542,7394,7178.5,7107.5,7107.5]
[{"$f":"[1]!wwsHide()","v":{"$error":"#NAME?"}},"ENG-PM",9138,9047.5,9047.5,8870,8782,8782,8610,8441,8441,8275.5,8111,8030.5,8030.5,7836.5,7836.5,7759,7607,7385.5,7312.5,7312.5]
[{"$f":"[1]!wwsHide()","v":{"$error":"#NAME?"}},"FF-PM-ARB",9138,9047.5,9047.5,8870,8782,8782,8610,8441,8441,8275.5,8111,8030.5,8030.5,7836.5,7836.5,7759,7607,7385.5,7312.5,7312.5]
[{"$f":"[1]!wwsHide()","v":{"$error":"#NAME?"}},"LT",9271,9179,9179,8999,8910,8910,8822,8649,8649,8479.5,8313,8230.5,8230.5,8069,8069,7989,7832.5,7604.5,7529,7529]
[{"$f":"[1]!wwsHide()","v":{"$error":"#NAME?"}},"LT-EMT",9833,9735.5,9735.5,9544.5,9450,9450,9264.5,9083,9083,8905,8728.5,8642,8642,8392,8392,8309,8146,7908.5,7830,7830]
[{"$f":"[1]!wwsHide()","v":{"$error":"#NAME?"}},"LT-PM",10067,9967.5,9967.5,9772,9675,9675,9485.5,9299.5,9299.5,9117,8936,8847.5,8847.5,8633.5,8633.5,8548,8380.5,8136.5,8056,8056]
[{"$f":"[1]!wwsHide()","v":{"$error":"#NAME?"}},"AC",10427.5,10324.5,10324.5,10122,10022,10022,9923,9728.5,9728.5,9537.5,9350.5,9258,9258,9076.5,9076.5,8986.5,8810.5,8554,8469.5,8469.5]
[{"$f":"[1]!wwsHide()","v":{"$error":"#NAME?"}},"CAPT",10427.5,10324.5,10324.5,10122,10022,10022,9923,9728.5,9728.5,9537.5,9350.5,9258,9258,9076.5,9076.5,8986.5,8810.5,8554,8469.5,8469.5]
[{"$f":"[1]!wwsHide()","v":{"$error":"#NAME?"}},"CAPT-EMT",11061,10951.5,10951.5,10737,10630.5,10630.5,10422,10217.5,10217.5,10017,9819,9722,9722,9440.5,9440.5,9347,9163.5,8896.5,8808.5,8808.5]
[{"$f":"[1]!wwsHide()","v":{"$error":"#NAME?"}},"CAPT-PM",11324,11212,11212,10992,10883,10883,10669.5,10460.5,10460.5,10255.5,10052,9952.5,9952.5,9712,9712,9616,9427.5,9153,9062.5,9062.5]
[{"$f":"[1]!wwsHide()","v":{"$error":"#NAME?"}},"PFC",11407.5,11294.5,11294.5,11073,10963.5,10963.5,10855,10642,10642,10433.5,10229,10127.5,10127.5,9929,9929,9830.5,9637.5,9357,9264.5,9264.5]
[{"$f":"[1]!wwsHide()","v":{"$error":"#NAME?"}},"BC",11407.5,11294.5,11294.5,11073,10963.5,10963.5,10855,10642,10642,10433.5,10229,10127.5,10127.5,9929,9929,9830.5,9637.5,9357,9264.5,9264.5]
[{"$f":"[1]!wwsHide()","v":{"$error":"#NAME?"}},"BC-EMT",12099.5,11979.5,11979.5,11744.5,11628,11628,11400,11176.5,11176.5,10957.5,10740.5,10634,10634,10326,10326,10224,10023.5,9731.5,9635,9635]
[{"$f":"[1]!wwsHide()","v":{"$error":"#NAME?"}},"BC-PM",12387.5,12265,12265,12024.5,11905.5,11905.5,11672,11443,11443,11218.5,10996,10887,10887,10624,10624,10519,10312.5,10012,9913,9913]
[{"$f":"[1]!wwsHide()","v":{"$error":"#NAME?"}}]
[{"$f":"[1]!wwsHide()","v":{"$error":"#NAME?"}},"DAP"]
[{"$f":"[1]!wwsHide()","v":{"$error":"#NAME?"}},"PM",300,300,290,290,290,285,285,285,268.33330000000001,268.33330000000001,268.33330000000001,268.33330000000001,237.66659999999999,237.66659999999999,229.33330000000001,229.33330000000001,229.33330000000001,229.33330000000001,229.33330000000001,116.6666]
[{"$f":"[1]!wwsHide()","v":{"$error":"#NAME?"}},"FF",300,300,290,290,290,285,285,285,268.33330000000001,268.33330000000001,268.33330000000001,268.33330000000001,251.66659999999999,251.66659999999999,243.33330000000001,243.33330000000001,243.33330000000001,243.33330000000001,243.33330000000001,243.33330000000001]
[{"$f":"[1]!wwsHide()","v":{"$error":"#NAME?"}},"FF-EMT",300,300,290,290,290,285,285,285,268.33330000000001,268.33330000000001,268.33330000000001,268.33330000000001,251.66659999999999,251.66659999999999,243.33330000000001,243.33330000000001,243.33330000000001,243.33330000000001,243.33330000000001,243.33330000000001]
[{"$f":"[1]!wwsHide()","v":{"$error":"#NAME?"}},"FF-PM",300,300,290,290,290,285,285,285,268.33330000000001,268.33330000000001,268.33330000000001,268.33330000000001,251.66659999999999,251.66659999999999,243.33330000000001,243.33330000000001,243.33330000000001,243.33330000000001,243.33330000000001,243.33330000000001]
[{"$f":"[1]!wwsHide()","v":{"$error":"#NAME?"}},"PIC",300,300,290,290,290,285,285,285,268.33330000000001,268.33330000000001,268.33330000000001,268.33330000000001,237.66659999999999,237.66659999999999,229.33330000000001,229.33330000000001,229.33330000000001,229.33330000000001,229.33330000000001,116.6666]
[{"$f":"[1]!wwsHide()","v":{"$error":"#NAME?"}},"ENG",300,300,290,290,290,285,285,285,268.33330000000001,268.33330000000001,268.33330000000001,268.33330000000001,251.66659999999999,251.66659999999999,243.33330000000001,243.33330000000001,243.33330000000001,243.33330000000001,243.33330000000001,243.33330000000001]
[{"$f":"[1]!wwsHide()","v":{"$error":"#NAME?"}},"FF-ARB",300,300,290,290,290,285,285,285,268.33330000000001,268.33330000000001,268.33330000000001,268.33330000000001,251.66659999999999,251.66659999999999,243.33330000000001,243.33330000000001,243.33330000000001,243.33330000000001,243.33330000000001,243.33330000000001]
[{"$f":"[1]!wwsHide()","v":{"$error":"#NAME?"}},"ENG-EMT",300,300,290,290,290,285,285,285,268.33330000000001,268.33330000000001,268.33330000000001,268.33330000000001,251.66659999999999,251.66659999999999,243.33330000000001,243.33330000000001,243.33330000000001,243.33330000000001,243.33330000000001,243.33330000000001]
[{"$f":"[1]!wwsHide()","v":{"$error":"#NAME?"}},"FF-EMT-ARB",300,300,290,290,290,285,285,285,268.33330000000001,268.33330000000001,268.33330000000001,268.33330000000001,251.66659999999999,251.66659999999999,243.33330000000001,243.33330000000001,243.33330000000001,243.33330000000001,243.33330000000001,243.33330000000001]
[{"$f":"[1]!wwsHide()","v":{"$error":"#NAME?"}},"ENG-PM",300,300,290,290,290,285,285,285,268.33330000000001,268.33330000000001,268.33330000000001,268.33330000000001,251.66659999999999,251.66659999999999,243.33330000000001,243.33330000000001,243.33330000000001,243.33330000000001,243.33330000000001,243.33330000000001]
[{"$f":"[1]!wwsHide()","v":{"$error":"#NAME?"}},"FF-PM-ARB",300,300,290,290,290,285,285,285,268.33330000000001,268.33330000000001,268.33330000000001,268.33330000000001,251.66659999999999,251.66659999999999,243.33330000000001,243.33330000000001,243.33330000000001,243.33330000000001,243.33330000000001,243.33330000000001]
[{"$f":"[1]!wwsHide()","v":{"$error":"#NAME?"}},"LT",300,300,290,290,290,285,285,285,268.33330000000001,268.33330000000001,268.33330000000001,268.33330000000001,251.66659999999999,251.66659999999999,243.33330000000001,243.33330000000001,243.33330000000001,243.33330000000001,243.33330000000001,243.33330000000001]
[{"$f":"[1]!wwsHide()","v":{"$error":"#NAME?"}},"LT-EMT",300,300,290,290,290,285,285,285,268.33330000000001,268.33330000000001,268.33330000000001,268.33330000000001,251.66659999999999,251.66659999999999,243.33330000000001,243.33330000000001,243.33330000000001,243.33330000000001,243.33330000000001,243.33330000000001]
[{"$f":"[1]!wwsHide()","v":{"$error":"#NAME?"}},"LT-PM",300,300,290,290,290,285,285,285,268.33330000000001,268.33330000000001,268.33330000000001,268.33330000000001,251.66659999999999,251.66659999999999,243.33330000000001,243.33330000000001,243.33330000000001,243.33330000000001,243.33330000000001,243.33330000000001]
[{"$f":"[1]!wwsHide()","v":{"$error":"#NAME?"}},"AC",300,300,290,290,290,285,285,285,268.33330000000001,268.33330000000001,268.33330000000001,268.33330000000001,237.66659999999999,237.66659999999999,229.33330000000001,229.33330000000001,229.33330000000001,229.33330000000001,229.33330000000001,116.6666]
[{"$f":"[1]!wwsHide()","v":{"$error":"#NAME?"}},"CAPT",300,300,290,290,290,285,285,285,268.33330000000001,268.33330000000001,268.33330000000001,268.33330000000001,251.66659999999999,251.66659999999999,243.33330000000001,243.33330000000001,243.33330000000001,243.33330000000001,243.33330000000001,243.33330000000001]
[{"$f":"[1]!wwsHide()","v":{"$error":"#NAME?"}},"CAPT-EMT",300,300,290,290,290,285,285,285,268.33330000000001,268.33330000000001,268.33330000000001,268.33330000000001,251.66659999999999,251.66659999999999,243.33330000000001,243.33330000000001,243.33330000000001,243.33330000000001,243.33330000000001,243.33330000000001]
[{"$f":"[1]!wwsHide()","v":{"$error":"#NAME?"}},"CAPT-PM",300,300,290,290,290,285,285,285,268.33330000000001,268.33330000000001,268.33330000000001,268.33330000000001,251.66659999999999,251.66659999999999,243.33330000000001,243.33330000000001,243.33330000000001,243.33330000000001,243.33330000000001,243.33330000000001]
[{"$f":"[1]!wwsHide()","v":{"$error":"#NAME?"}},"PFC",300,300,290,290,290,285,285,285,268.33330000000001,268.33330000000001,268.33330000000001,268.33330000000001,237.66659999999999,237.66659999999999,229.33330000000001,229.33330000000001,229.33330000000001,229.33330000000001,229.33330000000001,116.6666]
[{"$f":"[1]!wwsHide()","v":{"$error":"#NAME?"}},"BC",300,300,290,290,290,285,285,285,268.33330000000001,268.33330000000001,268.33330000000001,268.33330000000001,251.66659999999999,251.66659999999999,243.33330000000001,243.33330000000001,243.33330000000001,243.33330000000001,243.33330000000001,243.33330000000001]
[{"$f":"[1]!wwsHide()","v":{"$error":"#NAME?"}},"BC-EMT",300,300,290,290,290,285,285,285,268.33330000000001,268.33330000000001,268.33330000000001,268.33330000000001,251.66659999999999,251.66659999999999,243.33330000000001,243.33330000000001,243.33330000000001,243.33330000000001,243.33330000000001,243.33330000000001]
[{"$f":"[1]!wwsHide()","v":{"$error":"#NAME?"}},"BC-PM",300,300,290,290,290,285,285,285,268.33330000000001,268.33330000000001,268.33330000000001,268.33330000000001,251.66659999999999,251.66659999999999,243.33330000000001,243.33330000000001,243.33330000000001,243.33330000000001,243.33330000000001,243.33330000000001]
[{"$f":"[1]!wwsHide()","v":{"$error":"#NAME?"}}]
[{"$f":"[1]!wwsHide()","v":{"$error":"#NAME?"}}]
[{"$f":"[1]!wwsHide()","v":{"$error":"#NAME?"}},"Step 8 Salaries"]
[{"$f":"[1]!wwsHide()","v":{"$error":"#NAME?"}},"STEP 8",2,3,4,5,6,7,8,9,10,11,12,13,14,15,16,17,18,19,20,21]
[{"$f":"[1]!wwsHide()","v":{"$error":"#NAME?"}},"Day Before Effective Date","2016-12-31","2016-09-30","2016-06-30","2015-12-31","2015-09-30","2014-12-31","2013-12-31","2013-09-30","2012-12-31","2012-06-30","2011-12-31","2011-09-30","2010-12-31","2010-09-30","2009-12-31","2008-12-31","2007-12-31","2007-06-30","2007-03-31","2006-12-31"]
[{"$f":"[1]!wwsHide()","v":{"$error":"#NAME?"}},"Effective Date","2017-01-01","2016-10-01","2016-07-01","2016-01-01","2015-10-01","2015-01-01","2014-01-01","2013-10-01","2013-01-01","2012-07-01","2012-01-01","2011-10-01","2011-01-01","2010-10-01","2010-01-01","2009-01-01","2008-01-01","2007-07-01","2007-04-01","2007-01-01"]
[{"$f":"[1]!wwsHide()","v":{"$error":"#NAME?"}}]
[{"$f":"[1]!wwsHide()","v":{"$error":"#NAME?"}},"PENSIONABLE",null,"new DAP",null,null,"new DAP",null,null,"new DAP",null,null,null,"new DAP",null,"new DAP",null,null,null,null,"new DAP","all new"]
[{"$f":"[1]!wwsHide()","v":{"$error":"#NAME?"}},"PM",7802,7727.5,7717.5,7572,7500,7495,7423.5,7283.5,7266.8333000000002,7129.8333000000002,6995.3333000000002,6928.8333000000002,6898.1665999999996,6767.6665999999996,6759.3333000000002,6694.8333000000002,6567.8333000000002,6383.3333000000002,6322.3333000000002,6209.6665999999996]
[{"$f":"[1]!wwsHide()","v":{"$error":"#NAME?"}},"FF",7802,7727.5,7717.5,7572,7500,7495,7423.5,7283.5,7266.8333000000002,7129.8333000000002,6995.3333000000002,6928.8333000000002,6912.1665999999996,6781.6665999999996,6773.3333000000002,6708.8333000000002,6581.8333000000002,6397.3333000000002,6336.3333000000002,6336.3333000000002]
[{"$f":"[1]!wwsHide()","v":{"$error":"#NAME?"}},"FF-EMT",8257,8178,8168,8013.5,7937,7932,7782,7635,7618.3333000000002,7474.3333000000002,7331.8333000000002,7261.8333000000002,7245.1665999999996,7042.6665999999996,7034.3333000000002,6967.3333000000002,6835.3333000000002,6643.3333000000002,6579.8333000000002,6579.8333000000002]
[{"$f":"[1]!wwsHide()","v":{"$error":"#NAME?"}},"FF-PM",8445.5,8365,8355,8197,8118.5,8113.5,7960,7809.5,7792.8333000000002,7645.3333000000002,7499.3333000000002,7427.8333000000002,7411.1665999999996,7238.1665999999996,7229.8333000000002,7160.8333000000002,7025.3333000000002,6827.8333000000002,6762.8333000000002,6762.8333000000002]
[{"$f":"[1]!wwsHide()","v":{"$error":"#NAME?"}},"PIC",8420,8339.5,8329.5,8172,8094,8089,8011.5,7860,7843.3333000000002,7694.8333000000002,7549.3333000000002,7477.3333000000002,7446.6665999999996,7305.1665999999996,7296.8333000000002,7226.8333000000002,7089.8333000000002,6889.8333000000002,6823.8333000000002,6711.1665999999996]
[{"$f":"[1]!wwsHide()","v":{"$error":"#NAME?"}},"ENG",8420,8339.5,8329.5,8172,8094,8089,8011.5,7860,7843.3333000000002,7694.8333000000002,7549.3333000000002,7477.3333000000002,7460.6665999999996,7319.1665999999996,7310.8333000000002,7240.8333000000002,7103.8333000000002,6903.8333000000002,6837.8333000000002,6837.8333000000002]
[{"$f":"[1]!wwsHide()","v":{"$error":"#NAME?"}},"FF-ARB",8420,8339.5,8329.5,8172,8094,8089,8011.5,7860,7843.3333000000002,7694.8333000000002,7549.3333000000002,7477.3333000000002,7460.6665999999996,7319.1665999999996,7310.8333000000002,7240.8333000000002,7103.8333000000002,6903.8333000000002,6837.8333000000002,6837.8333000000002]
[{"$f":"[1]!wwsHide()","v":{"$error":"#NAME?"}},"ENG-EMT",8912.5,8827,8817,8650,8567,8562,8399.5,8240.5,8223.8333000000002,8067.8333000000002,7913.3333000000002,7837.8333000000002,7821.1665999999996,7602.1665999999996,7593.8333000000002,7520.8333000000002,7378.3333000000002,7170.3333000000002,7101.8333000000002,7101.8333000000002]
[{"$f":"[1]!wwsHide()","v":{"$error":"#NAME?"}},"FF-EMT-ARB",8912.5,8827,8817,8650,8567,8562,8399.5,8240.5,8223.8333000000002,8067.8333000000002,7913.3333000000002,7837.8333000000002,7821.1665999999996,7602.1665999999996,7593.8333000000002,7520.8333000000002,7378.3333000000002,7170.3333000000002,7101.8333000000002,7101.8333000000002]
[{"$f":"[1]!wwsHide()","v":{"$error":"#NAME?"}},"ENG-PM",9117,9029.5,9019.5,8848.5,8764,8759,8593,8430,8413.3333000000002,8253.8333000000002,8095.8333000000002,8018.3333000000002,8001.6665999999996,7814.1665999999996,7805.8333000000002,7730.8333000000002,7583.8333000000002,7369.8333000000002,7299.3333000000002,7299.3333000000002]
[{"$f":"[1]!wwsHide()","v":{"$error":"#NAME?"}},"FF-PM-ARB",9117,9029.5,9019.5,8848.5,8764,8759,8593,8430,8413.3333000000002,8253.8333000000002,8095.8333000000002,8018.3333000000002,8001.6665999999996,7814.1665999999996,7805.8333000000002,7730.8333000000002,7583.8333000000002,7369.8333000000002,7299.3333000000002,7299.3333000000002]
[{"$f":"[1]!wwsHide()","v":{"$error":"#NAME?"}},"LT",9282.5,9193.5,9183.5,9009,8922.5,8917.5,8832,8664.5,8647.8333000000002,8483.3333000000002,8322.3333000000002,8242.8333000000002,8226.1666000000005,8069.6665999999996,8061.3333000000002,7983.8333000000002,7831.8333000000002,7610.8333000000002,7537.8333000000002,7537.8333000000002]
[{"$f":"[1]!wwsHide()","v":{"$error":"#NAME?"}},"LT-EMT",9827,9732.5,9722.5,9537.5,9446,9441,9261.5,9085.5,9068.8333000000002,8896.3333000000002,8725.3333000000002,8641.8333000000002,8625.1666000000005,8382.6666000000005,8374.3333000000002,8293.8333000000002,8135.8333000000002,7905.8333000000002,7829.8333000000002,7829.8333000000002]
[{"$f":"[1]!wwsHide()","v":{"$error":"#NAME?"}},"LT-PM",10052.5,9956,9946,9756.5,9663,9658,9474,9294,9277.3333000000002,9100.8333000000002,8925.8333000000002,8840.3333000000002,8823.6666000000005,8616.6666000000005,8608.3333000000002,8525.3333000000002,8362.8333000000002,8126.3333000000002,8048.3333000000002,8048.3333000000002]
[{"$f":"[1]!wwsHide()","v":{"$error":"#NAME?"}},"AC",10421,10321,10311,10114.5,10017,10012,9915.5,9726.5,9709.8333000000002,9524.8333000000002,9343.3333000000002,9253.3333000000002,9222.6666000000005,9046.6666000000005,9038.3333000000002,8951.3333000000002,8780.3333000000002,8531.3333000000002,8449.3333000000002,8336.6666000000005]
[{"$f":"[1]!wwsHide()","v":{"$error":"#NAME?"}},"CAPT",10421,10321,10311,10114.5,10017,10012,9915.5,9726.5,9709.8333000000002,9524.8333000000002,9343.3333000000002,9253.3333000000002,9236.6666000000005,9060.6666000000005,9052.3333000000002,8965.3333000000002,8794.3333000000002,8545.3333000000002,8463.3333000000002,8463.3333000000002]
[{"$f":"[1]!wwsHide()","v":{"$error":"#NAME?"}},"CAPT-EMT",11035.5,10929,10919,10710.5,10607.5,10602.5,10400,10201.5,10184.8333,9990.3333000000002,9797.8333000000002,9703.3333000000002,9686.6666000000005,9413.6666000000005,9405.3333000000002,9314.8333000000002,9136.8333000000002,8877.8333000000002,8792.3333000000002,8792.3333000000002]
[{"$f":"[1]!wwsHide()","v":{"$error":"#NAME?"}},"CAPT-PM",11290.5,11181.5,11171.5,10958,10852.5,10847.5,10640.5,10437.5,10420.8333,10221.8333,10024.8333,9928.3333000000002,9911.6666000000005,9678.1666000000005,9669.8333000000002,9576.3333000000002,9393.3333000000002,9126.8333000000002,9038.8333000000002,9038.8333000000002]
[{"$f":"[1]!wwsHide()","v":{"$error":"#NAME?"}},"PFC",11399,11289,11279,11063.5,10957,10952,10846.5,10639.5,10622.8333,10419.8333,10220.8333,10122.3333,10091.6666,9898.6666000000005,9890.3333000000002,9794.8333000000002,9607.3333000000002,9334.3333000000002,9244.3333000000002,9131.6666000000005]
[{"$f":"[1]!wwsHide()","v":{"$error":"#NAME?"}},"BC",11399,11289,11279,11063.5,10957,10952,10846.5,10639.5,10622.8333,10419.8333,10220.8333,10122.3333,10105.6666,9912.6666000000005,9904.3333000000002,9808.8333000000002,9621.3333000000002,9348.3333000000002,9258.3333000000002,9258.3333000000002]
[{"$f":"[1]!wwsHide()","v":{"$error":"#NAME?"}},"BC-EMT",12072.5,11956,11946,11717.5,11604.5,11599.5,11377.5,11160,11143.3333,10930.3333,10719.3333,10615.8333,10599.1666,10299.6666,10291.3333,10191.8333,9996.8333000000002,9712.8333000000002,9618.8333000000002,9618.8333000000002]
[{"$f":"[1]!wwsHide()","v":{"$error":"#NAME?"}},"BC-PM",12354,12234.5,12224.5,11990.5,11874.5,11869.5,11642.5,11420,11403.3333,11184.8333,10968.3333,10862.3333,10845.6666,10589.6666,10581.3333,10478.8333,10278.3333,9985.8333000000002,9889.3333000000002,9889.3333000000002]
[{"$f":"[1]!wwsHide()","v":{"$error":"#NAME?"}}]
[{"$f":"[1]!wwsHide()","v":{"$error":"#NAME?"}},"CIVIL SERVICE"]
[{"$f":"[1]!wwsHide()","v":{"$error":"#NAME?"}},"PM",7502,7427.5,7427.5,7282,7210,7210,7138.5,6998.5,6998.5,6861.5,6727,6660.5,6660.5,6530,6530,6465.5,6338.5,6154,6093,6093]
[{"$f":"[1]!wwsHide()","v":{"$error":"#NAME?"}},"FF",7502,7427.5,7427.5,7282,7210,7210,7138.5,6998.5,6998.5,6861.5,6727,6660.5,6660.5,6530,6530,6465.5,6338.5,6154,6093,6093]
[{"$f":"[1]!wwsHide()","v":{"$error":"#NAME?"}},"FF-EMT",7957,7878,7878,7723.5,7647,7647,7497,7350,7350,7206,7063.5,6993.5,6993.5,6791,6791,6724,6592,6400,6336.5,6336.5]
[{"$f":"[1]!wwsHide()","v":{"$error":"#NAME?"}},"FF-PM",8145.5,8065,8065,7907,7828.5,7828.5,7675,7524.5,7524.5,7377,7231,7159.5,7159.5,6986.5,6986.5,6917.5,6782,6584.5,6519.5,6519.5]
[{"$f":"[1]!wwsHide()","v":{"$error":"#NAME?"}},"PIC",8120,8039.5,8039.5,7882,7804,7804,7726.5,7575,7575,7426.5,7281,7209,7209,7067.5,7067.5,6997.5,6860.5,6660.5,6594.5,6594.5]
[{"$f":"[1]!wwsHide()","v":{"$error":"#NAME?"}},"ENG",8120,8039.5,8039.5,7882,7804,7804,7726.5,7575,7575,7426.5,7281,7209,7209,7067.5,7067.5,6997.5,6860.5,6660.5,6594.5,6594.5]
[{"$f":"[1]!wwsHide()","v":{"$error":"#NAME?"}},"FF-ARB",8120,8039.5,8039.5,7882,7804,7804,7726.5,7575,7575,7426.5,7281,7209,7209,7067.5,7067.5,6997.5,6860.5,6660.5,6594.5,6594.5]
[{"$f":"[1]!wwsHide()","v":{"$error":"#NAME?"}},"ENG-EMT",8612.5,8527,8527,8360,8277,8277,8114.5,7955.5,7955.5,7799.5,7645,7569.5,7569.5,7350.5,7350.5,7277.5,7135,6927,6858.5,6858.5]
[{"$f":"[1]!wwsHide()","v":{"$error":"#NAME?"}},"FF-EMT-ARB",8612.5,8527,8527,8360,8277,8277,8114.5,7955.5,7955.5,7799.5,7645,7569.5,7569.5,7350.5,7350.5,7277.5,7135,6927,6858.5,6858.5]
[{"$f":"[1]!wwsHide()","v":{"$error":"#NAME?"}},"ENG-PM",8817,8729.5,8729.5,8558.5,8474,8474,8308,8145,8145,7985.5,7827.5,7750,7750,7562.5,7562.5,7487.5,7340.5,7126.5,7056,7056]
[{"$f":"[1]!wwsHide()","v":{"$error":"#NAME?"}},"FF-PM-ARB",8817,8729.5,8729.5,8558.5,8474,8474,8308,8145,8145,7985.5,7827.5,7750,7750,7562.5,7562.5,7487.5,7340.5,7126.5,7056,7056]
[{"$f":"[1]!wwsHide()","v":{"$error":"#NAME?"}},"LT",8982.5,8893.5,8893.5,8719,8632.5,8632.5,8547,8379.5,8379.5,8215,8054,7974.5,7974.5,7818,7818,7740.5,7588.5,7367.5,7294.5,7294.5]
[{"$f":"[1]!wwsHide()","v":{"$error":"#NAME?"}},"LT-EMT",9527,9432.5,9432.5,9247.5,9156,9156,8976.5,8800.5,8800.5,8628,8457,8373.5,8373.5,8131,8131,8050.5,7892.5,7662.5,7586.5,7586.5]
[{"$f":"[1]!wwsHide()","v":{"$error":"#NAME?"}},"LT-PM",9752.5,9656,9656,9466.5,9373,9373,9189,9009,9009,8832.5,8657.5,8572,8572,8365,8365,8282,8119.5,7883,7805,7805]
[{"$f":"[1]!wwsHide()","v":{"$error":"#NAME?"}},"AC",10121,10021,10021,9824.5,9727,9727,9630.5,9441.5,9441.5,9256.5,9075,8985,8985,8809,8809,8722,8551,8302,8220,8220]
[{"$f":"[1]!wwsHide()","v":{"$error":"#NAME?"}},"CAPT",10121,10021,10021,9824.5,9727,9727,9630.5,9441.5,9441.5,9256.5,9075,8985,8985,8809,8809,8722,8551,8302,8220,8220]
[{"$f":"[1]!wwsHide()","v":{"$error":"#NAME?"}},"CAPT-EMT",10735.5,10629,10629,10420.5,10317.5,10317.5,10115,9916.5,9916.5,9722,9529.5,9435,9435,9162,9162,9071.5,8893.5,8634.5,8549,8549]
[{"$f":"[1]!wwsHide()","v":{"$error":"#NAME?"}},"CAPT-PM",10990.5,10881.5,10881.5,10668,10562.5,10562.5,10355.5,10152.5,10152.5,9953.5,9756.5,9660,9660,9426.5,9426.5,9333,9150,8883.5,8795.5,8795.5]
[{"$f":"[1]!wwsHide()","v":{"$error":"#NAME?"}},"PFC",11099,10989,10989,10773.5,10667,10667,10561.5,10354.5,10354.5,10151.5,9952.5,9854,9854,9661,9661,9565.5,9378,9105,9015,9015]
[{"$f":"[1]!wwsHide()","v":{"$error":"#NAME?"}},"BC",11099,10989,10989,10773.5,10667,10667,10561.5,10354.5,10354.5,10151.5,9952.5,9854,9854,9661,9661,9565.5,9378,9105,9015,9015]
[{"$f":"[1]!wwsHide()","v":{"$error":"#NAME?"}},"BC-EMT",11772.5,11656,11656,11427.5,11314.5,11314.5,11092.5,10875,10875,10662,10451,10347.5,10347.5,10048,10048,9948.5,9753.5,9469.5,9375.5,9375.5]
[{"$f":"[1]!wwsHide()","v":{"$error":"#NAME?"}},"BC-PM",12054,11934.5,11934.5,11700.5,11584.5,11584.5,11357.5,11135,11135,10916.5,10700,10594,10594,10338,10338,10235.5,10035,9742.5,9646,9646]
[{"$f":"[1]!wwsHide()","v":{"$error":"#NAME?"}}]
[{"$f":"[1]!wwsHide()","v":{"$error":"#NAME?"}},"DAP"]
[{"$f":"[1]!wwsHide()","v":{"$error":"#NAME?"}},"PM",300,300,290,290,290,285,285,285,268.33330000000001,268.33330000000001,268.33330000000001,268.33330000000001,237.66659999999999,237.66659999999999,229.33330000000001,229.33330000000001,229.33330000000001,229.33330000000001,229.33330000000001,116.6666]
[{"$f":"[1]!wwsHide()","v":{"$error":"#NAME?"}},"FF",300,300,290,290,290,285,285,285,268.33330000000001,268.33330000000001,268.33330000000001,268.33330000000001,251.66659999999999,251.66659999999999,243.33330000000001,243.33330000000001,243.33330000000001,243.33330000000001,243.33330000000001,243.33330000000001]
[{"$f":"[1]!wwsHide()","v":{"$error":"#NAME?"}},"FF-EMT",300,300,290,290,290,285,285,285,268.33330000000001,268.33330000000001,268.33330000000001,268.33330000000001,251.66659999999999,251.66659999999999,243.33330000000001,243.33330000000001,243.33330000000001,243.33330000000001,243.33330000000001,243.33330000000001]
[{"$f":"[1]!wwsHide()","v":{"$error":"#NAME?"}},"FF-PM",300,300,290,290,290,285,285,285,268.33330000000001,268.33330000000001,268.33330000000001,268.33330000000001,251.66659999999999,251.66659999999999,243.33330000000001,243.33330000000001,243.33330000000001,243.33330000000001,243.33330000000001,243.33330000000001]
[{"$f":"[1]!wwsHide()","v":{"$error":"#NAME?"}},"PIC",300,300,290,290,290,285,285,285,268.33330000000001,268.33330000000001,268.33330000000001,268.33330000000001,237.66659999999999,237.66659999999999,229.33330000000001,229.33330000000001,229.33330000000001,229.33330000000001,229.33330000000001,116.6666]
[{"$f":"[1]!wwsHide()","v":{"$error":"#NAME?"}},"ENG",300,300,290,290,290,285,285,285,268.33330000000001,268.33330000000001,268.33330000000001,268.33330000000001,251.66659999999999,251.66659999999999,243.33330000000001,243.33330000000001,243.33330000000001,243.33330000000001,243.33330000000001,243.33330000000001]
[{"$f":"[1]!wwsHide()","v":{"$error":"#NAME?"}},"FF-ARB",300,300,290,290,290,285,285,285,268.33330000000001,268.33330000000001,268.33330000000001,268.33330000000001,251.66659999999999,251.66659999999999,243.33330000000001,243.33330000000001,243.33330000000001,243.33330000000001,243.33330000000001,243.33330000000001]
[{"$f":"[1]!wwsHide()","v":{"$error":"#NAME?"}},"ENG-EMT",300,300,290,290,290,285,285,285,268.33330000000001,268.33330000000001,268.33330000000001,268.33330000000001,251.66659999999999,251.66659999999999,243.33330000000001,243.33330000000001,243.33330000000001,243.33330000000001,243.33330000000001,243.33330000000001]
[{"$f":"[1]!wwsHide()","v":{"$error":"#NAME?"}},"FF-EMT-ARB",300,300,290,290,290,285,285,285,268.33330000000001,268.33330000000001,268.33330000000001,268.33330000000001,251.66659999999999,251.66659999999999,243.33330000000001,243.33330000000001,243.33330000000001,243.33330000000001,243.33330000000001,243.33330000000001]
[{"$f":"[1]!wwsHide()","v":{"$error":"#NAME?"}},"ENG-PM",300,300,290,290,290,285,285,285,268.33330000000001,268.33330000000001,268.33330000000001,268.33330000000001,251.66659999999999,251.66659999999999,243.33330000000001,243.33330000000001,243.33330000000001,243.33330000000001,243.33330000000001,243.33330000000001]
[{"$f":"[1]!wwsHide()","v":{"$error":"#NAME?"}},"FF-PM-ARB",300,300,290,290,290,285,285,285,268.33330000000001,268.33330000000001,268.33330000000001,268.33330000000001,251.66659999999999,251.66659999999999,243.33330000000001,243.33330000000001,243.33330000000001,243.33330000000001,243.33330000000001,243.33330000000001]
[{"$f":"[1]!wwsHide()","v":{"$error":"#NAME?"}},"LT",300,300,290,290,290,285,285,285,268.33330000000001,268.33330000000001,268.33330000000001,268.33330000000001,251.66659999999999,251.66659999999999,243.33330000000001,243.33330000000001,243.33330000000001,243.33330000000001,243.33330000000001,243.33330000000001]
[{"$f":"[1]!wwsHide()","v":{"$error":"#NAME?"}},"LT-EMT",300,300,290,290,290,285,285,285,268.33330000000001,268.33330000000001,268.33330000000001,268.33330000000001,251.66659999999999,251.66659999999999,243.33330000000001,243.33330000000001,243.33330000000001,243.33330000000001,243.33330000000001,243.33330000000001]
[{"$f":"[1]!wwsHide()","v":{"$error":"#NAME?"}},"LT-PM",300,300,290,290,290,285,285,285,268.33330000000001,268.33330000000001,268.33330000000001,268.33330000000001,251.66659999999999,251.66659999999999,243.33330000000001,243.33330000000001,243.33330000000001,243.33330000000001,243.33330000000001,243.33330000000001]
[{"$f":"[1]!wwsHide()","v":{"$error":"#NAME?"}},"AC",300,300,290,290,290,285,285,285,268.33330000000001,268.33330000000001,268.33330000000001,268.33330000000001,237.66659999999999,237.66659999999999,229.33330000000001,229.33330000000001,229.33330000000001,229.33330000000001,229.33330000000001,116.6666]
[{"$f":"[1]!wwsHide()","v":{"$error":"#NAME?"}},"CAPT",300,300,290,290,290,285,285,285,268.33330000000001,268.33330000000001,268.33330000000001,268.33330000000001,251.66659999999999,251.66659999999999,243.33330000000001,243.33330000000001,243.33330000000001,243.33330000000001,243.33330000000001,243.33330000000001]
[{"$f":"[1]!wwsHide()","v":{"$error":"#NAME?"}},"CAPT-EMT",300,300,290,290,290,285,285,285,268.33330000000001,268.33330000000001,268.33330000000001,268.33330000000001,251.66659999999999,251.66659999999999,243.33330000000001,243.33330000000001,243.33330000000001,243.33330000000001,243.33330000000001,243.33330000000001]
[{"$f":"[1]!wwsHide()","v":{"$error":"#NAME?"}},"CAPT-PM",300,300,290,290,290,285,285,285,268.33330000000001,268.33330000000001,268.33330000000001,268.33330000000001,251.66659999999999,251.66659999999999,243.33330000000001,243.33330000000001,243.33330000000001,243.33330000000001,243.33330000000001,243.33330000000001]
[{"$f":"[1]!wwsHide()","v":{"$error":"#NAME?"}},"PFC",300,300,290,290,290,285,285,285,268.33330000000001,268.33330000000001,268.33330000000001,268.33330000000001,237.66659999999999,237.66659999999999,229.33330000000001,229.33330000000001,229.33330000000001,229.33330000000001,229.33330000000001,116.6666]
[{"$f":"[1]!wwsHide()","v":{"$error":"#NAME?"}},"BC",300,300,290,290,290,285,285,285,268.33330000000001,268.33330000000001,268.33330000000001,268.33330000000001,251.66659999999999,251.66659999999999,243.33330000000001,243.33330000000001,243.33330000000001,243.33330000000001,243.33330000000001,243.33330000000001]
[{"$f":"[1]!wwsHide()","v":{"$error":"#NAME?"}},"BC-EMT",300,300,290,290,290,285,285,285,268.33330000000001,268.33330000000001,268.33330000000001,268.33330000000001,251.66659999999999,251.66659999999999,243.33330000000001,243.33330000000001,243.33330000000001,243.33330000000001,243.33330000000001,243.33330000000001]
[{"$f":"[1]!wwsHide()","v":{"$error":"#NAME?"}},"BC-PM",300,300,290,290,290,285,285,285,268.33330000000001,268.33330000000001,268.33330000000001,268.33330000000001,251.66659999999999,251.66659999999999,243.33330000000001,243.33330000000001,243.33330000000001,243.33330000000001,243.33330000000001,243.33330000000001]
[{"$f":"[1]!wwsHide()","v":{"$error":"#NAME?"}}]
[{"$f":"[1]!wwsHide()","v":{"$error":"#NAME?"}}]
[{"$f":"[1]!wwsHide()","v":{"$error":"#NAME?"}},"Step 7 Salaries"]
[{"$f":"[1]!wwsHide()","v":{"$error":"#NAME?"}},"STEP 7",2,3,4,5,6,7,8,9,10,11,12,13,14,15,16,17,18,19,20,21]
[{"$f":"[1]!wwsHide()","v":{"$error":"#NAME?"}},"Day Before Effective Date","2016-12-31","2016-09-30","2016-06-30","2015-12-31","2015-09-30","2014-12-31","2013-12-31","2013-09-30","2012-12-31","2012-06-30","2011-12-31","2011-09-30","2010-12-31","2010-09-30","2009-12-31","2008-12-31","2007-12-31","2007-06-30","2007-03-31","2006-12-31"]
[{"$f":"[1]!wwsHide()","v":{"$error":"#NAME?"}},"Effective Date","2017-01-01","2016-10-01","2016-07-01","2016-01-01","2015-10-01","2015-01-01","2014-01-01","2013-10-01","2013-01-01","2012-07-01","2012-01-01","2011-10-01","2011-01-01","2010-10-01","2010-01-01","2009-01-01","2008-01-01","2007-07-01","2007-04-01","2007-01-01"]
[{"$f":"[1]!wwsHide()","v":{"$error":"#NAME?"}}]
[{"$f":"[1]!wwsHide()","v":{"$error":"#NAME?"}},"PENSIONABLE",null,"new DAP",null,null,"new DAP",null,null,"new DAP",null,null,null,"new DAP",null,"new DAP",null,null,null,null,"new DAP","all new"]
[{"$f":"[1]!wwsHide()","v":{"$error":"#NAME?"}},"PM",7550.5,7478.5,7468.5,7327.5,7258,7253,7184,7048.5,7031.8333000000002,6899.3333000000002,6769.3333000000002,6704.8333000000002,6674.1665999999996,6548.1665999999996,6539.8333000000002,6477.3333000000002,6354.8333000000002,6176.3333000000002,6117.3333000000002,6004.6665999999996]
[{"$f":"[1]!wwsHide()","v":{"$error":"#NAME?"}},"FF",7550.5,7478.5,7468.5,7327.5,7258,7253,7184,7048.5,7031.8333000000002,6899.3333000000002,6769.3333000000002,6704.8333000000002,6688.1665999999996,6562.1665999999996,6553.8333000000002,6491.3333000000002,6368.8333000000002,6190.3333000000002,6131.3333000000002,6131.3333000000002]
[{"$f":"[1]!wwsHide()","v":{"$error":"#NAME?"}},"FF-EMT",7989.5,7913.5,7903.5,7754,7680,7675,7530,7388,7371.3333000000002,7231.8333000000002,7093.8333000000002,7026.3333000000002,7009.6665999999996,6814.1665999999996,6805.8333000000002,6740.8333000000002,6613.3333000000002,6427.8333000000002,6366.8333000000002,6366.8333000000002]
[{"$f":"[1]!wwsHide()","v":{"$error":"#NAME?"}},"FF-PM",8173,8095,8085,7932,7856.5,7851.5,7703,7557.5,7540.8333000000002,7398.3333000000002,7256.3333000000002,7187.3333000000002,7170.6665999999996,7003.6665999999996,6995.3333000000002,6928.3333000000002,6797.3333000000002,6606.3333000000002,6543.3333000000002,6543.3333000000002]
[{"$f":"[1]!wwsHide()","v":{"$error":"#NAME?"}},"PIC",8143.5,8066,8056,7903.5,7828,7823,7748.5,7602,7585.3333000000002,7441.8333000000002,7301.3333000000002,7231.8333000000002,7201.1665999999996,7064.6665999999996,7056.3333000000002,6988.8333000000002,6856.3333000000002,6663.3333000000002,6599.8333000000002,6487.1665999999996]
[{"$f":"[1]!wwsHide()","v":{"$error":"#NAME?"}},"ENG",8143.5,8066,8056,7903.5,7828,7823,7748.5,7602,7585.3333000000002,7441.8333000000002,7301.3333000000002,7231.8333000000002,7215.1665999999996,7078.6665999999996,7070.3333000000002,7002.8333000000002,6870.3333000000002,6677.3333000000002,6613.8333000000002,6613.8333000000002]
[{"$f":"[1]!wwsHide()","v":{"$error":"#NAME?"}},"FF-ARB",8143.5,8066,8056,7903.5,7828,7823,7748.5,7602,7585.3333000000002,7441.8333000000002,7301.3333000000002,7231.8333000000002,7215.1665999999996,7078.6665999999996,7070.3333000000002,7002.8333000000002,6870.3333000000002,6677.3333000000002,6613.8333000000002,6613.8333000000002]
[{"$f":"[1]!wwsHide()","v":{"$error":"#NAME?"}},"ENG-EMT",8620.5,8538,8528,8366.5,8286.5,8281.5,8124.5,7971,7954.3333000000002,7803.8333000000002,7654.3333000000002,7581.3333000000002,7564.6665999999996,7353.1665999999996,7344.8333000000002,7274.3333000000002,7136.3333000000002,6935.3333000000002,6868.8333000000002,6868.8333000000002]
[{"$f":"[1]!wwsHide()","v":{"$error":"#NAME?"}},"FF-EMT-ARB",8620.5,8538,8528,8366.5,8286.5,8281.5,8124.5,7971,7954.3333000000002,7803.8333000000002,7654.3333000000002,7581.3333000000002,7564.6665999999996,7353.1665999999996,7344.8333000000002,7274.3333000000002,7136.3333000000002,6935.3333000000002,6868.8333000000002,6868.8333000000002]
[{"$f":"[1]!wwsHide()","v":{"$error":"#NAME?"}},"ENG-PM",8819,8734.5,8724.5,8559,8477,8472,8311.5,8154,8137.3333000000002,7982.8333000000002,7829.8333000000002,7754.8333000000002,7738.1665999999996,7557.1665999999996,7548.8333000000002,7476.3333000000002,7334.3333000000002,7127.8333000000002,7059.8333000000002,7059.8333000000002]
[{"$f":"[1]!wwsHide()","v":{"$error":"#NAME?"}},"FF-PM-ARB",8819,8734.5,8724.5,8559,8477,8472,8311.5,8154,8137.3333000000002,7982.8333000000002,7829.8333000000002,7754.8333000000002,7738.1665999999996,7557.1665999999996,7548.8333000000002,7476.3333000000002,7334.3333000000002,7127.8333000000002,7059.8333000000002,7059.8333000000002]
[{"$f":"[1]!wwsHide()","v":{"$error":"#NAME?"}},"LT",9008.5,8922.5,8912.5,8743.5,8660,8655,8572,8409.5,8392.8333000000002,8233.3333000000002,8077.3333000000002,7999.8333000000002,7983.1665999999996,7831.6665999999996,7823.3333000000002,7748.3333000000002,7601.3333000000002,7386.8333000000002,7316.3333000000002,7316.3333000000002]
[{"$f":"[1]!wwsHide()","v":{"$error":"#NAME?"}},"LT-EMT",9537,9445.5,9435.5,9256,9167,9162,8988,8817.5,8800.8333000000002,8633.3333000000002,8467.8333000000002,8386.8333000000002,8370.1666000000005,8135.1665999999996,8126.8333000000002,8048.8333000000002,7895.8333000000002,7672.8333000000002,7599.3333000000002,7599.3333000000002]
[{"$f":"[1]!wwsHide()","v":{"$error":"#NAME?"}},"LT-PM",9757,9663.5,9653.5,9470,9379,9374,9196,9021.5,9004.8333000000002,8833.3333000000002,8663.3333000000002,8580.3333000000002,8563.6666000000005,8362.6666000000005,8354.3333000000002,8273.8333000000002,8116.3333000000002,7886.8333000000002,7811.3333000000002,7811.3333000000002]
[{"$f":"[1]!wwsHide()","v":{"$error":"#NAME?"}},"AC",10118,10021,10011,9820.5,9726,9721,9627.5,9444.5,9427.8333000000002,9248.3333000000002,9072.3333000000002,8985.3333000000002,8954.6666000000005,8783.6666000000005,8775.3333000000002,8690.8333000000002,8524.8333000000002,8283.3333000000002,8203.8333000000002,8091.1665999999996]
[{"$f":"[1]!wwsHide()","v":{"$error":"#NAME?"}},"CAPT",10118,10021,10011,9820.5,9726,9721,9627.5,9444.5,9427.8333000000002,9248.3333000000002,9072.3333000000002,8985.3333000000002,8968.6666000000005,8797.6666000000005,8789.3333000000002,8704.8333000000002,8538.8333000000002,8297.3333000000002,8217.8333000000002,8217.8333000000002]
[{"$f":"[1]!wwsHide()","v":{"$error":"#NAME?"}},"CAPT-EMT",10714,10611,10601,10399,10299,10294,10097.5,9905,9888.3333000000002,9699.8333000000002,9513.3333000000002,9421.8333000000002,9405.1666000000005,9140.1666000000005,9131.8333000000002,9043.8333000000002,8871.3333000000002,8619.8333000000002,8536.8333000000002,8536.8333000000002]
[{"$f":"[1]!wwsHide()","v":{"$error":"#NAME?"}},"CAPT-PM",10962,10856.5,10846.5,10639.5,10537,10532,10331,10134,10117.3333,9924.3333000000002,9732.8333000000002,9639.3333000000002,9622.6666000000005,9396.1666000000005,9387.8333000000002,9297.3333000000002,9119.8333000000002,8861.3333000000002,8775.8333000000002,8775.8333000000002]
[{"$f":"[1]!wwsHide()","v":{"$error":"#NAME?"}},"PFC",11094.5,10987.5,10977.5,10768,10664.5,10659.5,10557,10355.5,10338.8333,10141.3333,9947.8333000000002,9851.8333000000002,9821.1666000000005,9633.1666000000005,9624.8333000000002,9531.8333000000002,9349.3333000000002,9083.8333000000002,8996.3333000000002,8883.6666000000005]
[{"$f":"[1]!wwsHide()","v":{"$error":"#NAME?"}},"BC",11094.5,10987.5,10977.5,10768,10664.5,10659.5,10557,10355.5,10338.8333,10141.3333,9947.8333000000002,9851.8333000000002,9835.1666000000005,9647.1666000000005,9638.8333000000002,9545.8333000000002,9363.3333000000002,9097.8333000000002,9010.3333000000002,9010.3333000000002]
[{"$f":"[1]!wwsHide()","v":{"$error":"#NAME?"}},"BC-EMT",11748.5,11635,11625,11402.5,11292.5,11287.5,11072,10860.5,10843.8333,10636.3333,10431.3333,10330.8333,10314.1666,10022.6666,10014.3333,9917.8333000000002,9728.3333000000002,9451.8333000000002,9360.8333000000002,9360.8333000000002]
[{"$f":"[1]!wwsHide()","v":{"$error":"#NAME?"}},"BC-PM",12021.5,11905.5,11895.5,11668,11555.5,11550.5,11329.5,11113,11096.3333,10883.8333,10673.3333,10570.3333,10553.6666,10304.6666,10296.3333,10196.8333,10001.8333,9717.8333000000002,9623.8333000000002,9623.8333000000002]
[{"$f":"[1]!wwsHide()","v":{"$error":"#NAME?"}}]
[{"$f":"[1]!wwsHide()","v":{"$error":"#NAME?"}},"CIVIL SERVICE"]
[{"$f":"[1]!wwsHide()","v":{"$error":"#NAME?"}},"PM",7250.5,7178.5,7178.5,7037.5,6968,6968,6899,6763.5,6763.5,6631,6501,6436.5,6436.5,6310.5,6310.5,6248,6125.5,5947,5888,5888]
[{"$f":"[1]!wwsHide()","v":{"$error":"#NAME?"}},"FF",7250.5,7178.5,7178.5,7037.5,6968,6968,6899,6763.5,6763.5,6631,6501,6436.5,6436.5,6310.5,6310.5,6248,6125.5,5947,5888,5888]
[{"$f":"[1]!wwsHide()","v":{"$error":"#NAME?"}},"FF-EMT",7689.5,7613.5,7613.5,7464,7390,7390,7245,7103,7103,6963.5,6825.5,6758,6758,6562.5,6562.5,6497.5,6370,6184.5,6123.5,6123.5]
[{"$f":"[1]!wwsHide()","v":{"$error":"#NAME?"}},"FF-PM",7873,7795,7795,7642,7566.5,7566.5,7418,7272.5,7272.5,7130,6988,6919,6919,6752,6752,6685,6554,6363,6300,6300]
[{"$f":"[1]!wwsHide()","v":{"$error":"#NAME?"}},"PIC",7843.5,7766,7766,7613.5,7538,7538,7463.5,7317,7317,7173.5,7033,6963.5,6963.5,6827,6827,6759.5,6627,6434,6370.5,6370.5]
[{"$f":"[1]!wwsHide()","v":{"$error":"#NAME?"}},"ENG",7843.5,7766,7766,7613.5,7538,7538,7463.5,7317,7317,7173.5,7033,6963.5,6963.5,6827,6827,6759.5,6627,6434,6370.5,6370.5]
[{"$f":"[1]!wwsHide()","v":{"$error":"#NAME?"}},"FF-ARB",7843.5,7766,7766,7613.5,7538,7538,7463.5,7317,7317,7173.5,7033,6963.5,6963.5,6827,6827,6759.5,6627,6434,6370.5,6370.5]
[{"$f":"[1]!wwsHide()","v":{"$error":"#NAME?"}},"ENG-EMT",8320.5,8238,8238,8076.5,7996.5,7996.5,7839.5,7686,7686,7535.5,7386,7313,7313,7101.5,7101.5,7031,6893,6692,6625.5,6625.5]
[{"$f":"[1]!wwsHide()","v":{"$error":"#NAME?"}},"FF-EMT-ARB",8320.5,8238,8238,8076.5,7996.5,7996.5,7839.5,7686,7686,7535.5,7386,7313,7313,7101.5,7101.5,7031,6893,6692,6625.5,6625.5]
[{"$f":"[1]!wwsHide()","v":{"$error":"#NAME?"}},"ENG-PM",8519,8434.5,8434.5,8269,8187,8187,8026.5,7869,7869,7714.5,7561.5,7486.5,7486.5,7305.5,7305.5,7233,7091,6884.5,6816.5,6816.5]
[{"$f":"[1]!wwsHide()","v":{"$error":"#NAME?"}},"FF-PM-ARB",8519,8434.5,8434.5,8269,8187,8187,8026.5,7869,7869,7714.5,7561.5,7486.5,7486.5,7305.5,7305.5,7233,7091,6884.5,6816.5,6816.5]
[{"$f":"[1]!wwsHide()","v":{"$error":"#NAME?"}},"LT",8708.5,8622.5,8622.5,8453.5,8370,8370,8287,8124.5,8124.5,7965,7809,7731.5,7731.5,7580,7580,7505,7358,7143.5,7073,7073]
[{"$f":"[1]!wwsHide()","v":{"$error":"#NAME?"}},"LT-EMT",9237,9145.5,9145.5,8966,8877,8877,8703,8532.5,8532.5,8365,8199.5,8118.5,8118.5,7883.5,7883.5,7805.5,7652.5,7429.5,7356,7356]
[{"$f":"[1]!wwsHide()","v":{"$error":"#NAME?"}},"LT-PM",9457,9363.5,9363.5,9180,9089,9089,8911,8736.5,8736.5,8565,8395,8312,8312,8111,8111,8030.5,7873,7643.5,7568,7568]
[{"$f":"[1]!wwsHide()","v":{"$error":"#NAME?"}},"AC",9818,9721,9721,9530.5,9436,9436,9342.5,9159.5,9159.5,8980,8804,8717,8717,8546,8546,8461.5,8295.5,8054,7974.5,7974.5]
[{"$f":"[1]!wwsHide()","v":{"$error":"#NAME?"}},"CAPT",9818,9721,9721,9530.5,9436,9436,9342.5,9159.5,9159.5,8980,8804,8717,8717,8546,8546,8461.5,8295.5,8054,7974.5,7974.5]
[{"$f":"[1]!wwsHide()","v":{"$error":"#NAME?"}},"CAPT-EMT",10414,10311,10311,10109,10009,10009,9812.5,9620,9620,9431.5,9245,9153.5,9153.5,8888.5,8888.5,8800.5,8628,8376.5,8293.5,8293.5]
[{"$f":"[1]!wwsHide()","v":{"$error":"#NAME?"}},"CAPT-PM",10662,10556.5,10556.5,10349.5,10247,10247,10046,9849,9849,9656,9464.5,9371,9371,9144.5,9144.5,9054,8876.5,8618,8532.5,8532.5]
[{"$f":"[1]!wwsHide()","v":{"$error":"#NAME?"}},"PFC",10794.5,10687.5,10687.5,10478,10374.5,10374.5,10272,10070.5,10070.5,9873,9679.5,9583.5,9583.5,9395.5,9395.5,9302.5,9120,8854.5,8767,8767]
[{"$f":"[1]!wwsHide()","v":{"$error":"#NAME?"}},"BC",10794.5,10687.5,10687.5,10478,10374.5,10374.5,10272,10070.5,10070.5,9873,9679.5,9583.5,9583.5,9395.5,9395.5,9302.5,9120,8854.5,8767,8767]
[{"$f":"[1]!wwsHide()","v":{"$error":"#NAME?"}},"BC-EMT",11448.5,11335,11335,11112.5,11002.5,11002.5,10787,10575.5,10575.5,10368,10163,10062.5,10062.5,9771,9771,9674.5,9485,9208.5,9117.5,9117.5]
[{"$f":"[1]!wwsHide()","v":{"$error":"#NAME?"}},"BC-PM",11721.5,11605.5,11605.5,11378,11265.5,11265.5,11044.5,10828,10828,10615.5,10405,10302,10302,10053,10053,9953.5,9758.5,9474.5,9380.5,9380.5]
[{"$f":"[1]!wwsHide()","v":{"$error":"#NAME?"}}]
[{"$f":"[1]!wwsHide()","v":{"$error":"#NAME?"}},"DAP"]
[{"$f":"[1]!wwsHide()","v":{"$error":"#NAME?"}},"PM",300,300,290,290,290,285,285,285,268.33330000000001,268.33330000000001,268.33330000000001,268.33330000000001,237.66659999999999,237.66659999999999,229.33330000000001,229.33330000000001,229.33330000000001,229.33330000000001,229.33330000000001,116.6666]
[{"$f":"[1]!wwsHide()","v":{"$error":"#NAME?"}},"FF",300,300,290,290,290,285,285,285,268.33330000000001,268.33330000000001,268.33330000000001,268.33330000000001,251.66659999999999,251.66659999999999,243.33330000000001,243.33330000000001,243.33330000000001,243.33330000000001,243.33330000000001,243.33330000000001]
[{"$f":"[1]!wwsHide()","v":{"$error":"#NAME?"}},"FF-EMT",300,300,290,290,290,285,285,285,268.33330000000001,268.33330000000001,268.33330000000001,268.33330000000001,251.66659999999999,251.66659999999999,243.33330000000001,243.33330000000001,243.33330000000001,243.33330000000001,243.33330000000001,243.33330000000001]
[{"$f":"[1]!wwsHide()","v":{"$error":"#NAME?"}},"FF-PM",300,300,290,290,290,285,285,285,268.33330000000001,268.33330000000001,268.33330000000001,268.33330000000001,251.66659999999999,251.66659999999999,243.33330000000001,243.33330000000001,243.33330000000001,243.33330000000001,243.33330000000001,243.33330000000001]
[{"$f":"[1]!wwsHide()","v":{"$error":"#NAME?"}},"PIC",300,300,290,290,290,285,285,285,268.33330000000001,268.33330000000001,268.33330000000001,268.33330000000001,237.66659999999999,237.66659999999999,229.33330000000001,229.33330000000001,229.33330000000001,229.33330000000001,229.33330000000001,116.6666]
[{"$f":"[1]!wwsHide()","v":{"$error":"#NAME?"}},"ENG",300,300,290,290,290,285,285,285,268.33330000000001,268.33330000000001,268.33330000000001,268.33330000000001,251.66659999999999,251.66659999999999,243.33330000000001,243.33330000000001,243.33330000000001,243.33330000000001,243.33330000000001,243.33330000000001]
[{"$f":"[1]!wwsHide()","v":{"$error":"#NAME?"}},"FF-ARB",300,300,290,290,290,285,285,285,268.33330000000001,268.33330000000001,268.33330000000001,268.33330000000001,251.66659999999999,251.66659999999999,243.33330000000001,243.33330000000001,243.33330000000001,243.33330000000001,243.33330000000001,243.33330000000001]
[{"$f":"[1]!wwsHide()","v":{"$error":"#NAME?"}},"ENG-EMT",300,300,290,290,290,285,285,285,268.33330000000001,268.33330000000001,268.33330000000001,268.33330000000001,251.66659999999999,251.66659999999999,243.33330000000001,243.33330000000001,243.33330000000001,243.33330000000001,243.33330000000001,243.33330000000001]
[{"$f":"[1]!wwsHide()","v":{"$error":"#NAME?"}},"FF-EMT-ARB",300,300,290,290,290,285,285,285,268.33330000000001,268.33330000000001,268.33330000000001,268.33330000000001,251.66659999999999,251.66659999999999,243.33330000000001,243.33330000000001,243.33330000000001,243.33330000000001,243.33330000000001,243.33330000000001]
[{"$f":"[1]!wwsHide()","v":{"$error":"#NAME?"}},"ENG-PM",300,300,290,290,290,285,285,285,268.33330000000001,268.33330000000001,268.33330000000001,268.33330000000001,251.66659999999999,251.66659999999999,243.33330000000001,243.33330000000001,243.33330000000001,243.33330000000001,243.33330000000001,243.33330000000001]
[{"$f":"[1]!wwsHide()","v":{"$error":"#NAME?"}},"FF-PM-ARB",300,300,290,290,290,285,285,285,268.33330000000001,268.33330000000001,268.33330000000001,268.33330000000001,251.66659999999999,251.66659999999999,243.33330000000001,243.33330000000001,243.33330000000001,243.33330000000001,243.33330000000001,243.33330000000001]
[{"$f":"[1]!wwsHide()","v":{"$error":"#NAME?"}},"LT",300,300,290,290,290,285,285,285,268.33330000000001,268.33330000000001,268.33330000000001,268.33330000000001,251.66659999999999,251.66659999999999,243.33330000000001,243.33330000000001,243.33330000000001,243.33330000000001,243.33330000000001,243.33330000000001]
[{"$f":"[1]!wwsHide()","v":{"$error":"#NAME?"}},"LT-EMT",300,300,290,290,290,285,285,285,268.33330000000001,268.33330000000001,268.33330000000001,268.33330000000001,251.66659999999999,251.66659999999999,243.33330000000001,243.33330000000001,243.33330000000001,243.33330000000001,243.33330000000001,243.33330000000001]
[{"$f":"[1]!wwsHide()","v":{"$error":"#NAME?"}},"LT-PM",300,300,290,290,290,285,285,285,268.33330000000001,268.33330000000001,268.33330000000001,268.33330000000001,251.66659999999999,251.66659999999999,243.33330000000001,243.33330000000001,243.33330000000001,243.33330000000001,243.33330000000001,243.33330000000001]
[{"$f":"[1]!wwsHide()","v":{"$error":"#NAME?"}},"AC",300,300,290,290,290,285,285,285,268.33330000000001,268.33330000000001,268.33330000000001,268.33330000000001,237.66659999999999,237.66659999999999,229.33330000000001,229.33330000000001,229.33330000000001,229.33330000000001,229.33330000000001,116.6666]
[{"$f":"[1]!wwsHide()","v":{"$error":"#NAME?"}},"CAPT",300,300,290,290,290,285,285,285,268.33330000000001,268.33330000000001,268.33330000000001,268.33330000000001,251.66659999999999,251.66659999999999,243.33330000000001,243.33330000000001,243.33330000000001,243.33330000000001,243.33330000000001,243.33330000000001]
[{"$f":"[1]!wwsHide()","v":{"$error":"#NAME?"}},"CAPT-EMT",300,300,290,290,290,285,285,285,268.33330000000001,268.33330000000001,268.33330000000001,268.33330000000001,251.66659999999999,251.66659999999999,243.33330000000001,243.33330000000001,243.33330000000001,243.33330000000001,243.33330000000001,243.33330000000001]
[{"$f":"[1]!wwsHide()","v":{"$error":"#NAME?"}},"CAPT-PM",300,300,290,290,290,285,285,285,268.33330000000001,268.33330000000001,268.33330000000001,268.33330000000001,251.66659999999999,251.66659999999999,243.33330000000001,243.33330000000001,243.33330000000001,243.33330000000001,243.33330000000001,243.33330000000001]
[{"$f":"[1]!wwsHide()","v":{"$error":"#NAME?"}},"PFC",300,300,290,290,290,285,285,285,268.33330000000001,268.33330000000001,268.33330000000001,268.33330000000001,237.66659999999999,237.66659999999999,229.33330000000001,229.33330000000001,229.33330000000001,229.33330000000001,229.33330000000001,116.6666]
[{"$f":"[1]!wwsHide()","v":{"$error":"#NAME?"}},"BC",300,300,290,290,290,285,285,285,268.33330000000001,268.33330000000001,268.33330000000001,268.33330000000001,251.66659999999999,251.66659999999999,243.33330000000001,243.33330000000001,243.33330000000001,243.33330000000001,243.33330000000001,243.33330000000001]
[{"$f":"[1]!wwsHide()","v":{"$error":"#NAME?"}},"BC-EMT",300,300,290,290,290,285,285,285,268.33330000000001,268.33330000000001,268.33330000000001,268.33330000000001,251.66659999999999,251.66659999999999,243.33330000000001,243.33330000000001,243.33330000000001,243.33330000000001,243.33330000000001,243.33330000000001]
[{"$f":"[1]!wwsHide()","v":{"$error":"#NAME?"}},"BC-PM",300,300,290,290,290,285,285,285,268.33330000000001,268.33330000000001,268.33330000000001,268.33330000000001,251.66659999999999,251.66659999999999,243.33330000000001,243.33330000000001,243.33330000000001,243.33330000000001,243.33330000000001,243.33330000000001]
[null,null,null,null,null,null,null,null,{"$f":"wwsSetup(\"useHTTPS\", TRUE)","v":{"$error":"#NAME?"}},null,null,null,null,null,null,null,null,null,null,null,null,null,null,null,null,null,null,null,null,null,null,null,null,null,"#end"]

{"sheet":"Disclaimer","index":1,"n_rows":28,"n_cols":2,"rows_kept":28,"cut":false,"hidden":false,"merged":[[27,1,27,17]]}
[]
[]
[]
[]
[]
[]
[]
[]
[]
[]
[]
[]
[]
[]
[]
[]
[]
[]
[]
[]
[]
[]
[]
[]
[]
[]
[]
[null,"CLICK THE 'ASSUMPTIONS' TAB TO CONTINUE"]

{"sheet":"Assumptions","index":2,"n_rows":23,"n_cols":8,"rows_kept":23,"cut":false,"hidden":false,"merged":[]}
[null,null,null,null,null,"Today",{"$f":"DATE(YEAR(H1),MONTH(1),DAY(1))","v":"2020-01-01"},{"$f":"TODAY()","v":"2020-04-29"}]
[null,{"$f":"FABF!B201","v":"Paramedic"},null,null,null,"Age 50",{"$f":"DATE(YEAR(FABF!H34)+50,MONTH(FABF!H34),DAY(FABF!H34))","v":{"$error":"#NAME?"}}]
[null,{"$f":"FABF!B202","v":"Firefighter"},null,null,null,"Later of Today or Age 50",{"$f":"MAX(G1,G2)","v":{"$error":"#NAME?"}}]
[null,{"$f":"FABF!B203","v":"Firefighter-EMT"}]
[null,{"$f":"FABF!B204","v":"Firefighter-Paramedic"}]
[null,{"$f":"FABF!B205","v":"Paramedic In Charge"}]
[null,{"$f":"FABF!B206","v":"Engineer"}]
[null,{"$f":"FABF!B207","v":"Firefighter (Per Arbitrators Award)"}]
[null,{"$f":"FABF!B208","v":"Engineer-EMT"}]
[null,{"$f":"FABF!B209","v":"Firefighter-EMT (Per Arbitrators Award)"}]
[null,{"$f":"FABF!B210","v":"Engineer-Paramedic"}]
[null,{"$f":"FABF!B211","v":"Firefighter-Paramedic (Per Arbitrators Award)"}]
[null,{"$f":"FABF!B212","v":"Lieutenant"}]
[null,{"$f":"FABF!B213","v":"Lieutenant-EMT"}]
[null,{"$f":"FABF!B214","v":"Lieutenant-Paramedic"}]
[null,{"$f":"FABF!B215","v":"Ambulance Commander"}]
[null,{"$f":"FABF!B216","v":"Captain"}]
[null,{"$f":"FABF!B217","v":"Captain-EMT"}]
[null,{"$f":"FABF!B218","v":"Captain-Paramedic"}]
[null,{"$f":"FABF!B219","v":"Paramedic Field Chief"}]
[null,{"$f":"FABF!B220","v":"Battalion Chief"}]
[null,{"$f":"FABF!B221","v":"Battalion Chief-EMT"}]
[null,{"$f":"FABF!B222","v":"Battalion Chief-Paramedic"}]

{"sheet":"Calculation","index":3,"n_rows":0,"n_cols":0,"rows_kept":0,"cut":false,"hidden":false,"merged":[]}

{"sheet":"Estimate Program","index":4,"n_rows":0,"n_cols":0,"rows_kept":0,"cut":false,"hidden":false,"merged":[]}

{"sheet":"53-23","index":5,"n_rows":0,"n_cols":0,"rows_kept":0,"cut":false,"hidden":false,"merged":[]}

{"sheet":"Ranks","index":6,"n_rows":0,"n_cols":0,"rows_kept":0,"cut":false,"hidden":false,"merged":[]}

{"sheet":"Step 11 Salaries","index":7,"n_rows":0,"n_cols":0,"rows_kept":0,"cut":false,"hidden":false,"merged":[]}

{"sheet":"Step 10 Salaries","index":8,"n_rows":0,"n_cols":0,"rows_kept":0,"cut":false,"hidden":false,"merged":[]}

{"sheet":"Step 9 Salaries","index":9,"n_rows":0,"n_cols":0,"rows_kept":0,"cut":false,"hidden":false,"merged":[]}

{"sheet":"Step 8 Salaries","index":10,"n_rows":0,"n_cols":0,"rows_kept":0,"cut":false,"hidden":false,"merged":[]}

{"sheet":"Step 7 Salaries","index":11,"n_rows":0,"n_cols":0,"rows_kept":0,"cut":false,"hidden":false,"merged":[]}